Workbook
Name OLE_LINK1: 'RPNs, PENs, MHOs'!#REF!
Name OLE_LINK1: 'Wages - Commuted'!#REF!
Name OLE_LINK2: 'RPNs, PENs, MHOs'!#REF!
Name OLE_LINK2: 'Wages - Commuted'!#REF!

Sheet Cover
A7: Number: | C7: 880
A8: Addressee: | C8: Public Sector Members
A9: Date: | C9: 46301
A10: Agreement | C10: Victorian Public Mental Health Services Enterprise Agreement 2024-2028
A12: Sheet 1A | C12: Wages
A14: Sheet 1A | C14: Wages - with Commuted Allowance
A16: Sheet 2 | C16: Allowances
A18: Sheet 3 | C18: Other Payments
A20: Timeline of Events
C21: 2 March 2026 | D21: Operative Date of Agreement
C22: 30 December 2028 | D22: Nominal Expiry Date
A27: This Salary Circular must be read in conjunction with Bulletin 3355

Sheet RPNs, PENs, MHOs
A1: Classification | B1: Paycode | C1: FFPPOA 1 July 2026 (Aged Care Employee only) | D1: FFPPOA 20 May 2025 | E1: FFPPOA 1 July 2025 | F1: FFPPOA 5 January 2026 | G1: FFPPOA 15 June 2026 | H1: FFPPOA 20 May 2026 | I1: FFPPOA 4 January 2027 | J1: FFPPOA 7 June 2027 | K1: FFPPOA 20 May 2027 | L1: FFPPOA 10 January 2028 | M1: FFPPOA 20 May 2028 | N1: Award Classification | O1: Award Rate - non aged care Employees (1/7/26) | P1: Rate Above Award | Q1: % Above Award | R1: Award Classification Aged Care Employee (RPN/PEN only) | S1: Award Rate - aged care employees (RPN/PEN only) (1/7/26) | T1: Rate Above Award | U1: % Above Award
A2: RUSON
A3: RUSON, Year 1 | B3: MP20 | D3: 1281 | F3: 1281 | G3: 1319.5 | I3: 1319.5 | J3: 1359.1 | L3: 1359.1
A4: Indigenous Health Cadet
A5: Nursing Indigenous Health Cadet Year 1 | B5: MP23 | D5: 1053.896 | F5: 1066.5 | G5: 1098.5 | I5: 1110.6 | J5: 1143.9 | L5: 1251.4
A6: Nursing Indigenous Health Cadet Year 2 | B6: MP24 | D6: 1124.7 | F6: 1138.1964 | G6: 1172.3 | I6: 1185.2 | J6: 1220.8 | L6: 1335.6
A7: Nursing Indigenous Health Cadet Year 3 | B7: MP25 | D7: 1193.9 | F7: 1208.2 | G7: 1244.5 | I7: 1258.2 | J7: 1296 | L7: 1417.8
A8: Registered Psychiatric Nurse
A9: RPN Grade 2 Year 1 | B9: NP11 | D9: 1571.8 | F9: 1571.8 | G9: 1619 | I9: 1619 | J9: 1667.6 | L9: 1667.6 | N9: ='Award Table'!A64 -> Registered Nurse - other than aged care - Level 1 - Masters degree | O9: ='Award Table'!B64 -> 1272.7 | P9: =G9-O9 -> 346.3 | Q9: =(G9-O9)/G9 -> 0.21389747 | R9: RN Level 1, First Year of Employment at level | S9: ='Award Table'!E59 -> 1515.2 | T9: =G9-S9 -> 103.8 | U9: =(G9-S9)/G9 -> 0.06411365
A10: RPN Grade 2 Year 1 (4 year degree entry) | B10: NP11 | N10: RN Level 1, Excess 1 year, less than 4 years at level (4 year entry) | O10: ='Award Table'!B62 -> 1230.4 | P10: =D10-O10 -> -1230.4 | Q10: =(#REF!-O10)/#REF! -> #REF! | R10: RN Level 1, Excess 1 year, less than 4 years at level (4 year entry) | S10: ='Award Table'!E60 -> 1592.1 | T10: =G10-S10 -> -1592.1 | U10: =(G10-S10)/G10 -> #DIV/0!
A11: RPN Grade 2 Year 1 (Masters degree entry) | B11: NP11 | N11: RN Level 1, Excess 1 year, less than 4 years at level (Master entry) | O11: ='Award Table'!B64 -> 1272.7 | P11: =D11-O11 -> -1272.7 | Q11: =(#REF!-O11)/#REF! -> #REF! | R11: RN Level 1, Excess 1 year, less than 4 years at level (Master entry) | S11: ='Award Table'!E60 -> 1592.1 | T11: =G11-S11 -> -1592.1 | U11: =(G11-S11)/G11 -> #DIV/0!
A12: RPN Grade 2 Year 2 | B12: NP21 | D12: 1611.6 | F12: 1616.5 | G12: 1665 | I12: 1669.6 | J12: 1719.7 | L12: 1761.4 | N12: ='Award Table'!A65 -> Registered Nurse - other than aged care - Level 1 - PP5 | O12: ='Award Table'!B65 -> 1349.2 | P12: =G12-O12 -> 315.8 | Q12: =(G12-O12)/G12 -> 0.18966967 | R12: RN Level 1, Excess 1 year, less than 4 years at level | S12: ='Award Table'!E60 -> 1592.1 | T12: =G12-S12 -> 72.9 | U12: =(G12-S12)/G12 -> 0.043783784
A13: RPN Grade 2 Year 3 | B13: NP22 | D13: 1657.9 | F13: 1667 | G13: 1717 | I13: 1725.4 | J13: 1777.2 | L13: 1855.3 | N13: ='Award Table'!A66 -> Registered Nurse - other than aged care - Level 1 - PP6 | O13: ='Award Table'!B66 -> 1388.1 | P13: =G13-O13 -> 328.9 | Q13: =(G13-O13)/G13 -> 0.19155504 | R13: RN Level 1, Excess 1 year, less than 4 years at level | S13: ='Award Table'!E60 -> 1592.1 | T13: =G13-S13 -> 124.9 | U13: =(G13-S13)/G13 -> 0.072743157
A14: RPN Grade 2 Year 4 | B14: NP23 | D14: 1708.7 | F14: 1722.2 | G14: 1773.9 | I14: 1786.3 | J14: 1839.9 | L14: 1956 | N14: ='Award Table'!A67 -> Registered Nurse - other than aged care - Level 1 - PP7 | O14: ='Award Table'!B67 -> 1428.3 | P14: =G14-O14 -> 345.6 | Q14: =(G14-O14)/G14 -> 0.19482496 | R14: RN Level 1, Excess 4 years at level | S14: ='Award Table'!E61 -> 1740.3 | T14: =G14-S14 -> 33.6 | U14: =(G14-S14)/G14 -> 0.018941316
A15: RPN Grade 2 Year 5 | B15: NP24 | D15: 1766.2 | F15: 1783.4 | G15: 1836.9 | I15: 1852.9 | J15: 1908.5 | L15: 2056 | N15: ='Award Table'!A68 -> Registered Nurse - other than aged care - Level 1 - PP8+ | O15: ='Award Table'!B68 -> 1465.5 | P15: =G15-O15 -> 371.4 | Q15: =(G15-O15)/G15 -> 0.20218847 | R15: RN Level 1, Excess 4 years at level | S15: ='Award Table'!E61 -> 1740.3 | T15: =G15-S15 -> 96.6 | U15: =(G15-S15)/G15 -> 0.0525886
A16: RPN Grade 2 Year 6 | B16: NP25 | D16: 1824.1 | F16: 1844.9 | G16: 1900 | I16: 1919.1 | J16: 1976.7 | L16: 2153.3 | N16: ='Award Table'!A68 -> Registered Nurse - other than aged care - Level 1 - PP8+ | O16: ='Award Table'!B68 -> 1465.5 | P16: =G16-O16 -> 434.5 | Q16: =(G16-O16)/G16 -> 0.22868421 | R16: RN Level 1, Excess 4 years at level | S16: ='Award Table'!E61 -> 1740.3 | T16: =G16-S16 -> 159.7 | U16: =(G16-S16)/G16 -> 0.084052632
A17: RPN Grade 2 Year 7 | B17: NP26 | D17: 1906.3 | F17: 1929.2 | G17: 1987.1 | I17: 2009 | J17: 2069.3 | L17: 2263.8 | N17: ='Award Table'!A68 -> Registered Nurse - other than aged care - Level 1 - PP8+ | O17: ='Award Table'!B68 -> 1465.5 | P17: =G17-O17 -> 521.6 | Q17: =(G17-O17)/G17 -> 0.26249308 | R17: RN Level 1, Excess 4 years at level | S17: ='Award Table'!E61 -> 1740.3 | T17: =G17-S17 -> 246.8 | U17: =(G17-S17)/G17 -> 0.1242011
A18: RPN Grade 2 Year 8 | B18: NP70 | D18: 1983.7 | F18: 2007.5044 | G18: 2067.7 | I18: 2090.4 | J18: 2153.1 | L18: 2355.5 | N18: ='Award Table'!A68 -> Registered Nurse - other than aged care - Level 1 - PP8+ | O18: ='Award Table'!B68 -> 1465.5 | P18: =G18-O18 -> 602.2 | Q18: =(G18-O18)/G18 -> 0.29124148 | R18: RN Level 1, Excess 4 years at level | S18: ='Award Table'!E61 -> 1740.3 | T18: =G18-S18 -> 327.4 | U18: =(G18-S18)/G18 -> 0.15834018
A19: RPN Grade 2, Advanced | B19: PC11 | D19: 2064.2 | F19: 2089 | G19: 2151.7 | I19: 2175.4 | J19: 2240.7 | L19: 2451.3 | N19: ='Award Table'!A68 -> Registered Nurse - other than aged care - Level 1 - PP8+ | O19: ='Award Table'!B68 -> 1465.5 | P19: =G19-O19 -> 686.2 | Q19: =(G19-O19)/G19 -> 0.31891063 | R19: RN Level 1, Excess 4 years at level | S19: ='Award Table'!E61 -> 1740.3 | T19: =G19-S19 -> 411.4 | U19: =(G19-S19)/G19 -> 0.19119766
A20: RPN Grade 2 Year 1 (3 year degree entry) (Aged Care Employees only) | B20: NP80 | P20: =G20-O20 -> 0 | Q20: =(G20-O20)/G20 -> #DIV/0! | T20: =G20-S20 -> 0 | U20: =(G20-S20)/G20 -> #DIV/0!
A21: RPN Grade 2 Year 1 (4 year degree entry) (Aged Care Employees only) | B21: NP97 | P21: =G21-O21 -> 0 | Q21: =(G21-O21)/G21 -> #DIV/0! | T21: =G21-S21 -> 0 | U21: =(G21-S21)/G21 -> #DIV/0!
A22: RPN Grade 2 Year 1 (Masters degree entry) (Aged Care Employees only) | B22: NP98 | P22: =G22-O22 -> 0 | Q22: =(G22-O22)/G22 -> #DIV/0! | T22: =G22-S22 -> 0 | U22: =(G22-S22)/G22 -> #DIV/0!
A23: RPN Grade 2 Year 2 (Aged Care Employees only) | B23: NP99 | P23: =G23-O23 -> 0 | Q23: =(G23-O23)/G23 -> #DIV/0! | T23: =G23-S23 -> 0 | U23: =(G23-S23)/G23 -> #DIV/0!
A24: RPN Grade 2 Year 4 (Aged Care Employees only) | B24: NP84 | P24: =G24-O24 -> 0 | Q24: =(G24-O24)/G24 -> #DIV/0! | T24: =G24-S24 -> 0 | U24: =(G24-S24)/G24 -> #DIV/0!
A25: Psych Clinical Nurse Specialist | B25: NP29 | D25: 2064.2 | F25: 2089 | G25: 2151.7 | I25: 2175.4 | J25: 2240.7 | L25: 2451.3 | N25: ='Award Table'!A68 -> Registered Nurse - other than aged care - Level 1 - PP8+ | O25: ='Award Table'!B68 -> 1465.5 | P25: =G25-O25 -> 686.2 | Q25: =(G25-O25)/G25 -> 0.31891063 | R25: RN Level 1, Excess 4 years at level | S25: ='Award Table'!E61 -> 1740.3 | T25: =G25-S25 -> 411.4 | U25: =(G25-S25)/G25 -> 0.19119766
A26: RPN Grade 3, Year 1 | B26: NP81 | D26: 2068.2 | F26: 2093 | G26: 2155.8 | I26: 2179.5 | J26: 2244.9 | L26: 2455.9 | N26: ='Award Table'!A70 -> Registered Nurse - other than aged care - Level 2 - PP1 | O26: ='Award Table'!B70 -> 1504.4 | P26: =G26-O26 -> 651.4 | Q26: =(G26-O26)/G26 -> 0.30216161 | R26: RN Level 2, First 3 years of employment at level | S26: ='Award Table'!E70 -> 1884.6 | T26: =G26-S26 -> 271.2 | U26: =(G26-S26)/G26 -> 0.12580017
A27: RPN Grade 3, Year 2 | B27: NP82 | D27: 2127.3 | F27: 2152.8 | G27: 2217.4 | I27: 2241.8 | J27: 2309.1 | L27: 2526.2 | N27: ='Award Table'!A71 -> Registered Nurse - other than aged care - Level 2 - PP2 | O27: ='Award Table'!B71 -> 1528.3 | P27: =G27-O27 -> 689.1 | Q27: =(G27-O27)/G27 -> 0.31076937 | R27: RN Level 2, First 3 years of employment at level | S27: ='Award Table'!E70 -> 1884.6 | T27: =G27-S27 -> 332.8 | U27: =(G27-S27)/G27 -> 0.15008569
A28: RPN Grade 3, Year 3 / ANUM Year 1 | B28: NP83 | D28: 2222 | F28: 2248.7 | G28: 2316.2 | I28: 2341.7 | J28: 2412 | L28: 2638.7 | N28: ='Award Table'!A72 -> Registered Nurse - other than aged care - Level 2 - PP3 | O28: ='Award Table'!B72 -> 1554.8 | P28: =G28-O28 -> 761.4 | Q28: =(G28-O28)/G28 -> 0.32872809 | R28: RN Level 2, First 3 years of employment at level | S28: ='Award Table'!E70 -> 1884.6 | T28: =G28-S28 -> 431.6 | U28: =(G28-S28)/G28 -> 0.18633969
A29: RPN Grade 3, Year 4 / ANUM Year 2 | B29: NP74 | D29: 2296.9 | F29: 2324.5 | G29: 2394.2 | I29: 2420.5 | J29: 2493.1 | L29: 2727.5 | N29: ='Award Table'!A73 -> Registered Nurse - other than aged care - Level 2 - PP4+ | O29: ='Award Table'!B73 -> 1580.3 | P29: =G29-O29 -> 813.9 | Q29: =(G29-O29)/G29 -> 0.33994654 | R29: RN Level 2, Excess 3 years at level | S29: ='Award Table'!E71 -> 1969.7 | T29: =G29-S29 -> 424.5 | U29: =(G29-S29)/G29 -> 0.17730348
A30: RPN Grade 4, Year 1 | B30: NP75 | D30: 2304.5 | F30: 2332.2 | G30: 2402.2 | I30: 2428.6 | J30: 2501.5 | L30: 2736.6 | N30: ='Award Table'!A75 -> Registered Nurse - other than aged care - Level 3 - PP1 | O30: ='Award Table'!B75 -> 1631.2 | P30: =G30-O30 -> 771 | Q30: =(G30-O30)/G30 -> 0.32095579 | R30: ='Award Table'!D75 -> Registered Nurse - aged care - Level 3 | S30: ='Award Table'!E75 -> 2038.4 | T30: =G30-S30 -> 363.8 | U30: =(G30-S30)/G30 -> 0.15144451
A31: RPN Grade 4, Year 2 | B31: NP76 | D31: 2363.6 | F31: 2392 | G31: 2463.8 | I31: 2490.9 | J31: 2565.6 | L31: 2806.8 | N31: ='Award Table'!A76 -> Registered Nurse - other than aged care - Level 3 - PP2 | O31: ='Award Table'!B76 -> 1661.1 | P31: =G31-O31 -> 802.7 | Q31: =(G31-O31)/G31 -> 0.32579755 | R31: ='Award Table'!D75 -> Registered Nurse - aged care - Level 3 | S31: ='Award Table'!E75 -> 2038.4 | T31: =G31-S31 -> 425.4 | U31: =(G31-S31)/G31 -> 0.17266012
A32: RPN Grade 4, Year 3 | B32: NP77 | D32: 2481.8 | F32: 2511.6 | G32: 2587 | I32: 2615.5 | J32: 2694 | L32: 2947.2 | N32: ='Award Table'!A77 -> Registered Nurse - other than aged care - Level 3 - PP3 | O32: ='Award Table'!B77 -> 1689.8 | P32: =G32-O32 -> 897.2 | Q32: =(G32-O32)/G32 -> 0.34681098 | R32: ='Award Table'!D75 -> Registered Nurse - aged care - Level 3 | S32: ='Award Table'!E75 -> 2038.4 | T32: =G32-S32 -> 548.6 | U32: =(G32-S32)/G32 -> 0.2120603
A33: RPN Grade 4, Year 1 (Aged Care Employees only) | B33: NP85 | P33: =G33-O33 -> 0 | Q33: =(G33-O33)/G33 -> #DIV/0! | T33: =G33-S33 -> 0 | U33: =(G33-S33)/G33 -> #DIV/0!
A34: RPN Grade 5, NUM Level 1 | B34: AG10 | D34: 2605.7 | F34: 2637 | G34: 2716.1 | I34: 2746 | J34: 2828.4 | L34: 3094.3 | N34: ='Award Table'!A80 -> Registered Nurse - other than aged care - Level 4 - G1 | O34: ='Award Table'!B80 -> 1861.7 | P34: =G34-O34 -> 854.4 | Q34: =(G34-O34)/G34 -> 0.31456868 | R34: ='Award Table'!D80 -> Registered Nurse - aged care - Level 4 | S34: ='Award Table'!E80 -> 2356.2 | T34: =G34-S34 -> 359.9 | U34: =(G34-S34)/G34 -> 0.13250617
A35: RPN Grade 5, NUM Level 2 | B35: AG11 | D35: 2700.7 | F35: 2733.1 | G35: 2815.1 | I35: 2846.1 | J35: 2931.5 | L35: 3207.1 | N35: ='Award Table'!A81 -> Registered Nurse - other than aged care - Level 4 - G2 | O35: ='Award Table'!B81 -> 1995.1 | P35: =G35-O35 -> 820 | Q35: =(G35-O35)/G35 -> 0.29128628 | R35: ='Award Table'!D80 -> Registered Nurse - aged care - Level 4 | S35: ='Award Table'!E80 -> 2356.2 | T35: =G35-S35 -> 458.9 | U35: =(G35-S35)/G35 -> 0.16301375
A36: RPN Grade 5, NUM Level 3 | B36: AG12 | D36: 2795.8 | F36: 2829.3 | G36: 2914.2 | I36: 2946.3 | J36: 3034.7 | L36: 3320 | N36: ='Award Table'!A82 -> Registered Nurse - other than aged care - Level 4 - G3 | O36: ='Award Table'!B82 -> 2111.6 | P36: =G36-O36 -> 802.6 | Q36: =(G36-O36)/G36 -> 0.27541006 | R36: ='Award Table'!D80 -> Registered Nurse - aged care - Level 4 | S36: ='Award Table'!E80 -> 2356.2 | T36: =G36-S36 -> 558 | U36: =(G36-S36)/G36 -> 0.19147622
A37: RPN Grade 5 | B37: NP51 | D37: 2600 | F37: 2631.2 | G37: 2710.1 | I37: 2739.9 | J37: 2822.1 | L37: 3087.4 | N37: ='Award Table'!A82 -> Registered Nurse - other than aged care - Level 4 - G3 | O37: ='Award Table'!B82 -> 2111.6 | P37: =G37-O37 -> 598.5 | Q37: =(G37-O37)/G37 -> 0.22084056 | R37: ='Award Table'!D84 -> Registered Nurse - aged care - Level 5 | S37: ='Award Table'!E84 -> 2663.2 | T37: =G37-S37 -> 46.9 | U37: =(G37-S37)/G37 -> 0.017305634
A38: RPN Grade 5 (Aged Care Employees only) | B38: NP86 | P38: =G38-O38 -> 0 | Q38: =(G38-O38)/G38 -> #DIV/0! | T38: =G38-S38 -> 0 | U38: =(G38-S38)/G38 -> #DIV/0!
A39: RPN Grade 6 | B39: NP61 | D39: 2954.7 | F39: 2990.2 | G39: 3079.9 | I39: 3113.8 | J39: 3207.2 | L39: 3508.7 | N39: ='Award Table'!A89 -> Registered Nurse - other than aged care - Level 5 - G6 | O39: ='Award Table'!B89 -> 2706.9 | P39: =G39-O39 -> 373 | Q39: =(G39-O39)/G39 -> 0.12110783 | R39: ='Award Table'!D84 -> Registered Nurse - aged care - Level 5 | S39: ='Award Table'!E84 -> 2663.2 | T39: =G39-S39 -> 416.7 | U39: =(G39-S39)/G39 -> 0.1352966
A40: RPN Nurse Practitioner | B40: AG13 | D40: 2954.7 | F40: 2990.2 | G40: 3079.9 | I40: 3113.8 | J40: 3207.2 | L40: 3508.7 | N40: ='Award Table'!A89 -> Registered Nurse - other than aged care - Level 5 - G6 | O40: ='Award Table'!B89 -> 2706.9 | P40: =G40-O40 -> 373 | Q40: =(G40-O40)/G40 -> 0.12110783 | R40: ='Award Table'!D84 -> Registered Nurse - aged care - Level 5 | S40: ='Award Table'!E84 -> 2663.2 | T40: =G40-S40 -> 416.7 | U40: =(G40-S40)/G40 -> 0.1352966
A41: RPN Nurse Practitioner Year 2 | B41: AG14 | E41: 3010.8 | F41: 3046.9 | G41: 3138.3 | I41: 3172.8 | J41: 3268 | L41: 3575.2 | N41: ='Award Table'!A89 -> Registered Nurse - other than aged care - Level 5 - G6 | O41: ='Award Table'!B89 -> 2706.9 | P41: =G41-O41 -> 431.4 | Q41: =(G41-O41)/G41 -> 0.13746296 | R41: ='Award Table'!D84 -> Registered Nurse - aged care - Level 5 | S41: ='Award Table'!E84 -> 2663.2 | T41: =G41-S41 -> 475.1 | U41: =(G41-S41)/G41 -> 0.15138769
A42: RPN Grade 7 | B42: AI55 | D42: 3712.2 | F42: 3756.8 | G42: 3869.5 | I42: 3912.1 | J42: 4029.5 | L42: 4408.3 | N42: ='Award Table'!A89 -> Registered Nurse - other than aged care - Level 5 - G6 | O42: ='Award Table'!B89 -> 2706.9 | P42: =G42-O42 -> 1162.6 | Q42: =(G42-O42)/G42 -> 0.30045225 | R42: Registered Nurse - aged care - Level 5 | S42: ='Award Table'!E84 -> 2663.2 | T42: =G42-S42 -> 1206.3 | U42: =(G42-S42)/G42 -> 0.3117457
A43: Psychiatric Enrolled Nurse
A44: Pre-Qual PSEN | B44: MP26 | D44: 1281 | F44: 1281 | G44: 1319.5 | I44: 1319.5 | J44: 1359.1 | L44: 1359.1 | N44: ='Award Table'!A46 -> Student Enrolled Nurse - other than aged care - 21 years and over | O44: ='Award Table'!B46 -> 1024.7 | P44: =G44-O44 -> 294.8 | Q44: =(G44-O44)/G44 -> 0.22341796 | R44: ='Award Table'!A49 -> Student Enrolled Nurse - aged care - 21 years and over | S44: ='Award Table'!B49 -> 1178.3 | T44: =G44-S44 -> 141.2 | U44: =(G44-S44)/G44 -> 0.10701023
A45: PSEN Level 1, Year 1 | B45: PE11 | D45: 1239.8 | F45: 1254.7 | G45: 1292.3 | I45: 1306.5 | J45: 1345.7 | L45: 1472.1958 | N45: ='Award Table'!A51 -> Enrolled Nurse - other than aged care - PP1 | O45: ='Award Table'!B51 -> 1139.9 | P45: =G45-O45 -> 152.4 | Q45: =(G45-O45)/G45 -> 0.11792927 | R45: ='Award Table'!A57 -> Enrolled Nurse - aged care - supervising other Direct Care employees | S45: ='Award Table'!B57 -> 1476.6 | T45: =G45-S45 -> -184.3 | U45: =(G45-S45)/G45 -> -0.14261394
A46: PSEN Level 1, Year 2 | B46: PE12 | D46: 1264.7 | F46: 1279.9 | G46: 1318.3 | I46: 1332.8013 | J46: 1372.8 | L46: 1501.8 | N46: ='Award Table'!A52 -> Enrolled Nurse - other than aged care - PP2 | O46: ='Award Table'!B52 -> 1155 | P46: =G46-O46 -> 163.3 | Q46: =(G46-O46)/G46 -> 0.12387165 | R46: ='Award Table'!A57 -> Enrolled Nurse - aged care - supervising other Direct Care employees | S46: ='Award Table'!B57 -> 1476.6 | T46: =G46-S46 -> -158.3 | U46: =(G46-S46)/G46 -> -0.12007889
A47: PSEN Level 1, Year 3 | B47: PE13 | D47: 1289.8 | F47: 1305.3 | G47: 1344.5 | I47: 1359.3 | J47: 1400.1 | L47: 1531.7 | N47: ='Award Table'!A53 -> Enrolled Nurse - other than aged care - PP3 | O47: ='Award Table'!B53 -> 1170.4 | P47: =G47-O47 -> 174.1 | Q47: =(G47-O47)/G47 -> 0.12949052 | R47: ='Award Table'!A57 -> Enrolled Nurse - aged care - supervising other Direct Care employees | S47: ='Award Table'!B57 -> 1476.6 | T47: =G47-S47 -> -132.1 | U47: =(G47-S47)/G47 -> -0.098252138
A48: PSEN Level 1, Year 4 | B48: PE14 | D48: 1315.3 | F48: 1331.1 | G48: 1371 | I48: 1386.1 | J48: 1427.7 | L48: 1561.9038 | N48: ='Award Table'!A54 -> Enrolled Nurse - other than aged care - PP4 | O48: ='Award Table'!B54 -> 1187.2 | P48: =G48-O48 -> 183.8 | Q48: =(G48-O48)/G48 -> 0.13406273 | R48: ='Award Table'!A57 -> Enrolled Nurse - aged care - supervising other Direct Care employees | S48: ='Award Table'!B57 -> 1476.6 | T48: =G48-S48 -> -105.6 | U48: =(G48-S48)/G48 -> -0.07702407
A49: PSEN Level 1, Year 5 | B49: PE15 | D49: 1331 | F49: 1347 | G49: 1387.4 | I49: 1402.7 | J49: 1444.8 | L49: 1580.6 | N49: ='Award Table'!A55 -> Enrolled Nurse - other than aged care - PP5 | O49: ='Award Table'!B55 -> 1199.2 | P49: =G49-O49 -> 188.2 | Q49: =(G49-O49)/G49 -> 0.13564942 | R49: ='Award Table'!A57 -> Enrolled Nurse - aged care - supervising other Direct Care employees | S49: ='Award Table'!B57 -> 1476.6 | T49: =G49-S49 -> -89.2 | U49: =(G49-S49)/G49 -> -0.064292922
A50: PSEN Level 1, Year 6 | B50: PE16 | D50: 1365.7 | F50: 1382.1 | G50: 1423.6 | I50: 1439.3 | J50: 1482.5 | L50: 1621.9 | N50: ='Award Table'!A55 -> Enrolled Nurse - other than aged care - PP5 | O50: ='Award Table'!B55 -> 1199.2 | P50: =G50-O50 -> 224.4 | Q50: =(G50-O50)/G50 -> 0.15762855 | R50: ='Award Table'!A57 -> Enrolled Nurse - aged care - supervising other Direct Care employees | S50: ='Award Table'!B57 -> 1476.6 | T50: =G50-S50 -> -53 | U50: =(G50-S50)/G50 -> -0.037229559
A51: PSEN Level 1, Year 7 | B51: PE17 | D51: 1390.5 | F51: 1407.2 | G51: 1449.4 | I51: 1465.3 | J51: 1509.3 | L51: 1651.2 | N51: ='Award Table'!A55 -> Enrolled Nurse - other than aged care - PP5 | O51: ='Award Table'!B55 -> 1199.2 | P51: =G51-O51 -> 250.2 | Q51: =(G51-O51)/G51 -> 0.17262315 | R51: ='Award Table'!A57 -> Enrolled Nurse - aged care - supervising other Direct Care employees | S51: ='Award Table'!B57 -> 1476.6 | T51: =G51-S51 -> -27.2 | U51: =(G51-S51)/G51 -> -0.018766386
A52: PSEN Level 1, Year 8 | B52: PE18 | D52: 1420.2 | F52: 1437.2 | G52: 1480.3 | I52: 1496.6 | J52: 1541.5 | L52: 1686.401 | N52: ='Award Table'!A55 -> Enrolled Nurse - other than aged care - PP5 | O52: ='Award Table'!B55 -> 1199.2 | P52: =G52-O52 -> 281.1 | Q52: =(G52-O52)/G52 -> 0.18989394 | R52: ='Award Table'!A57 -> Enrolled Nurse - aged care - supervising other Direct Care employees | S52: ='Award Table'!B57 -> 1476.6 | T52: =G52-S52 -> 3.7 | U52: =(G52-S52)/G52 -> 0.0024994933
A53: Pre-Qual PSEN (Aged Care Employees only) | B53: NP87 | G53: Move to MP26
A54: PSEN Level 1, Year 1 (Aged Care Employees only) | B54: NP88 | C54: =S45 -> 1476.6
A55: PSEN Level 1, Year 2 (Aged Care Employees only) | B55: NP89 | C55: =S45 -> 1476.6
A56: PSEN Level 1, Year 3 (Aged Care Employees only) | B56: NP90 | C56: =S45 -> 1476.6
A57: PSEN Level 1, Year 4 (Aged Care Employees only) | B57: NP91 | C57: =S45 -> 1476.6
A58: PSEN Level 1, Year 5 (Aged Care Employees only) | B58: NP92
A59: PSEN Level 1, Year 6 (Aged Care Employees only) | B59: NP93
A60: PSEN Level 1, Year 7 (Aged Care Employees only) | B60: NP94
A61: PSEN Level 1, Year 8 (Aged Care Employees only) | B61: NP95
A62: PSEN Level 1, Year 5 (Aged Care Employees only) | B62: AA60 | C62: =S50 -> 1476.6
A63: PSEN Level 1, Year 6 (Aged Care Employees only) | B63: AA61 | C63: =S51 -> 1476.6
A64: PSEN Level 1, Year 7 (Aged Care Employees only) | B64: AA62 | C64: =S52 -> 1476.6
A65: PSEN Level 2, Year 1 | B65: PE21 | D65: 1449.7 | F65: 1467.0964 | G65: 1511.1 | I65: 1527.7 | J65: 1573.5 | L65: 1721.4 | N65: ='Award Table'!A51 -> Enrolled Nurse - other than aged care - PP1 | O65: ='Award Table'!B51 -> 1139.9 | P65: =G65-O65 -> 371.2 | Q65: =(G65-O65)/G65 -> 0.24564887 | R65: Enrolled nurse supervising other direct care employees | S65: ='Award Table'!B57 -> 1476.6 | T65: =G65-S65 -> 34.5 | U65: =(G65-S65)/G65 -> 0.02283105
A66: PSEN Level 2, Year 2 | B66: PE22 | D66: 1464.9 | F66: 1482.5 | G66: 1527 | I66: 1543.8 | J66: 1590.1 | L66: 1739.6 | N66: ='Award Table'!A52 -> Enrolled Nurse - other than aged care - PP2 | O66: ='Award Table'!B52 -> 1155 | P66: =G66-O66 -> 372 | Q66: =(G66-O66)/G66 -> 0.24361493 | R66: Enrolled nurse supervising other direct care employees | S66: ='Award Table'!B57 -> 1476.6 | T66: =G66-S66 -> 50.4 | U66: =(G66-S66)/G66 -> 0.033005894
A67: PSEN Level 2, Year 3 | B67: PE23 | D67: 1479.595 | F67: 1497.4 | G67: 1542.3 | I67: 1559.3 | J67: 1606.1 | L67: 1757.1 | N67: ='Award Table'!A53 -> Enrolled Nurse - other than aged care - PP3 | O67: ='Award Table'!B53 -> 1170.4 | P67: =G67-O67 -> 371.9 | Q67: =(G67-O67)/G67 -> 0.24113337 | R67: Enrolled nurse supervising other direct care employees | S67: ='Award Table'!B57 -> 1476.6 | T67: =G67-S67 -> 65.7 | U67: =(G67-S67)/G67 -> 0.042598716
A68: PSEN Level 2, Year 4 | B68: YD22 | D68: 1514.203 | F68: 1532.4 | G68: 1578.4 | I68: 1595.8 | J68: 1643.7 | L68: 1798.2 | N68: ='Award Table'!A54 -> Enrolled Nurse - other than aged care - PP4 | O68: ='Award Table'!B54 -> 1187.2 | P68: =G68-O68 -> 391.2 | Q68: =(G68-O68)/G68 -> 0.24784592 | R68: Enrolled nurse supervising other direct care employees | S68: ='Award Table'!B57 -> 1476.6 | T68: =G68-S68 -> 101.8 | U68: =(G68-S68)/G68 -> 0.064495692
A69: PSEN Level 3, Year 1 | B69: PE50 | D69: 1553.8 | F69: 1572.5 | G69: 1619.7 | I69: 1637.5 | J69: 1686.6 | L69: 1845.1 | N69: ='Award Table'!A55 -> Enrolled Nurse - other than aged care - PP5 | O69: ='Award Table'!B55 -> 1199.2 | P69: =G69-O69 -> 420.5 | Q69: =(G69-O69)/G69 -> 0.25961598 | R69: Enrolled nurse supervising other direct care employees | S69: ='Award Table'!B57 -> 1476.6 | T69: =G69-S69 -> 143.1 | U69: =(G69-S69)/G69 -> 0.088349694
A70: PSEN Level 3, Year 2 | B70: PE51 | D70: 1609.4 | F70: 1628.7 | G70: 1677.6 | I70: 1696.1 | J70: 1747 | L70: 1911.2 | N70: ='Award Table'!A55 -> Enrolled Nurse - other than aged care - PP5 | O70: ='Award Table'!B55 -> 1199.2 | P70: =G70-O70 -> 478.4 | Q70: =(G70-O70)/G70 -> 0.28516929 | R70: Enrolled nurse supervising other direct care employees | S70: ='Award Table'!B57 -> 1476.6 | T70: =G70-S70 -> 201 | U70: =(G70-S70)/G70 -> 0.11981402
A71: PSEN Level 3, Year 3 | B71: PE52 | D71: 1635.5 | F71: 1655.1 | G71: 1704.8 | I71: 1723.6 | J71: 1775.3 | L71: 1942.2 | N71: ='Award Table'!A55 -> Enrolled Nurse - other than aged care - PP5 | O71: ='Award Table'!B55 -> 1199.2 | P71: =G71-O71 -> 505.6 | Q71: =(G71-O71)/G71 -> 0.29657438 | R71: Enrolled nurse supervising other direct care employees | S71: ='Award Table'!B57 -> 1476.6 | T71: =G71-S71 -> 228.2 | U71: =(G71-S71)/G71 -> 0.13385734
A72: PSEN Level 3, Year 4 | B72: PE53 | D72: 1657.4 | F72: 1677.3 | G72: 1727.6 | I72: 1746.6 | J72: 1799 | L72: 1968.1 | N72: ='Award Table'!A55 -> Enrolled Nurse - other than aged care - PP5 | O72: ='Award Table'!B55 -> 1199.2 | P72: =G72-O72 -> 528.4 | Q72: =(G72-O72)/G72 -> 0.30585784 | R72: Enrolled nurse supervising other direct care employees | S72: ='Award Table'!B57 -> 1476.6 | T72: =G72-S72 -> 251 | U72: =(G72-S72)/G72 -> 0.14528826
A73: PSEN Level 4 (Educator) | B73: PW60 | D73: 2064.2 | F73: 2089 | G73: 2151.7 | I73: 2175.4 | J73: 2240.6 | L73: 2451.2 | N73: ='Award Table'!A55 -> Enrolled Nurse - other than aged care - PP5 | O73: ='Award Table'!B55 -> 1199.2 | P73: =G73-O73 -> 952.5 | Q73: =(G73-O73)/G73 -> 0.44267324 | R73: Enrolled nurse supervising other direct care employees | S73: ='Award Table'!B57 -> 1476.6 | T73: =G73-S73 -> 675.1 | U73: =(G73-S73)/G73 -> 0.31375192
A74: Mental Health Officer
A75: MHO Level 1, Year 1 | B75: SO11 | D75: 1056.8 | H75: 1088.5 | K75: 1121.2 | M75: =1154.8 -> 1154.8 | N75: ='Award Table'!A91 -> Nursing Assistant - other than aged care - 1st year | O75: ='Award Table'!B91 -> 1050.7 | P75: =H75-O75 -> 37.8 | Q75: =(H75-O75)/H75 -> 0.034726688
A76: MHO Level 1, Year 2 | B76: SO12 | D76: 1085.4 | H76: 1118 | K76: 1151.5 | M76: 1186.1 | N76: ='Award Table'!A92 -> Nursing Assistant - other than aged care - 2nd year | O76: ='Award Table'!B92 -> 1067.3 | P76: =H76-O76 -> 50.7 | Q76: =(H76-O76)/H76 -> 0.045348837
A77: MHO Level 1, Year 3 | B77: SO13 | D77: 1126.3 | H77: 1160.1 | K77: 1194.9 | M77: 1230.8 | N77: ='Award Table'!A93 -> Nursing Assistant - other than aged care - 3rd year + | O77: ='Award Table'!B93 -> 1084.4 | P77: =H77-O77 -> 75.7 | Q77: =(H77-O77)/H77 -> 0.065252995
A78: MHO Level 1, Year 4 | B78: SO14 | D78: 1154.6 | H78: 1189.2 | K78: 1224.9 | M78: 1261.7 | N78: ='Award Table'!A93 -> Nursing Assistant - other than aged care - 3rd year + | O78: ='Award Table'!B93 -> 1084.4 | P78: =H78-O78 -> 104.8 | Q78: =(H78-O78)/H78 -> 0.088126472
A79: MHO Level 1, Year 5 | B79: SO15 | D79: 1183.5 | H79: 1219 | K79: 1255.6 | M79: 1293.3 | N79: ='Award Table'!A93 -> Nursing Assistant - other than aged care - 3rd year + | O79: ='Award Table'!B93 -> 1084.4 | P79: =H79-O79 -> 134.6 | Q79: =(H79-O79)/H79 -> 0.11041838
A80: MHO Level 1, Year 6 | B80: SO16 | D80: 1212.2 | H80: 1248.6 | K80: 1286 | M80: 1324.6 | N80: ='Award Table'!A93 -> Nursing Assistant - other than aged care - 3rd year + | O80: ='Award Table'!B93 -> 1084.4 | P80: =H80-O80 -> 164.2 | Q80: =(H80-O80)/H80 -> 0.13150729
A81: MHO Level 1, Year 7 | B81: SO17 | D81: 1235.8 | H81: 1272.9 | K81: 1311.1 | M81: 1350.4 | N81: ='Award Table'!A93 -> Nursing Assistant - other than aged care - 3rd year + | O81: ='Award Table'!B93 -> 1084.4 | P81: =H81-O81 -> 188.5 | Q81: =(H81-O81)/H81 -> 0.14808705
A82: MHO Level 1, Year 8 | B82: SO18 | D82: 1259.4 | H82: 1297.2 | K82: 1336.1 | M82: 1376.2 | N82: ='Award Table'!A93 -> Nursing Assistant - other than aged care - 3rd year + | O82: ='Award Table'!B93 -> 1084.4 | P82: =H82-O82 -> 212.8 | Q82: =(H82-O82)/H82 -> 0.16404564
A83: MHO Level 2, Year 1 | B83: SO21 | D83: 1264.5 | H83: 1302.4 | K83: 1341.5 | M83: 1381.8 | N83: ='Award Table'!A94 -> Nursing Assistant - other than aged care - Experienced (hold relevant Cert III) | O83: ='Award Table'!B94 -> 1119.1 | P83: =H83-O83 -> 183.3 | Q83: =(H83-O83)/H83 -> 0.14074017
A84: MHO Level 2, Year 2 | B84: SO22 | D84: 1301.1 | H84: 1340.1 | K84: 1380.3 | M84: 1421.7 | N84: ='Award Table'!A94 -> Nursing Assistant - other than aged care - Experienced (hold relevant Cert III) | O84: ='Award Table'!B94 -> 1119.1 | P84: =H84-O84 -> 221 | Q84: =(H84-O84)/H84 -> 0.16491307
A85: MHO Level 2, Year 3 | B85: SO23 | D85: 1322.3 | H85: 1362 | K85: 1402.9 | M85: 1445 | N85: ='Award Table'!A94 -> Nursing Assistant - other than aged care - Experienced (hold relevant Cert III) | O85: ='Award Table'!B94 -> 1119.1 | P85: =H85-O85 -> 242.9 | Q85: =(H85-O85)/H85 -> 0.17834068
A86: MHO Level 2, Year 4 | B86: SO24 | D86: 1350.9 | H86: 1391.4 | K86: 1433.1 | M86: 1476.1 | N86: ='Award Table'!A94 -> Nursing Assistant - other than aged care - Experienced (hold relevant Cert III) | O86: ='Award Table'!B94 -> 1119.1 | P86: =H86-O86 -> 272.3 | Q86: =(H86-O86)/H86 -> 0.19570217
A87: MHO Level 2, Year 5 | B87: SO25 | D87: 1374.1 | H87: 1415.3 | K87: 1457.8 | M87: 1501.5 | N87: ='Award Table'!A94 -> Nursing Assistant - other than aged care - Experienced (hold relevant Cert III) | O87: ='Award Table'!B94 -> 1119.1 | P87: =H87-O87 -> 296.2 | Q87: =(H87-O87)/H87 -> 0.20928425
A88: MHO Level 3, Year 1 | B88: SO31 | D88: 1409.6 | H88: 1451.9 | K88: 1495.5 | M88: 1540.4 | N88: ='Award Table'!A94 -> Nursing Assistant - other than aged care - Experienced (hold relevant Cert III) | O88: ='Award Table'!B94 -> 1119.1 | P88: =H88-O88 -> 332.8 | Q88: =(H88-O88)/H88 -> 0.22921689
A89: MHO Level 3, Year 2 | B89: SO32 | D89: 1439.6 | H89: 1482.8 | K89: 1527.3 | M89: 1573.1 | N89: ='Award Table'!A94 -> Nursing Assistant - other than aged care - Experienced (hold relevant Cert III) | O89: ='Award Table'!B94 -> 1119.1 | P89: =H89-O89 -> 363.7 | Q89: =(H89-O89)/H89 -> 0.2452792
A90: MHO Level 3, Year 3 | B90: SO33 | D90: 1470.6 | H90: 1514.7 | K90: 1560.1 | M90: 1606.9 | N90: ='Award Table'!A94 -> Nursing Assistant - other than aged care - Experienced (hold relevant Cert III) | O90: ='Award Table'!B94 -> 1119.1 | P90: =H90-O90 -> 395.6 | Q90: =(H90-O90)/H90 -> 0.26117383
A91: MHO Level 3, Year 4 | B91: SO34 | D91: 1494.7 | H91: 1539.5 | K91: 1585.7 | M91: 1633.3 | N91: ='Award Table'!A94 -> Nursing Assistant - other than aged care - Experienced (hold relevant Cert III) | O91: ='Award Table'!B94 -> 1119.1 | P91: =H91-O91 -> 420.4 | Q91: =(H91-O91)/H91 -> 0.27307567
A92: Schedule 2B: Transitional Paycodes
A93: RPN Grade 7 (Preserved) | B93: NP79 | D93: 4119.1 | F93: 4166.5 | G93: 4291.5 | I93: 4338.7 | J93: 4468.9 | L93: 4889 | N93: ='Award Table'!A89 -> Registered Nurse - other than aged care - Level 5 - G6 | O93: ='Award Table'!B89 -> 2706.9 | P93: =G93-O93 -> 1584.6 | Q93: =(G93-O93)/G93 -> 0.36924152 | R93: ='Award Table'!A89 -> Registered Nurse - other than aged care - Level 5 - G6 | S93: ='Award Table'!B89 -> 2706.9 | T93: =G93-S93 -> 1584.6 | U93: =(G93-S93)/G93 -> 0.36924152

Sheet Wages - Commuted
A1: Classification | B1: Paycode | C1: FFPPOA 20 May 2025 | D1: Commuted Allowance | E1: FFPPOA 1 July 2025 | F1: Commuted Allowance | G1: FFPPOA 1 July 2026 | H1: Commuted Allowance | I1: FFPPOA 5 January 2026 | J1: Commuted Allowance | K1: FFPPOA 15 June 2026 | L1: Commuted Allowance | M1: FFPPOA 4 January 2027 | N1: Commuted Allowance | O1: FFPPOA 7 June 2027 | P1: Commuted Allowance | Q1: FFPPOA 1 July 2027 | R1: Commuted Allowance | S1: FFPPOA 10 January 2028 | T1: Commuted Allowance | U1: FFPPOA 1 July 2028 | V1: Commuted Allowance | X1: Award Classification | Y1: Award Rate - non aged care Employees (1/7/26) | Z1: Rate Above Award | AA1: % Above Award
A2: Registered Psychiatric Nurse
A3: RPN Grade 2 Year 8 | B3: RP70 | C3: 1983.7 | D3: 337.119 | I3: 2007.5044 | J3: 361.35079 | K3: 2067.7 | L3: 372.186 | M3: 2090.4 | N3: 376.272 | O3: 2153.1 | P3: 387.558 | S3: 2355.5 | T3: 423.99 | X3: ='RPNs, PENs, MHOs'!N18 -> Registered Nurse - other than aged care - Level 1 - PP8+ | Y3: ='Award Table'!B68 -> 1465.5 | Z3: =I3-Y3 -> 542.0044 | AA3: =(I3-Y3)/I3 -> 0.26998915
A4: RPN Grade 2, Advanced | B4: RP29 | C4: 2064.2 | D4: 359.161 | I4: 2089 | J4: 376.02 | K4: 2151.7 | L4: 387.306 | M4: 2175.4 | N4: 391.572 | O4: 2240.7 | P4: 403.326 | S4: 2451.3 | T4: 441.234 | X4: ='RPNs, PENs, MHOs'!N18 -> Registered Nurse - other than aged care - Level 1 - PP8+ | Y4: ='Award Table'!B68 -> 1465.5 | Z4: =I4-Y4 -> 623.5 | AA4: =(I4-Y4)/I4 -> 0.29846817
A5: Psych Clinical Nurse Specialist | B5: PC12 | C5: 2064.2 | D5: 359.161 | I5: 2089 | J5: 376.02 | K5: 2151.7 | L5: 387.306 | M5: 2175.4 | N5: 391.572 | O5: 2240.7 | P5: 403.326 | S5: 2451.3 | T5: 441.234 | X5: ='RPNs, PENs, MHOs'!N18 -> Registered Nurse - other than aged care - Level 1 - PP8+ | Y5: ='Award Table'!B68 -> 1465.5 | Z5: =I5-Y5 -> 623.5 | AA5: =(I5-Y5)/I5 -> 0.29846817
A6: RPN Grade 3, Year 1 | B6: RP81 | C6: 2068.2 | D6: 344.226 | I6: 2093 | J6: 376.74 | K6: 2155.8 | L6: 388.044 | M6: 2179.5 | N6: 392.31 | O6: 2244.9 | P6: 404.082 | S6: 2455.9 | T6: 442.062 | X6: ='Award Table'!A70 -> Registered Nurse - other than aged care - Level 2 - PP1 | Y6: ='Award Table'!B70 -> 1504.4 | Z6: =I6-Y6 -> 588.6 | AA6: =(I6-Y6)/I6 -> 0.28122312
A7: RPN Grade 3, Year 2 | B7: RP82 | C7: 2127.3 | D7: 353.908 | I7: 2152.8 | J7: 387.504 | K7: 2217.4 | L7: 399.132 | M7: 2241.8 | N7: 403.524 | O7: 2309.1 | P7: 415.638 | S7: 2526.2 | T7: 454.716 | X7: ='Award Table'!A71 -> Registered Nurse - other than aged care - Level 2 - PP2 | Y7: ='Award Table'!B71 -> 1528.3 | Z7: =I7-Y7 -> 624.5 | AA7: =(I7-Y7)/I7 -> 0.29008733
A8: RPN Grade 3, Year 3 / ANUM Year 1 | B8: RP83 | C8: 2222 | D8: 369.461 | I8: 2248.7 | J8: 404.766 | K8: 2316.2 | L8: 416.916 | M8: 2341.7 | N8: 421.506 | O8: 2412 | P8: 434.16 | S8: 2638.7 | T8: 474.966 | X8: ='Award Table'!A72 -> Registered Nurse - other than aged care - Level 2 - PP3 | Y8: ='Award Table'!B72 -> 1554.8 | Z8: =I8-Y8 -> 693.9 | AA8: =(I8-Y8)/I8 -> 0.30857829
A9: RPN Grade 3, Year 4 / ANUM Year 2 | B9: RP74 | C9: 2296.9 | D9: 382.233 | I9: 2324.5 | J9: 418.41 | K9: 2394.2 | L9: 430.956 | M9: 2420.5 | N9: 435.69 | O9: 2493.1 | P9: 448.758 | S9: 2727.5 | T9: 490.95 | X9: ='Award Table'!A73 -> Registered Nurse - other than aged care - Level 2 - PP4+ | Y9: ='Award Table'!B73 -> 1580.3 | Z9: =I9-Y9 -> 744.2 | AA9: =(I9-Y9)/I9 -> 0.32015487
A10: RPN Grade 4, Year 1 | B10: RP75 | C10: 2363.6 | D10: 396.34 | I10: 2392 | J10: 430.56 | K10: 2463.8 | L10: 443.48 | M10: 2490.9 | N10: 448.36 | O10: 2565.6 | P10: 461.81 | S10: 2806.8 | T10: 505.22 | X10: ='RPNs, PENs, MHOs'!$N$30 -> Registered Nurse - other than aged care - Level 3 - PP1 | Y10: ='Award Table'!B75 -> 1631.2 | Z10: =I10-Y10 -> 760.8 | AA10: =(I10-Y10)/I10 -> 0.3180602
A11: RPN Grade 4, Year 2 | B11: RP76 | C11: 2363.6 | D11: 396.344 | I11: 2392 | J11: 430.56 | K11: 2463.8 | L11: 443.484 | M11: 2490.9 | N11: 448.362 | O11: 2565.6 | P11: 461.808 | S11: 2806.8 | T11: 505.224 | X11: ='RPNs, PENs, MHOs'!$N$31 -> Registered Nurse - other than aged care - Level 3 - PP2 | Y11: ='Award Table'!B76 -> 1661.1 | Z11: =I11-Y11 -> 730.9 | AA11: =(I11-Y11)/I11 -> 0.3055602
A12: RPN Grade 4, Year 3 | B12: RP77 | C12: 2481.8 | D12: 427.347 | I12: 2511.6 | J12: 452.088 | K12: 2587 | L12: 465.66 | M12: 2615.5 | N12: 470.79 | O12: 2694 | P12: 484.92 | S12: 2947.2 | T12: 530.496 | X12: ='RPNs, PENs, MHOs'!$N$32 -> Registered Nurse - other than aged care - Level 3 - PP3 | Y12: ='Award Table'!B77 -> 1689.8 | Z12: =I12-Y12 -> 821.8 | AA12: =(I12-Y12)/I12 -> 0.32720178
A13: RPN Grade 5 NUM Level 1 | B13: AG15 | C13: 2605.7 | D13: 440.119 | I13: 2637 | J13: 474.66 | K13: 2716.1 | L13: 488.898 | M13: 2746 | N13: 494.28 | O13: 2828.4 | P13: 509.112 | S13: 3094.3 | T13: 556.974 | X13: ='Award Table'!A80 -> Registered Nurse - other than aged care - Level 4 - G1 | Y13: ='Award Table'!B80 -> 1861.7 | Z13: =I13-Y13 -> 775.3 | AA13: =(I13-Y13)/I13 -> 0.29400834
A14: RPN Grade 5 NUM Level 2 | B14: AG16 | C14: 2700.7 | D14: 440.119 | I14: 2733.1 | J14: 491.958 | K14: 2815.1 | L14: 506.718 | M14: 2846.1 | N14: 512.298 | O14: 2931.5 | P14: 527.67 | S14: 3207.1 | T14: 577.278 | X14: ='RPNs, PENs, MHOs'!$N$35 -> Registered Nurse - other than aged care - Level 4 - G2 | Y14: ='Award Table'!B81 -> 1995.1 | Z14: =I14-Y14 -> 738 | AA14: =(I14-Y14)/I14 -> 0.27002305
A15: RPN Grade 5 NUM Level 3 | B15: AG17 | C15: 2795.8 | D15: 440.119 | I15: 2829.3 | J15: 509.274 | K15: 2914.2 | L15: 524.556 | M15: 2946.3 | N15: 530.334 | O15: 3034.7 | P15: 546.246 | S15: 3320 | T15: 597.6 | X15: ='RPNs, PENs, MHOs'!$N$36 -> Registered Nurse - other than aged care - Level 4 - G3 | Y15: ='Award Table'!B82 -> 2111.6 | Z15: =I15-Y15 -> 717.7 | AA15: =(I15-Y15)/I15 -> 0.25366698
A16: RPN Grade 5 | B16: RP51 | C16: 2600 | D16: 440.634 | I16: 2631.2 | J16: 473.616 | K16: 2710.1 | L16: 487.818 | M16: 2739.9 | N16: 493.182 | O16: 2822.1 | P16: 507.978 | S16: 3087.4 | T16: 555.732 | X16: ='RPNs, PENs, MHOs'!$N$36 -> Registered Nurse - other than aged care - Level 4 - G3 | Y16: ='Award Table'!B82 -> 2111.6 | Z16: =I16-Y16 -> 519.6 | AA16: =(I16-Y16)/I16 -> 0.19747644
A17: RPN Grade 6 | B17: RP61 | C17: 2954.7 | D17: 497.078 | I17: 2990.2 | J17: 538.236 | K17: 3079.9 | L17: 554.382 | M17: 3113.8 | N17: 560.484 | O17: 3207.2 | P17: 577.296 | S17: 3508.7 | T17: 631.566 | X17: ='Award Table'!A89 -> Registered Nurse - other than aged care - Level 5 - G6 | Y17: ='Award Table'!B89 -> 2706.9 | Z17: =I17-Y17 -> 283.3 | AA17: =(I17-Y17)/I17 -> 0.094742827
A18: RPN Nurse Practitioner | B18: AG18 | C18: 2954.7 | D18: 514.09566 | I18: 2990.2 | J18: 538.236 | K18: 3079.9 | L18: 554.382 | M18: 3113.8 | N18: 560.484 | O18: 3207.2 | P18: 577.296 | S18: 3508.7 | T18: 631.566 | X18: ='Award Table'!A89 -> Registered Nurse - other than aged care - Level 5 - G6 | Y18: ='Award Table'!B89 -> 2706.9 | Z18: =I18-Y18 -> 283.3 | AA18: =(I18-Y18)/I18 -> 0.094742827
A19: RPN Nurse Practitioner Year 2 | B19: AG19 | E19: 3010.8 | F19: 541.944 | I19: 3046.9 | J19: 548.442 | K19: 3138.3 | L19: 564.894 | M19: 3172.8 | N19: 571.104 | O19: 3268 | P19: 588.24 | S19: 3575.2 | T19: 643.536 | X19: ='Award Table'!A89 -> Registered Nurse - other than aged care - Level 5 - G6 | Y19: ='Award Table'!B89 -> 2706.9 | Z19: =I19-Y19 -> 340 | AA19: =(I19-Y19)/I19 -> 0.11158883
A20: RPN 7 | B20: AG20 | C20: 3712.2 | D20: 646.04484 | I20: 3756.8 | J20: 676.224 | K20: 3869.5 | L20: 696.51 | M20: 3912.1 | N20: 704.178 | O20: 4029.5 | P20: 725.31 | S20: 4408.3 | T20: 793.494 | X20: ='Award Table'!A89 -> Registered Nurse - other than aged care - Level 5 - G6 | Y20: ='Award Table'!B89 -> 2706.9 | Z20: =I20-Y20 -> 1049.9 | AA20: =(I20-Y20)/I20 -> 0.27946657
A21: Psychiatric Enrolled Nurse
A22: PSEN Level 1, Year 8 | B22: EP18 | C22: 1420.2 | D22: 255.636 | I22: 1437.2 | J22: 258.696 | K22: 1480.3 | L22: 266.454 | M22: 1496.6 | N22: 269.388 | O22: 1541.5 | P22: 277.47 | S22: 1686.401 | T22: 303.55218 | X22: ='Award Table'!A55 -> Enrolled Nurse - other than aged care - PP5 | Y22: ='Award Table'!B55 -> 1199.2 | Z22: =I22-Y22 -> 238 | AA22: =(I22-Y22)/I22 -> 0.16559978
A23: PSEN Level 2, Year 1 | B23: EP21 | C23: 1449.7 | D23: 260.946 | I23: 1467.0964 | J23: 264.07735 | K23: 1511.1 | L23: 271.998 | M23: 1527.7 | N23: 274.986 | O23: 1573.5 | P23: 283.23 | S23: 1721.4 | T23: 309.852 | X23: ='Award Table'!A51 -> Enrolled Nurse - other than aged care - PP1 | Y23: ='Award Table'!B51 -> 1139.9 | Z23: =I23-Y23 -> 327.1964 | AA23: =(I23-Y23)/I23 -> 0.22302311
A24: PSEN Level 2, Year 2 | B24: EP22 | C24: 1464.9 | D24: 263.682 | I24: 1482.5 | J24: 266.85 | K24: 1527 | L24: 274.86 | M24: 1543.8 | N24: 277.884 | O24: 1590.1 | P24: 286.218 | S24: 1739.6 | T24: 313.128 | X24: ='Award Table'!A52 -> Enrolled Nurse - other than aged care - PP2 | Y24: ='Award Table'!B52 -> 1155 | Z24: =I24-Y24 -> 327.5 | AA24: =(I24-Y24)/I24 -> 0.22091062
A25: PSEN Level 2, Year 3 | B25: EP23 | C25: 1479.595 | D25: 266.3271 | I25: 1497.4 | J25: 269.532 | K25: 1542.3 | L25: 277.614 | M25: 1559.3 | N25: 280.674 | O25: 1606.1 | P25: 289.098 | S25: 1757.1 | T25: 316.278 | X25: ='Award Table'!A53 -> Enrolled Nurse - other than aged care - PP3 | Y25: ='Award Table'!B53 -> 1170.4 | Z25: =I25-Y25 -> 327 | AA25: =(I25-Y25)/I25 -> 0.21837852
A26: PSEN Level 2, Year 4 | B26: YD23 | C26: 1514.203 | D26: 272.55654 | I26: 1532.4 | J26: 275.832 | K26: 1578.4 | L26: 284.112 | M26: 1595.8 | N26: 287.244 | O26: 1643.7 | P26: 295.866 | S26: 1798.2 | T26: 323.676 | X26: ='Award Table'!A54 -> Enrolled Nurse - other than aged care - PP4 | Y26: 1144.8 | Z26: =I26-Y26 -> 387.6 | AA26: =(I26-Y26)/I26 -> 0.25293657
A27: PSEN Level 3, Year 1 | B27: PE54 | C27: 1553.8 | D27: 279.684 | I27: 1572.5 | J27: 283.05 | K27: 1619.7 | L27: 291.546 | M27: 1637.5 | N27: 294.75 | O27: 1686.6 | P27: 303.588 | S27: 1845.1 | T27: 332.118 | X27: ='Award Table'!A51 -> Enrolled Nurse - other than aged care - PP1 | Y27: ='Award Table'!B51 -> 1139.9 | Z27: =I27-Y27 -> 432.6 | AA27: =(I27-Y27)/I27 -> 0.27510334
A28: PSEN Level 3, Year 2 | B28: PE55 | C28: 1609.4 | D28: 289.692 | I28: 1628.7 | J28: 293.166 | K28: 1677.6 | L28: 301.968 | M28: 1696.1 | N28: 305.298 | O28: 1747 | P28: 314.46 | S28: 1911.2 | T28: 344.016 | X28: ='Award Table'!A52 -> Enrolled Nurse - other than aged care - PP2 | Y28: ='Award Table'!B52 -> 1155 | Z28: =I28-Y28 -> 473.7 | AA28: =(I28-Y28)/I28 -> 0.29084546
A29: PSEN Level 3, Year 3 | B29: PE56 | C29: 1635.5 | D29: 294.39 | I29: 1655.1 | J29: 297.918 | K29: 1704.8 | L29: 306.864 | M29: 1723.6 | N29: 310.248 | O29: 1775.3 | P29: 319.554 | S29: 1942.2 | T29: 349.596 | X29: ='Award Table'!A53 -> Enrolled Nurse - other than aged care - PP3 | Y29: ='Award Table'!B53 -> 1170.4 | Z29: =I29-Y29 -> 484.7 | AA29: =(I29-Y29)/I29 -> 0.2928524
A30: PSEN Level 3, Year 4 | B30: PE57 | C30: 1657.4 | D30: 298.332 | I30: 1677.3 | J30: 301.914 | K30: 1727.6 | L30: 310.968 | M30: 1746.6 | N30: 314.388 | O30: 1799 | P30: 323.82 | S30: 1968.1 | T30: 354.258 | X30: ='Award Table'!A54 -> Enrolled Nurse - other than aged care - PP4 | Y30: ='Award Table'!B54 -> 1187.2 | Z30: =I30-Y30 -> 490.1 | AA30: =(I30-Y30)/I30 -> 0.29219579
A31: Mental Health Officer
A32: MHO Level 1, Year 1 | B32: SP11 | C32: 1056.8 | D32: =(C32/100)*18 -> 190.224 | G32: 1088.5 | H32: =(G32/100)*18 -> 195.93 | Q32: 1121.2 | R32: =(Q32/100)*18 -> 201.816 | U32: =1154.8 -> 1154.8 | V32: =(U32/100)*18 -> 207.864 | X32: ='Award Table'!A91 -> Nursing Assistant - other than aged care - 1st year | Y32: ='Award Table'!B91 -> 1050.7 | Z32: =(G32+H32)-Y32 -> 233.73 | AA32: =((G32+H32)-Y32)/(G32+H32) -> 0.18197177
A33: MHO Level 1, Year 2 | B33: SP12 | C33: 1085.4 | D33: =(C33/100)*18 -> 195.372 | G33: 1118 | H33: =(G33/100)*18 -> 201.24 | Q33: 1151.5 | R33: =(Q33/100)*18 -> 207.27 | U33: 1186.1 | V33: =(U33/100)*18 -> 213.498 | X33: ='Award Table'!A92 -> Nursing Assistant - other than aged care - 2nd year | Y33: ='Award Table'!B92 -> 1067.3 | Z33: =(G33+H33)-Y33 -> 251.94 | AA33: =((G33+H33)-Y33)/(G33+H33) -> 0.19097359
A34: MHO Level 1, Year 3 | B34: SP13 | C34: 1126.3 | D34: =(C34/100)*18 -> 202.734 | G34: 1160.1 | H34: =(G34/100)*18 -> 208.818 | Q34: 1194.9 | R34: =(Q34/100)*18 -> 215.082 | U34: 1230.8 | V34: =(U34/100)*18 -> 221.544 | X34: ='Award Table'!A93 -> Nursing Assistant - other than aged care - 3rd year + | Y34: ='Award Table'!B93 -> 1084.4 | Z34: =(G34+H34)-Y34 -> 284.518 | AA34: =((G34+H34)-Y34)/(G34+H34) -> 0.20784152
A35: MHO Level 1, Year 4 | B35: SP14 | C35: 1154.6 | D35: =(C35/100)*18 -> 207.828 | G35: 1189.2 | H35: =(G35/100)*18 -> 214.056 | Q35: 1224.9 | R35: =(Q35/100)*18 -> 220.482 | U35: 1261.7 | V35: =(U35/100)*18 -> 227.106 | X35: ='Award Table'!A93 -> Nursing Assistant - other than aged care - 3rd year + | Y35: ='Award Table'!B93 -> 1084.4 | Z35: =(G35+H35)-Y35 -> 318.856 | AA35: =((G35+H35)-Y35)/(G35+H35) -> 0.22722582
A36: MHO Level 1, Year 5 | B36: SP15 | C36: 1183.5 | D36: =(C36/100)*18 -> 213.03 | G36: 1219 | H36: =(G36/100)*18 -> 219.42 | Q36: 1255.6 | R36: =(Q36/100)*18 -> 226.008 | U36: 1293.3 | V36: =(U36/100)*18 -> 232.794 | X36: ='Award Table'!A93 -> Nursing Assistant - other than aged care - 3rd year + | Y36: ='Award Table'!B93 -> 1084.4 | Z36: =(G36+H36)-Y36 -> 354.02 | AA36: =((G36+H36)-Y36)/(G36+H36) -> 0.24611727
A37: MHO Level 1, Year 6 | B37: SP16 | C37: 1212.2 | D37: =(C37/100)*18 -> 218.196 | G37: 1248.6 | H37: =(G37/100)*18 -> 224.748 | Q37: 1286 | R37: =(Q37/100)*18 -> 231.48 | U37: 1324.6 | V37: =(U37/100)*18 -> 238.428 | X37: ='Award Table'!A93 -> Nursing Assistant - other than aged care - 3rd year + | Y37: ='Award Table'!B93 -> 1084.4 | Z37: =(G37+H37)-Y37 -> 388.948 | AA37: =((G37+H37)-Y37)/(G37+H37) -> 0.26398923
A38: MHO Level 1, Year 7 | B38: SP17 | C38: 1235.8 | D38: =(C38/100)*18 -> 222.444 | G38: 1272.9 | H38: =(G38/100)*18 -> 229.122 | Q38: 1311.1 | R38: =(Q38/100)*18 -> 235.998 | U38: 1350.4 | V38: =(U38/100)*18 -> 243.072 | X38: ='Award Table'!A93 -> Nursing Assistant - other than aged care - 3rd year + | Y38: ='Award Table'!B93 -> 1084.4 | Z38: =(G38+H38)-Y38 -> 417.622 | AA38: =((G38+H38)-Y38)/(G38+H38) -> 0.27803987
A39: MHO Level 1, Year 8 | B39: SP18 | C39: 1259.4 | D39: =(C39/100)*18 -> 226.692 | G39: 1297.2 | H39: =(G39/100)*18 -> 233.496 | Q39: 1336.1 | R39: =(Q39/100)*18 -> 240.498 | U39: 1376.2 | V39: =(U39/100)*18 -> 247.716 | X39: ='Award Table'!A93 -> Nursing Assistant - other than aged care - 3rd year + | Y39: ='Award Table'!B93 -> 1084.4 | Z39: =(G39+H39)-Y39 -> 446.296 | AA39: =((G39+H39)-Y39)/(G39+H39) -> 0.2915641
A40: MHO Level 2, Year 1 | B40: SP21 | C40: 1264.5 | D40: =(C40/100)*18 -> 227.61 | G40: 1302.4 | H40: =(G40/100)*18 -> 234.432 | Q40: 1341.5 | R40: =(Q40/100)*18 -> 241.47 | U40: 1381.8 | V40: =(U40/100)*18 -> 248.724 | X40: ='Award Table'!A94 -> Nursing Assistant - other than aged care - Experienced (hold relevant Cert III) | Y40: ='Award Table'!B94 -> 1119.1 | Z40: =(G40+H40)-Y40 -> 417.732 | AA40: =((G40+H40)-Y40)/(G40+H40) -> 0.27181371
A41: MHO Level 2, Year 2 | B41: SP22 | C41: 1301.1 | D41: =(C41/100)*18 -> 234.198 | G41: 1340.1 | H41: =(G41/100)*18 -> 241.218 | Q41: 1380.3 | R41: =(Q41/100)*18 -> 248.454 | U41: 1421.7 | V41: =(U41/100)*18 -> 255.906 | X41: ='Award Table'!A94 -> Nursing Assistant - other than aged care - Experienced (hold relevant Cert III) | Y41: ='Award Table'!B94 -> 1119.1 | Z41: =(G41+H41)-Y41 -> 462.218 | AA41: =((G41+H41)-Y41)/(G41+H41) -> 0.29229921
A42: MHO Level 2, Year 3 | B42: SP23 | C42: 1322.3 | D42: =(C42/100)*18 -> 238.014 | G42: 1362 | H42: =(G42/100)*18 -> 245.16 | Q42: 1402.9 | R42: =(Q42/100)*18 -> 252.522 | U42: 1445 | V42: =(U42/100)*18 -> 260.1 | X42: ='Award Table'!A94 -> Nursing Assistant - other than aged care - Experienced (hold relevant Cert III) | Y42: ='Award Table'!B94 -> 1119.1 | Z42: =(G42+H42)-Y42 -> 488.06 | AA42: =((G42+H42)-Y42)/(G42+H42) -> 0.30367854
A43: MHO Level 2, Year 4 | B43: SP24 | C43: 1350.9 | D43: =(C43/100)*18 -> 243.162 | G43: 1391.4 | H43: =(G43/100)*18 -> 250.452 | Q43: 1433.1 | R43: =(Q43/100)*18 -> 257.958 | U43: 1476.1 | V43: =(U43/100)*18 -> 265.698 | X43: ='Award Table'!A94 -> Nursing Assistant - other than aged care - Experienced (hold relevant Cert III) | Y43: ='Award Table'!B94 -> 1119.1 | Z43: =(G43+H43)-Y43 -> 522.752 | AA43: =((G43+H43)-Y43)/(G43+H43) -> 0.31839167
A44: MHO Level 2, Year 5 | B44: SP25 | C44: 1374.1 | D44: =(C44/100)*18 -> 247.338 | G44: 1415.3 | H44: =(G44/100)*18 -> 254.754 | Q44: 1457.8 | R44: =(Q44/100)*18 -> 262.404 | U44: 1501.5 | V44: =(U44/100)*18 -> 270.27 | X44: ='Award Table'!A94 -> Nursing Assistant - other than aged care - Experienced (hold relevant Cert III) | Y44: ='Award Table'!B94 -> 1119.1 | Z44: =(G44+H44)-Y44 -> 550.954 | AA44: =((G44+H44)-Y44)/(G44+H44) -> 0.32990191
A45: MHO Level 3, Year 1 | B45: SP31 | C45: 1409.6 | D45: =(C45/100)*18 -> 253.728 | G45: 1451.9 | H45: =(G45/100)*18 -> 261.342 | Q45: 1495.5 | R45: =(Q45/100)*18 -> 269.19 | U45: 1540.4 | V45: =(U45/100)*18 -> 277.272 | X45: ='Award Table'!A94 -> Nursing Assistant - other than aged care - Experienced (hold relevant Cert III) | Y45: ='Award Table'!B94 -> 1119.1 | Z45: =(G45+H45)-Y45 -> 594.142 | AA45: =((G45+H45)-Y45)/(G45+H45) -> 0.34679397
A46: MHO Level 3, Year 2 | B46: SP32 | C46: 1439.6 | D46: =(C46/100)*18 -> 259.128 | G46: =1482.8 -> 1482.8 | H46: =(G46/100)*18 -> 266.904 | Q46: 1527.3 | R46: =(Q46/100)*18 -> 274.914 | U46: 1573.1 | V46: =(U46/100)*18 -> 283.158 | X46: ='Award Table'!A94 -> Nursing Assistant - other than aged care - Experienced (hold relevant Cert III) | Y46: ='Award Table'!B94 -> 1119.1 | Z46: =(G46+H46)-Y46 -> 630.604 | AA46: =((G46+H46)-Y46)/(G46+H46) -> 0.3604061
A47: MHO Level 3, Year 3 | B47: SP33 | C47: 1470.6 | D47: =(C47/100)*18 -> 264.708 | G47: 1514.7 | H47: =(G47/100)*18 -> 272.646 | Q47: 1560.1 | R47: =(Q47/100)*18 -> 280.818 | U47: 1606.9 | V47: =(U47/100)*18 -> 289.242 | X47: ='Award Table'!A94 -> Nursing Assistant - other than aged care - Experienced (hold relevant Cert III) | Y47: ='Award Table'!B94 -> 1119.1 | Z47: =(G47+H47)-Y47 -> 668.246 | AA47: =((G47+H47)-Y47)/(G47+H47) -> 0.37387613
A48: MHO Level 3, Year 4 | B48: SP34 | C48: 1494.7 | D48: =(C48/100)*18 -> 269.046 | G48: 1539.5 | H48: =(G48/100)*18 -> 277.11 | Q48: 1585.7 | R48: =(Q48/100)*18 -> 285.426 | U48: 1633.3 | V48: =(U48/100)*18 -> 293.994 | X48: ='Award Table'!A94 -> Nursing Assistant - other than aged care - Experienced (hold relevant Cert III) | Y48: ='Award Table'!B94 -> 1119.1 | Z48: =(G48+H48)-Y48 -> 697.51 | AA48: =((G48+H48)-Y48)/(G48+H48) -> 0.38396244
A49: Schedule 2B: Transitional Paycodes
A50: RPN Grade 7 (Preserved) | B50: RP79 | C50: 4119.1 | D50: 716.7 | I50: 4166.5 | J50: 749.97 | K50: 4291.5 | L50: 772.47 | M50: 4338.7 | N50: 780.966 | O50: 4468.9 | P50: 804.402 | S50: 4889 | T50: 880.02 | X50: =X20 -> Registered Nurse - other than aged care - Level 5 - G6 | Y50: =Y20 -> 2706.9 | Z50: =I50-Y50 -> 1459.6 | AA50: =(I50-Y50)/I50 -> 0.35031801

Sheet Allowances - RPNs, PENs, MHOs
A1: Registered Psychiatric Nurses & Psychiatric Enrolled Nurses
A3: Shift Allowances
B4: FFPPOA 20 May 2025 | C4: FFPPOA 20 May 2025 | D4: FFPPOA 5 Jan 2026 | E4: FFPPOA 15 June 2026 | F4: FFPPOA 1 July 2026 | G4: FFPPOA 4 Jan 2027 | H4: FFPPOA 7 June 2027 | I4: FPPOA 17 April 2028 | J4: FFPPOA 1 May 2028
A5: Morning shift | B5: 38 | C5: 39.1 | D5: 39.6 | E5: 40.8 | G5: 41.3 | H5: 42.5 | I5: 46.5
A6: Afternoon Shift | B6: 38 | C6: 39.1 | D6: 39.6 | E6: 40.8 | G6: 41.3 | H6: 42.5 | I6: 46.5
A7: Night Shift (Non-casual) - Monday - Thursday | B7: 90.7 | C7: 93.4 | D7: 94.5 | E7: 97.3 | F7: 114 | G7: 115.9 | H7: 119.4 | I7: 130.6
A8: Night Shift (Non-casual) - Friday and Saturday | B8: 90.7 | C8: 93.4 | D8: 94.5 | E8: 97.3 | F8: 126.6 | G8: 128 | H8: 131.8 | I8: 144.2
A9: Night Shift (Non-casual) - Sunday | B9: 160 | C9: 164.8 | D9: 166.8 | E9: 171.8 | F9: 196.1 | G9: 198.3 | H9: 204.3 | I9: 223.5
A10: Night Shift Casual | B10: 90.7 | C10: 93.4 | D10: 94.5 | E10: 97.3 | F10: 97.3 | G10: 98.4 | H10: 101.4 | I10: 110.9
A12: Change of Roster
B13: FFPPOA 20 May 2025 | C13: FFPPOA 20 May 2025 | D13: FFPPOA 5 Jan 2026 | E13: FFPPOA 15 June 2026 | F13: FFPPOA 1 July 2026 | G13: FFPPOA 4 Jan 2027 | H13: FFPPOA 7 June 2027 | I13: FPPOA 17 April 2028 | J13: FFPPOA 1 May 2028
A14: Change of roster (8-14 days) | B14: 38 | C14: 39.1 | D14: 39.6 | E14: 40.8 | G14: 41.3 | H14: 42.5 | I14: 46.5
A15: Change of roster (7 days or less) | B15: 75.9 | C15: 78.2 | D15: 79.1 | E15: 81.5 | G15: 82.4 | H15: 84.9 | I15: 92.9
A17: Change of Ward
B18: FFPPOA 20 May 2025 | C18: FFPPOA 20 May 2025 | D18: FFPPOA 5 Jan 2026 | E18: FFPPOA 15 June 2026 | F18: FFPPOA 1 July 2026 | G18: FFPPOA 4 Jan 2027 | H18: FFPPOA 7 June 2027 | I18: FPPOA 17 April 2028 | J18: FFPPOA 1 May 2028
A19: Change of Ward Allowance | B19: 38 | C19: 39.1 | D19: 39.6 | E19: 40.8 | G19: 41.3 | H19: 42.5 | I19: 46.5
A21: On Call
B22: FFPPOA 20 May 2025 | C22: FFPPOA 20 May 2025 | D22: FFPPOA 5 Jan 2026 | E22: FFPPOA 15 June 2026 | F22: FFPPOA 1 July 2026 | G22: FFPPOA 4 Jan 2027 | H22: FFPPOA 7 June 2027 | I22: FPPOA 17 April 2028 | J22: FFPPOA 1 May 2028
A23: Non CATT
A24: On-call Mon-Friday | B24: 77.9 | C24: 80.2 | D24: 81.2 | E24: 83.6 | G24: 84.5 | H24: 87 | I24: 95.2
A25: On-call Allowance - Saturday | B25: 116.9 | C25: 120.4 | D25: 121.8 | E25: 125.5 | G25: 126.9 | H25: 130.7 | I25: 143
A26: On-call Allowance - Sunday and Weekday Public Holiday | B26: 136.4 | C26: 140.5 | D26: 142.2 | E26: 146.5 | G26: 148.1 | H26: 152.5 | I26: 166.8
A27: On-call Allowance - Weekend Public Holiday | B27: 204.6 | C27: 210.7 | D27: 213.2 | E27: 219.6 | G27: 222 | H27: 228.7 | I27: 250.2
A28: CATT
A29: On-call Mon-Friday | B29: 174.4 | C29: 179.6 | D29: 181.8 | E29: 187.3 | G29: 189.3 | H29: 195 | I29: 213.3
A30: On-call Allowance - Saturday | B30: 213.4 | C30: 219.8 | D30: 222.4 | E30: 229.1 | G30: 231.7 | H30: 238.7 | I30: 261.1
A31: On-call Allowance - Sunday and Weekday Public Holiday | B31: 232.9 | C31: 239.8 | D31: 242.8 | E31: 250.1 | G31: 252.9 | H31: 260.5 | I31: 285
A32: On-call Allowance - Weekend Public Holiday | B32: 301.1 | C32: 310.1 | D32: 313.8 | E32: 323.2 | G32: 326.8 | H32: 336.6 | I32: 368.4
A33: To be hidden
A36: Uniform Allowance
B37: FFPPOA 20 May 2025 | C37: FFPPOA 20 May 2025 | D37: FFPPOA 5 Jan 2026 | E37: FFPPOA 15 June 2026 | F37: FFPPOA 1 July 2026 | G37: FFPPOA 4 Jan 2027 | H37: FFPPOA 7 June 2027 | I37: FPPOA 17 April 2028 | J37: FFPPOA 1 May 2028
A38: Daily | B38: 2.02 | C38: 2.08 | D38: 2.1 | E38: 2.16 | G38: 2.18 | H38: 2.25 | I38: 2.46
A39: Weekly | B39: 9.96 | C39: 10.26 | D39: 10.38 | E39: 10.69 | G39: 10.81 | H39: 11.13 | I39: 12.18
A41: Laundry Allowance
B42: FFPPOA 20 May 2025 | C42: FFPPOA 20 May 2025 | D42: FFPPOA 5 Jan 2026 | E42: FFPPOA 15 June 2026 | F42: FFPPOA 1 July 2026 | G42: FFPPOA 4 Jan 2027 | H42: FFPPOA 7 June 2027 | I42: FPPOA 17 April 2028 | J42: FFPPOA 1 May 2028
A43: Daily | B43: 0.53 | C43: 0.55 | D43: 0.56 | E43: 0.58 | G43: 0.59 | H43: 0.61 | I43: 0.67
A44: Weekly | B44: 2.7 | C44: 2.78 | D44: 2.81 | E44: 2.89 | G44: 2.92 | H44: 3.01 | I44: 3.29
A46: Meal Allowance
B47: FFPPOA 20 May 2025 | C47: FFPPOA 20 May 2025 | D47: FFPPOA 5 Jan 2026 | E47: FFPPOA 15 June 2026 | F47: FFPPOA 1 July 2026 | G47: FFPPOA 4 Jan 2027 | H47: FFPPOA 7 June 2027 | I47: FPPOA 17 April 2028 | J47: FFPPOA 1 May 2028
A48: Allowance A | B48: 15 | C48: 15.5 | D48: 15.7 | E48: 16.2 | G48: 16.4 | H48: 16.9 | I48: 18.5
A49: Allowance B | B49: 11.9 | C49: 12.3 | D49: 12.5 | E49: 12.9 | G49: 13 | H49: 13.4 | I49: 14.7
A51: Maximum Leave Loading
B52: FFPPOA 20 May 2025 | C52: FFPPOA 20 May 2025 | D52: FFPPOA 5 Jan 2026 | E52: FFPPOA 15 June 2026 | F52: FFPPOA 1 July 2026 | G52: FFPPOA 4 Jan 2027 | H52: FFPPOA 7 June 2027 | I52: FPPOA 17 April 2028 | J52: FFPPOA 1 May 2028
A53: Weekly Salary Exceeds | B53: 2546.93 | C53: 2623.34 | D53: 2654.8201 | E53: 2734.4647 | G53: 2764.5438 | H53: 2847.4801 | I53: 3115.1432
A54: Maximum Loading Amount (on 5 weeks annual leave) | B54: =(B53*0.175)*5 -> 2228.5637 | C54: =(C53*0.175)*5 -> 2295.4225 | D54: =(D53*0.175)*5 -> 2322.9676 | E54: =(E53*0.175)*5 -> 2392.6566 | G54: =(G53*0.175)*5 -> 2418.9758 | H54: =(H53*0.175)*5 -> 2491.5451 | I54: =(I53*0.175)*5 -> 2725.7503
A56: Telephone Allowance
B57: FFPPOA 20 May 2025 | C57: FFPPOA 20 May 2025 | D57: FFPPOA 5 Jan 2026 | E57: FFPPOA 15 June 2026 | F57: FFPPOA 1 July 2026 | G57: FFPPOA 4 Jan 2027 | H57: FFPPOA 7 June 2027 | I57: FPPOA 17 April 2028 | J57: FFPPOA 1 May 2028
A58: Telephone Allowance
A60: Change of Shift for Eligible Employees
B61: FFPPOA 20 May 2025 | C61: FFPPOA 20 May 2025 | D61: FFPPOA 5 Jan 2026 | E61: FFPPOA 15 June 2026 | F61: FFPPOA 1 July 2026 | G61: FFPPOA 4 Jan 2027 | H61: FFPPOA 7 June 2027 | I61: FPPOA 17 April 2028 | J61: FFPPOA 1 May 2028
A62: PEN | B62: 48.1 | C62: 49.5 | D62: 50.1 | E62: 51.6 | G62: 52.2 | H62: 53.8 | I62: 58.9
A64: Qualification Allowance (Registered Psychiatric Nurses only)
A65: Allowance | B65: FFPPOA 20 May 2025 | C65: FFPPOA 20 May 2025 | D65: FFPPOA 5 Jan 2026 | E65: FFPPOA 15 June 2026 | F65: FFPPOA 1 July 2026 | G65: FFPPOA 4 Jan 2027 | H65: FFPPOA 7 June 2027 | I65: FPPOA 17 April 2028 | J65: FFPPOA 1 May 2028
A66: Hospital/Grad Certificate | B66: 60.8 | C66: 62.6 | D66: 63.4 | E66: 65.3 | G66: 66 | H66: 68 | I66: 74.4 | J66: 111.6
A67: Post Grad Dip or Degree | B67: 98.6 | C67: 101.6 | D67: 102.8 | E67: 105.9 | G67: 107.1 | H67: 110.3 | I67: 120.7 | J67: 181.1
A68: Masters | B68: 113.9 | C68: 117.3 | D68: 118.7 | E68: 122.3 | G68: 123.7 | H68: 127.4 | I68: 139.4 | J68: 209.1
A69: Phd | B69: 151.7 | C69: 156.3 | D69: 158.2 | E69: 163 | G69: 164.8 | H69: 169.7 | I69: 185.6 | J69: 278.4
A71: Qualification Allowance (Psychiatric Enrolled Nurses only)
A72: Allowance | B72: FFPPOA 20 May 2025 | C72: FFPPOA 20 May 2025 | D72: FFPPOA 5 Jan 2026 | E72: FFPPOA 15 June 2026 | F72: FFPPOA 1 July 2026 | G72: FFPPOA 4 Jan 2027 | H72: FFPPOA 7 June 2027 | I72: FPPOA 17 April 2028 | J72: FFPPOA 1 May 2028
A73: Level 1
A74: 6 month course | B74: 55.2 | C74: 56.9 | D74: 57.6 | E74: 59.3 | G74: 60 | H74: 61.8 | I74: 67.6 | J74: 101.4
A75: 12 month course | B75: 103.4 | C75: 106.5 | D75: 107.8 | E75: 111 | G75: 112.2 | H75: 115.6 | I75: 126.5 | J75: 189.8
A76: Level 2
A77: 6 month course | B77: 56.9 | C77: 58.6 | D77: 59.3 | E77: 61.1 | G77: 61.8 | H77: 63.7 | I77: 69.7 | J77: 104.6
A78: 12 month course | B78: 106.7 | C78: 109.9 | D78: 111.2 | E78: 114.5 | G78: 115.8 | H78: 119.3 | I78: 130.5 | J78: 195.8
A79: Level 3
A80: 6 month course | B80: 56.9 | C80: 58.6 | D80: 59.3 | E80: 61.1 | G80: 61.8 | H80: 63.7 | I80: 69.7 | J80: 104.6
A81: 12 month course | B81: 106.7 | C81: 109.9 | D81: 111.2 | E81: 114.5 | G81: 115.8 | H81: 119.3 | I81: 130.5 | J81: 195.8
A83: Sole Allowance
B84: FFPPOA 20 May 2025 | C84: FFPPOA 20 May 2025 | D84: FFPPOA 5 Jan 2026 | E84: FFPPOA 15 June 2026 | F84: FFPPOA 1 July 2026 | G84: FFPPOA 4 Jan 2027 | H84: FFPPOA 7 June 2027 | I84: FPPOA 17 April 2028 | J84: FFPPOA 1 May 2028
A85: Sole Allowance | B85: 76 | C85: 78.2 | D85: 79.2 | E85: 81.6 | G85: 82.6 | H85: 85 | I85: 93
A88: Certificate IV TAE Allowance
C89: FFPPOA 20 May 2025 | D89: FFPPOA 5 Jan 2026 | E89: FFPPOA 15 June 2026 | F89: FFPPOA 1 July 2026 | G89: FFPPOA 4 Jan 2027 | H89: FFPPOA 7 Jun 2027 | I89: FPPOA 17 April 2028 | J89: FFPPOA 1 May 2028
C90: 56.6 | D90: 57.3 | E90: 59 | G90: 59.6 | H90: 61.4 | I90: 67.2 | L90: *20 May 25 increase rate is based on the Nurses 15 May rate + 3.5%
A92: Mental Health Officers
A94: Shift Allowances
B95: FFPPOA 20 May 2025 | C95: FFPPOA 20 May 2026 | D95: FFPPOA 1 July 2026 | E95: FFPPOA 20 May 2027 | F95: FFPPOA 20 May 2028 | G95: FFPPOA 1 May 2028
A96: Morning shift | B96: 36.9 | C96: 38 | E96: 39.1 | F96: 40.3
A97: Afternoon Shift | B97: 36.9 | C97: 38 | E97: 39.1 | F97: 40.3
A98: Night Shift (Non-casual) - Monday - Thursday | B98: 88.1 | C98: 90.7 | D98: 102 | E98: 105.1 | F98: 108.3
A99: Night Shift (Non-casual) - Friday and Saturday | B99: 88.1 | C99: 90.7 | D99: 113.4 | E99: 116.8 | F99: 120.3
A100: Night Shift (Non-casual) - Sunday | B100: 159.2 | C100: 164 | D100: 184.5 | E100: 190 | F100: 195.7
A101: Night Shift Casual | B101: 88.1 | C101: 90.7 | D101: 102 | E101: 105.1 | F101: 108.3
A103: Change of Roster
B104: FFPPOA 20 May 2025 | C104: FFPPOA 20 May 2026 | D104: FFPPOA 1 July 2026 | E104: FFPPOA 20 May 2027 | F104: FFPPOA 20 May 2028 | G104: FFPPOA 1 May 2028
A105: Change of roster (8-14 days) | B105: 37.8 | C105: 38.9 | E105: 40.1 | F105: 41.3
A106: Change of roster (7 days) | B106: 75.5 | C106: 77.8 | E106: 80.1 | F106: 82.5
A107: Change of Shift for Eligible Employees | B107: 42.3 | C107: 43.6 | E107: 44.9 | F107: 46.3
A108: Change of Ward Allowance | B108: 37.8 | C108: 38.9 | E108: 40.1 | F108: 41.3
A110: On Call - Non CATT
B111: FFPPOA 20 May 2025 | C111: FFPPOA 20 May 2026 | D111: FFPPOA 1 July 2026 | E111: FFPPOA 20 May 2027 | F111: FFPPOA 20 May 2028 | G111: FFPPOA 1 May 2028
A112: On-call Mon-Friday | B112: 75.8 | C112: 78.1 | E112: 80.4 | F112: 82.8
A113: On-call Allowance - Saturday | B113: 113.7 | C113: 117.1 | E113: 120.6 | F113: 124.2
A114: On-call Allowance - Sunday and Weekday Public Holiday | B114: 132.7 | C114: 136.7 | E114: 140.8 | F114: 145
A115: On-call Allowance - Weekend Public Holiday | B115: 199 | C115: 205 | E115: 211.2 | F115: 217.5
A117: Uniform Allowance
B118: FFPPOA 20 May 2025 | C118: FFPPOA 20 May 2026 | D118: FFPPOA 1 July 2026 | E118: FFPPOA 20 May 2027 | F118: FFPPOA 20 May 2028 | G118: FFPPOA 1 May 2028
A119: Daily | B119: 1.97 | C119: 2.03 | E119: 2.09 | F119: 2.15
A120: Weekly | B120: 9.66 | C120: 9.95 | E120: 10.25 | F120: 10.56
A122: Laundry Allowance
...

Sheet AHP1
A1: Classification | B1: Paycode | C1: FFPPOA 20 May 2025 | D1: FFPPOA 20 May 2026 | E1: FFPPOA 1 October 2026 | F1: FFPPOA 20 May 2027 | G1: FFPPOA 1 July 2027 | H1: FFPPOA 20 May 2028 | I1: FFPPOA 1 July 2028 | K1: Award Classification | L1: Award Rate - non aged care Employees (1/10/26) | M1: Rate Above Award
A2: AHP - Aboriginal Health Worker - Trainee - *These rates apply to specifically funded positions. Employer initiated roles are paid in accordance with AHP Grade 1 structure.
A3: Aboriginal Health Worker Trainee - Year 1 | B3: SP40 | C3: 1290.9 | D3: 1329.6 | E3: N/A | F3: 1329.6 | G3: N/A | H3: 1329.6 | I3: N/A
A4: Aboriginal Health Worker Trainee - Year 2 | B4: SP41 | C4: 1408.4 | D4: 1450.7 | E4: N/A | F4: 1450.7 | G4: N/A | H4: 1450.7 | I4: N/A
A5: Aboriginal Health Worker Trainee - Year 3 | B5: SP42 | C5: 1532.1 | D5: 1578.1 | E5: N/A | F5: 1578.1 | G5: N/A | H5: 1578.1 | I5: N/A
A6: AHP - Aboriginal Mental Health Clinician
A7: Grade 1, Year 1 (HPS Year 1 -3) | B7: AG21 | C7: 1139.6 | D7: 1173.8 | E7: 1240.4 | F7: 1277.6 | G7: 1315.9 | H7: 1355.4 | I7: 1391.3 | K7: ='Award Table'!A2 -> Support Services Level 2 | L7: ='Award Table'!B2 -> 1065.2 | M7: 175.2
A8: Grade 2, Year 1 (Grad Year) | B8: AG28 | C8: 1398.2 | D8: 1440.1 | E8: 1521.8 | F8: 1567.4 | G8: 1614.4 | H8: 1662.9 | I8: 1706.9 | K8: HPSS 1.1 AQF 7 | L8: 1308.9 | M8: 212.9
A9: Grade 2, Year 2 | B9: AG29 | C9: 1469.2 | D9: 1513.3 | E9: 1599.1 | F9: 1647.1 | G9: 1696.5 | H9: 1747.4 | I9: 1793.7 | K9: HPSS 1.2 | L9: 1409 | M9: 190.1
A10: Grade 2, Year 3 | B10: AG30 | C10: 1559.1 | D10: 1605.9 | E10: 1697 | F10: 1747.9 | G10: 1800.3 | H10: 1854.3 | I10: 1903.4 | K10: HPSS 1.2 | L10: 1409 | M10: 288
A11: Grade 2, Year 4 | B11: AG31 | C11: 1627 | D11: 1675.8 | E11: 1770.8 | F11: 1823.9 | G11: 1878.7 | H11: 1935 | I11: 1986.3 | K11: HPSS 1.3 | L11: 1565.3 | M11: 205.5
A12: Grade 2, Year 5 | B12: AG32 | C12: 1700.9 | D12: 1751.9 | E12: 1851.2 | F12: 1906.8 | G12: 1964 | H12: 2022.9 | I12: 2076.5 | K12: HPSS 1.3 | L12: 1565.3 | M12: 285.9
A13: Grade 3, Year 1 | B13: AG33 | C13: 1787.4 | D13: 1841 | E13: 1945.4 | F13: 2003.7 | G13: 2063.9 | H13: 2125.8 | I13: 2182.1 | K13: HPSS 2.1 | L13: 1945.4 | M13: 0
A14: Grade 3, Year 2 | B14: AG34 | C14: 1869.4 | D14: 1925.5 | E14: 2034.7 | F14: 2095.7 | G14: 2158.6 | H14: 2223.3 | I14: 2282.3 | K14: HPSS 2.1 | L14: 1945.4 | M14: 89.3
A15: Grade 3, Year 3 | B15: AG35 | C15: 1984.2 | D15: 2043.7 | E15: 2159.6 | F15: 2224.4 | G15: 2291.1 | H15: 2359.8 | I15: 2422.4 | K15: HPSS 2.1 | L15: 1945.4 | M15: 214.2
A16: Grade 3, Year 4 | B16: AG36 | C16: 2054.5 | D16: 2116.1 | E16: 2236.1 | F16: 2303.2 | G16: 2372.3 | H16: 2443.4 | I16: 2508.2 | K16: HPSS 2.1 | L16: 1945.4 | M16: 290.7
A17: Grade 4, Year 1 | B17: AG37 | C17: 2062.7 | D17: 2124.6 | E17: 2245.1 | F17: 2312.4 | G17: 2381.8 | H17: 2453.2 | I17: 2518.3 | K17: HPSS 3 | L17: 1983.2 | M17: 261.9
A18: Grade 4, Year 2 | B18: AG38 | C18: 2135.2 | D18: 2199.3 | E18: 2324 | F18: 2393.7 | G18: 2465.5 | H18: 2539.5 | I18: 2606.8 | K18: HPSS 3 | L18: 1983.2 | M18: 340.8
A19: Grade 4, Year 3 | B19: AG39 | C19: 2192.3 | D19: 2258.1 | E19: 2386.1 | F19: 2457.7 | G19: 2531.4 | H19: 2607.4 | I19: 2676.5 | K19: HPSS 3 | L19: 1983.2 | M19: 402.9
A20: Grade 4, Year 4 | B20: AG40 | C20: 2356.7 | D20: 2427.401 | E20: 2565 | F20: 2642 | G20: 2721.2 | H20: 2802.9 | I20: 2877.2 | K20: HPSS 3 | L20: ='Award Table'!B38 -> 1983.2 | M20: 581.8
A21: Grade 5 Year 1 | B21: AG49 | C21: 2497.3 | D21: 2572.2 | E21: 2718 | F21: 2799.6 | G21: 2883.6 | H21: 2970.1 | I21: 3048.8 | K21: HPSS 4 | L21: 2499.1 | M21: 218.9
A22: Grade 5 Year 2 | B22: AG50 | C22: 2581.5 | D22: 2658.9 | E22: 2809.7 | F22: 2893.9 | G22: 2980.8 | H22: 3070.2 | I22: 3151.6 | K22: HPSS 4 | L22: 2499.1 | M22: 310.6
A23: Grade 5 Year 3 | B23: AG51 | C23: 2666.4 | D23: 2746.4 | E23: 2902.1 | F23: 2989.2 | G23: 3078.9 | H23: 3171.2 | I23: 3255.3 | K23: HPSS 4 | L23: 2499.1 | M23: 403
A24: Grade 5 Year 4 | B24: AG52 | C24: 2751.9 | D24: 2834.5 | E24: 2995.2 | F24: 3085.1 | G24: 3177.6 | H24: 3273 | I24: 3359.7 | K24: HPSS 4 | L24: 2499.1 | M24: 496.1
A25: Grade 5 Clin Educator | B25: AG53 | C25: 2751.9 | D25: 2834.5 | E25: 2995.2 | F25: 3085.1 | G25: 3177.6 | H25: 3273 | I25: 3359.7 | K25: HPSS 4 | L25: 2499.1 | M25: 496.1
A26: Grade 6 | B26: AG54 | C26: 3104.8 | D26: 3197.9 | E26: 3197.9 | F26: 3293.8 | G26: 3392.7 | H26: 3494.4 | I26: 3587 | K26: HPSS 4 | L26: 2499.1 | M26: 698.8
A27: Grade 7 | B27: AG55 | C27: 3371.5 | D27: 3472.6 | E27: 3472.6 | F27: 3576.8 | G27: 3684.1 | H27: 3794.6 | I27: 3895.2 | K27: HPSS 4 | L27: 2499.1 | M27: 973.5
A28: Grade 8 | B28: AG56 | C28: 3770.1 | D28: 3883.2 | E28: 3883.2 | F28: 3999.7 | G28: 4119.7 | H28: 4243.3 | I28: 4355.7 | K28: HPSS 4 | L28: 2499.1 | M28: 1384.1
A29: Classification | B29: Paycode | C29: FFPPOA 20 May 2025 | D29: FFPPOA 20 May 2026 | E29: FFPPOA 1 October 2026 | F29: FFPPOA 20 May 2027 | G29: FFPPOA 1 July 2027 | H29: FFPPOA 20 May 2028 | I29: FFPPOA 1 July 2028 | K29: Award Classification | L29: Award Rate - non aged care Employees (1/10/26) | M29: Rate Above Award
A30: AHP - Art Therapist
A31: Grade 1, Year 1 (HPS Year 1 -3) | B31: YD50 | C31: 1139.6 | D31: 1173.8 | E31: 1240.4 | F31: 1277.6 | G31: 1315.9 | H31: 1355.4 | I31: 1391.3 | K31: Support Services Level 2 | L31: ='Award Table'!B2 -> 1065.2 | M31: 108.6
A32: Grade 2, Year 1 (Grad Year) | B32: YD57 | C32: 1398.2 | D32: 1440.1 | E32: 1521.8 | F32: 1567.4 | G32: 1614.4 | H32: 1662.9 | I32: 1706.9 | K32: HPSS 1.1 AQF 7 | L32: 1308.9 | M32: 131.2
A33: Grade 2, Year 2 | B33: YD58 | C33: 1469.2 | D33: 1513.3 | E33: 1599.1 | F33: 1647.1 | G33: 1696.5 | H33: 1747.4 | I33: 1793.7 | K33: HPSS 1.2 | L33: 1409 | M33: 104.3
A34: Grade 2, Year 3 | B34: YD59 | C34: 1559.1 | D34: 1605.9 | E34: 1697 | F34: 1747.9 | G34: 1800.3 | H34: 1854.3 | I34: 1903.4 | K34: HPSS 1.2 | L34: 1409 | M34: 196.9
A35: Grade 2, Year 4 | B35: YD60 | C35: 1627 | D35: 1675.8 | E35: 1770.8 | F35: 1823.9 | G35: 1878.7 | H35: 1935 | I35: 1986.3 | K35: HPSS 1.3 | L35: 1565.3 | M35: 110.5
A36: Grade 2, Year 5 | B36: AG57 | C36: 1700.9 | D36: 1751.9 | E36: 1851.2 | F36: 1906.8 | G36: 1964 | H36: 2022.9 | I36: 2076.5 | K36: HPSS 1.3 | L36: 1565.3 | M36: 186.6
A37: Grade 3, Year 1 | B37: YD61 | C37: 1787.4 | D37: 1841 | E37: 1945.4 | F37: 2003.7 | G37: 2063.9 | H37: 2125.8 | I37: 2182.1 | K37: HPSS 2.1 | L37: 1945.4 | M37: 0
A38: Grade 3, Year 2 | B38: YD62 | C38: 1869.4 | D38: 1925.5 | E38: 2034.7 | F38: 2095.7 | G38: 2158.6 | H38: 2223.3 | I38: 2282.3 | K38: HPSS 2.1 | L38: 1945.4 | M38: 89.3
A39: Grade 3, Year 3 | B39: YD63 | C39: 1984.2 | D39: 2043.7 | E39: 2159.6 | F39: 2224.4 | G39: 2291.1 | H39: 2359.8 | I39: 2422.4 | K39: HPSS 2.1 | L39: 1945.4 | M39: 98.3
A40: Grade 3, Year 4 | B40: YD64 | C40: 2054.5 | D40: 2116.1 | E40: 2236.1 | F40: 2303.2 | G40: 2372.3 | H40: 2443.4 | I40: 2508.2 | K40: HPSS 2.1 | L40: 1945.4 | M40: 170.7
A41: Grade 4, Year 1 | B41: YD66 | C41: 2062.7 | D41: 2124.6 | E41: 2245.1 | F41: 2312.4 | G41: 2381.8 | H41: 2453.2 | I41: 2518.3 | K41: HPSS 3 | L41: 1983.2 | M41: 141.4
A42: Grade 4, Year 2 | B42: YD67 | C42: 2135.2 | D42: 2199.3 | E42: 2324 | F42: 2393.7 | G42: 2465.5 | H42: 2539.5 | I42: 2606.8 | K42: HPSS 3 | L42: 1983.2 | M42: 216.1
A43: Grade 4, Year 3 | B43: YD68 | C43: 2192.3 | D43: 2258.1 | E43: 2386.1 | F43: 2457.7 | G43: 2531.4 | H43: 2607.4 | I43: 2676.5 | K43: HPSS 3 | L43: 1983.2 | M43: 274.9
A44: Grade 4, Year 4 | B44: YD69 | C44: 2356.7 | D44: 2427.401 | E44: 2565 | F44: 2642 | G44: 2721.2 | H44: 2802.9 | I44: 2877.2 | K44: HPSS 3 | L44: ='Award Table'!B62 -> 1230.4 | M44: 1197.001
A45: Grade 5 Year 1 | B45: AG58 | C45: 2497.3 | D45: 2572.2 | E45: 2718 | F45: 2799.6 | G45: 2883.6 | H45: 2970.1 | I45: 3048.8 | K45: HPSS 4 | L45: 2499.1 | M45: 73.1
A46: Grade 5 Year 2 | B46: AG59 | C46: 2581.5 | D46: 2658.9 | E46: 2809.7 | F46: 2893.9 | G46: 2980.8 | H46: 3070.2 | I46: 3151.6 | K46: HPSS 4 | L46: 2499.1 | M46: 159.8
A47: Grade 5 Year 3 | B47: AG60 | C47: 2666.4 | D47: 2746.4 | E47: 2902.1 | F47: 2989.2 | G47: 3078.9 | H47: 3171.2 | I47: 3255.3 | K47: HPSS 4 | L47: 2499.1 | M47: 247.3
A48: Grade 5 Year 4 | B48: AG61 | C48: 2751.9 | D48: 2834.5 | E48: 2995.2 | F48: 3085.1 | G48: 3177.6 | H48: 3273 | I48: 3359.7 | K48: HPSS 4 | L48: 2499.1 | M48: 335.4
A49: Grade 5 Clin Educator | B49: AG62 | C49: 2751.9 | D49: 2834.5 | E49: 2995.2 | F49: 3085.1 | G49: 3177.6 | H49: 3273 | I49: 3359.7 | K49: HPSS 4 | L49: 2499.1 | M49: 335.4
A50: Grade 6 | B50: AG63 | C50: 3104.8 | D50: 3197.9 | E50: 3197.9 | F50: 3293.8 | G50: 3392.7 | H50: 3494.4 | I50: 3587 | K50: HPSS 4 | L50: 2499.1 | M50: 698.8
A51: Grade 7 | B51: AG64 | C51: 3371.5 | D51: 3472.6 | E51: 3472.6 | F51: 3576.8 | G51: 3684.1 | H51: 3794.6 | I51: 3895.2 | K51: HPSS 4 | L51: 2499.1 | M51: 973.5
A52: Grade 8 | B52: AG65 | C52: 3770.1 | D52: 3883.2 | E52: 3883.2 | F52: 3999.7 | G52: 4119.7 | H52: 4243.3 | I52: 4355.7 | K52: HPSS 4 | L52: 2499.1 | M52: 1384.1
A53: Classification | B53: Paycode | C53: FFPPOA 20 May 2025 | D53: FFPPOA 20 May 2026 | E53: FFPPOA 1 October 2026 | F53: FFPPOA 20 May 2027 | G53: FFPPOA 1 July 2027 | H53: FFPPOA 20 May 2028 | I53: FFPPOA 1 July 2028 | K53: Award Classification | L53: Award Rate - non aged care Employees (1/10/26) | M53: Rate Above Award
A54: AHP - Health Information Managers
A55: Grade 1, Year 1 (HPS Year 1 -3) | B55: YA58 | C55: 1139.6 | D55: 1173.8 | E55: 1240.4 | F55: 1277.6 | G55: 1315.9 | H55: 1355.4 | I55: 1391.3 | K55: =K31 -> Support Services Level 2 | L55: =L31 -> 1065.2 | M55: 108.6
A56: Grade 2, Year 1 (Grad Year) | B56: YA65 | C56: 1398.2 | D56: 1440.1 | E56: 1521.8 | F56: 1567.4 | G56: 1614.4 | H56: 1662.9 | I56: 1706.9 | K56: =K32 -> HPSS 1.1 AQF 7 | L56: 1308.9 | M56: 131.2
A57: Grade 2, Year 2 | B57: YA66 | C57: 1469.2 | D57: 1513.3 | E57: 1599.1 | F57: 1647.1 | G57: 1696.5 | H57: 1747.4 | I57: 1793.7 | K57: =K33 -> HPSS 1.2 | L57: 1409 | M57: 104.3
A58: Grade 2, Year 3 | B58: YA67 | C58: 1559.1 | D58: 1605.9 | E58: 1697 | F58: 1747.9 | G58: 1800.3 | H58: 1854.3 | I58: 1903.4 | K58: =K34 -> HPSS 1.2 | L58: 1409 | M58: 196.9
A59: Grade 2, Year 4 | B59: YA68 | C59: 1627 | D59: 1675.8 | E59: 1770.8 | F59: 1823.9 | G59: 1878.7 | H59: 1935 | I59: 1986.3 | K59: =K35 -> HPSS 1.3 | L59: 1565.3 | M59: 110.5
A60: Grade 2, Year 5 | B60: AG66 | C60: 1700.9 | D60: 1751.9 | E60: 1851.2 | F60: 1906.8 | G60: 1964 | H60: 2022.9 | I60: 2076.5 | K60: =K36 -> HPSS 1.3 | L60: 1565.3 | M60: 186.6
A61: Grade 3, Year 1 | B61: YA69 | C61: 1787.4 | D61: 1841 | E61: 1945.4 | F61: 2003.7 | G61: 2063.9 | H61: 2125.8 | I61: 2182.1 | K61: =K37 -> HPSS 2.1 | L61: 1945.4 | M61: 0
A62: Grade 3, Year 2 | B62: YA70 | C62: 1869.4 | D62: 1925.5 | E62: 2034.7 | F62: 2095.7 | G62: 2158.6 | H62: 2223.3 | I62: 2282.3 | K62: =K38 -> HPSS 2.1 | L62: 1945.4 | M62: 89.3
A63: Grade 3, Year 3 | B63: YA71 | C63: 1984.2 | D63: 2043.7 | E63: 2159.6 | F63: 2224.4 | G63: 2291.1 | H63: 2359.8 | I63: 2422.4 | K63: =K39 -> HPSS 2.1 | L63: 1945.4 | M63: 98.3
A64: Grade 3, Year 4 | B64: YA72 | C64: 2054.5 | D64: 2116.1 | E64: 2236.1 | F64: 2303.2 | G64: 2372.3 | H64: 2443.4 | I64: 2508.2 | K64: =K40 -> HPSS 2.1 | L64: 1945.4 | M64: 170.7
A65: Grade 4, Year 1 | B65: YD81 | C65: 2062.7 | D65: 2124.6 | E65: 2245.1 | F65: 2312.4 | G65: 2381.8 | H65: 2453.2 | I65: 2518.3 | K65: =K41 -> HPSS 3 | L65: 1983.2 | M65: 141.4
A66: Grade 4, Year 2 | B66: YD82 | C66: 2135.2 | D66: 2199.3 | E66: 2324 | F66: 2393.7 | G66: 2465.5 | H66: 2539.5 | I66: 2606.8 | K66: =K42 -> HPSS 3 | L66: 1983.2 | M66: 216.1
A67: Grade 4, Year 3 | B67: YD83 | C67: 2192.3 | D67: 2258.1 | E67: 2386.1 | F67: 2457.7 | G67: 2531.4 | H67: 2607.4 | I67: 2676.5 | K67: =K43 -> HPSS 3 | L67: 1983.2 | M67: 274.9
A68: Grade 4, Year 4 | B68: YD84 | C68: 2356.7 | D68: 2427.401 | E68: 2565 | F68: 2642 | G68: 2721.2 | H68: 2802.9 | I68: 2877.2 | K68: =K44 -> HPSS 3 | L68: ='Award Table'!B86 -> 2111.6 | M68: 315.801
A69: Grade 5 Year 1 | B69: AG67 | C69: 2497.3 | D69: 2572.2 | E69: 2718 | F69: 2799.6 | G69: 2883.6 | H69: 2970.1 | I69: 3048.8 | K69: =K45 -> HPSS 4 | L69: 2499.1 | M69: 73.1
A70: Grade 5 Year 2 | B70: AG68 | C70: 2581.5 | D70: 2658.9 | E70: 2809.7 | F70: 2893.9 | G70: 2980.8 | H70: 3070.2 | I70: 3151.6 | K70: =K46 -> HPSS 4 | L70: 2499.1 | M70: 159.8
A71: Grade 5 Year 3 | B71: AG69 | C71: 2666.4 | D71: 2746.4 | E71: 2902.1 | F71: 2989.2 | G71: 3078.9 | H71: 3171.2 | I71: 3255.3 | K71: =K47 -> HPSS 4 | L71: 2499.1 | M71: 247.3
A72: Grade 5 Year 4 | B72: AG70 | C72: 2751.9 | D72: 2834.5 | E72: 2995.2 | F72: 3085.1 | G72: 3177.6 | H72: 3273 | I72: 3359.7 | K72: =K48 -> HPSS 4 | L72: 2499.1 | M72: 335.4
A73: Grade 5 Clin Educator | B73: AG71 | C73: 2751.9 | D73: 2834.5 | E73: 2995.2 | F73: 3085.1 | G73: 3177.6 | H73: 3273 | I73: 3359.7 | K73: =K49 -> HPSS 4 | L73: 2499.1 | M73: 335.4
A74: Grade 6 | B74: AG72 | C74: 3104.8 | D74: 3197.9 | E74: 3197.9 | F74: 3293.8 | G74: 3392.7 | H74: 3494.4 | I74: 3587 | K74: =K50 -> HPSS 4 | L74: 2499.1 | M74: 698.8
A75: Grade 7 | B75: AG73 | C75: 3371.5 | D75: 3472.6 | E75: 3472.6 | F75: 3576.8 | G75: 3684.1 | H75: 3794.6 | I75: 3895.2 | K75: =K51 -> HPSS 4 | L75: 2499.1 | M75: 973.5
A76: Grade 8 | B76: AG74 | C76: 3770.1 | D76: 3883.2 | E76: 3883.2 | F76: 3999.7 | G76: 4119.7 | H76: 4243.3 | I76: 4355.7 | K76: =K52 -> HPSS 4 | L76: 2499.1 | M76: 1384.1
A77: Classification | B77: Paycode | C77: FFPPOA 20 May 2025 | D77: FFPPOA 20 May 2026 | E77: FFPPOA 1 October 2026 | F77: FFPPOA 20 May 2027 | G77: FFPPOA 1 July 2027 | H77: FFPPOA 20 May 2028 | I77: FFPPOA 1 July 2028 | K77: Award Classification | L77: Award Rate - non aged care Employees (1/10/26) | M77: Rate Above Award
A78: AHP - Physiotherapists
A79: Grade 1, Year 1 (HPS Year 1 -3) | B79: YA85 | C79: 1139.6 | D79: 1173.8 | E79: 1240.4 | F79: 1277.6 | G79: 1315.9 | H79: 1355.4 | I79: 1391.3 | K79: Support Services Level 2 | L79: =L31 -> 1065.2 | M79: 108.6
A80: Grade 2, Year 1 (Grad Year) | B80: YA92 | C80: 1398.2 | D80: 1440.1 | E80: 1521.8 | F80: 1567.4 | G80: 1614.4 | H80: 1662.9 | I80: 1706.9 | K80: =K32 -> HPSS 1.1 AQF 7 | L80: 1308.9 | M80: 131.2
A81: Grade 2, Year 2 | B81: YA93 | C81: 1469.2 | D81: 1513.3 | E81: 1599.1 | F81: 1647.1 | G81: 1696.5 | H81: 1747.4 | I81: 1793.7 | K81: =K33 -> HPSS 1.2 | L81: 1409 | M81: 104.3
A82: Grade 2, Year 3 | B82: YA94 | C82: 1559.1 | D82: 1605.9 | E82: 1697 | F82: 1747.9 | G82: 1800.3 | H82: 1854.3 | I82: 1903.4 | K82: =K34 -> HPSS 1.2 | L82: 1409 | M82: 196.9
A83: Grade 2, Year 4 | B83: YA95 | C83: 1627 | D83: 1675.8 | E83: 1770.8 | F83: 1823.9 | G83: 1878.7 | H83: 1935 | I83: 1986.3 | K83: =K35 -> HPSS 1.3 | L83: 1565.3 | M83: 110.5
A84: Grade 2, Year 5 | B84: AG75 | C84: 1700.9 | D84: 1751.9 | E84: 1851.2 | F84: 1906.8 | G84: 1964 | H84: 2022.9 | I84: 2076.5 | K84: =K36 -> HPSS 1.3 | L84: 1565.3 | M84: 186.6
A85: Grade 3, Year 1 | B85: YA96 | C85: 1787.4 | D85: 1841 | E85: 1945.4 | F85: 2003.7 | G85: 2063.9 | H85: 2125.8 | I85: 2182.1 | K85: =K37 -> HPSS 2.1 | L85: 1945.4 | M85: 0
A86: Grade 3, Year 2 | B86: YA97 | C86: 1869.4 | D86: 1925.5 | E86: 2034.7 | F86: 2095.7 | G86: 2158.6 | H86: 2223.3 | I86: 2282.3 | K86: =K38 -> HPSS 2.1 | L86: 1945.4 | M86: 89.3
A87: Grade 3, Year 3 | B87: YA98 | C87: 1984.2 | D87: 2043.7 | E87: 2159.6 | F87: 2224.4 | G87: 2291.1 | H87: 2359.8 | I87: 2422.4 | K87: =K39 -> HPSS 2.1 | L87: 1945.4 | M87: 98.3
A88: Grade 3, Year 4 | B88: YA99 | C88: 2054.5 | D88: 2116.1 | E88: 2236.1 | F88: 2303.2 | G88: 2372.3 | H88: 2443.4 | I88: 2508.2 | K88: =K40 -> HPSS 2.1 | L88: 1945.4 | M88: 170.7
A89: Grade 4, Year 1 | B89: HR5 | C89: 2062.7 | D89: 2124.6 | E89: 2245.1 | F89: 2312.4 | G89: 2381.8 | H89: 2453.2 | I89: 2518.3 | K89: =K41 -> HPSS 3 | L89: 1983.2 | M89: 141.4
A90: Grade 4, Year 2 | B90: HR6 | C90: 2135.2 | D90: 2199.3 | E90: 2324 | F90: 2393.7 | G90: 2465.5 | H90: 2539.5 | I90: 2606.8 | K90: =K42 -> HPSS 3 | L90: 1983.2 | M90: 216.1
A91: Grade 4, Year 3 | B91: HR7 | C91: 2192.3 | D91: 2258.1 | E91: 2386.1 | F91: 2457.7 | G91: 2531.4 | H91: 2607.4 | I91: 2676.5 | K91: =K43 -> HPSS 3 | L91: 1983.2 | M91: 274.9
... A100: Grade 8 | B100: AG83 | C100: 3770.1 | D100: 3883.2 | E100: 3883.2 | F100: 3999.7 | G100: 4119.7 | H100: 4243.3 | I100: 4355.7 | K100: =K52 -> HPSS 4 | L100: 2499.1 | M100: 1384.1
A101: Classification | B101: Paycode | C101: FFPPOA 20 May 2025 | D101: FFPPOA 20 May 2026 | E101: FFPPOA 1 October 2026 | F101: FFPPOA 20 May 2027 | G101: FFPPOA 1 July 2027 | H101: FFPPOA 20 May 2028 | I101: FFPPOA 1 July 2028 | K101: Award Classification | L101: Award Rate - non aged care Employees (1/10/26) | M101: Rate Above Award
A102: AHP - Occupational Therapists
A103: Grade 1, Year 1 (HPS Year 1 -3) | B103: YB13 | C103: 1139.6 | D103: 1173.8 | E103: 1240.4 | F103: 1277.6 | G103: 1315.9 | H103: 1355.4 | I103: 1391.3 | K103: =K31 -> Support Services Level 2 | L103: =L31 -> 1065.2 | M103: 108.6
A104: Grade 2, Year 1 (Grad Year) | B104: YB20 | C104: 1398.2 | D104: 1440.1 | E104: 1521.8 | F104: 1567.4 | G104: 1614.4 | H104: 1662.9 | I104: 1706.9 | K104: =K32 -> HPSS 1.1 AQF 7 | L104: =L32 -> 1308.9 | M104: 131.2
A105: Grade 2, Year 2 | B105: YB21 | C105: 1469.2 | D105: 1513.3 | E105: 1599.1 | F105: 1647.1 | G105: 1696.5 | H105: 1747.4 | I105: 1793.7 | K105: =K33 -> HPSS 1.2 | L105: =L33 -> 1409 | M105: 104.3
A106: Grade 2, Year 3 | B106: YB22 | C106: 1559.1 | D106: 1605.9 | E106: 1697 | F106: 1747.9 | G106: 1800.3 | H106: 1854.3 | I106: 1903.4 | K106: =K34 -> HPSS 1.2 | L106: =L34 -> 1409 | M106: 196.9
A107: Grade 2, Year 4 | B107: YB23 | C107: 1627 | D107: 1675.8 | E107: 1770.8 | F107: 1823.9 | G107: 1878.7 | H107: 1935 | I107: 1986.3 | K107: =K35 -> HPSS 1.3 | L107: =L35 -> 1565.3 | M107: 110.5
A108: Grade 2, Year 5 | B108: AJ10 | C108: 1700.9 | D108: 1751.9 | E108: 1851.2 | F108: 1906.8 | G108: 1964 | H108: 2022.9 | I108: 2076.5 | K108: =K36 -> HPSS 1.3 | L108: =L36 -> 1565.3 | M108: 186.6
...

Sheet AHP2
A1: Classification | B1: Paycode | C1: FFPPOA 20 May 2025 | D1: FFPPOA 20 May 2026 | E1: FFPPOA 1/10/2026 - 5.65% | F1: Minimum Award Rate | G1: Award Classification
A2: Welfare Workers AQF5 or below (6-12 month course) | F2: AQF5
A3: Class 1, Year 1 | B3: YA1 | C3: 1147.1 | D3: 1181.5 | E3: 1248.5 | F3: 1232.7 | G3: Level 1 (AQF5) - Year 1
A4: Class 1, Year 2 | B4: YA2 | C4: 1208.8 | D4: 1245.1 | E4: 1315.6972 | F4: 1308.8 | G4: Level 1 (AQF5) - Year 2
A5: Class 1, Year 3 | B5: YA3 | C5: 1235.4 | D5: 1272.5 | E5: 1344.7 | F5: 1308.8 | G5: Level 1 (AQF5) - Year 3
A6: Class 1, Year 4 | B6: YA4 | C6: 1280.1 | D6: 1318.5 | E6: 1426 | F6: 1426 | G6: Level 1 (AQF5) - Year 4
A7: Class 1, Year 5 | B7: YA5 | E7: 1436.6 | F7: 1426 | G7: Level 1 (AQF5) - Year 5
A8: Class 1, Year 6 | B8: YA6 | E8: 1487.5 | F8: 1426 | G8: Level 1 (AQF5) - Year 6
A9: Class 1, Year 7 | B9: YA7 | C9: 1443.1 | D9: 1486.4 | E9: 1570.7 | F9: 1541.3 | G9: Level 1 (AQF5) - Year 7
A10: Welfare Workers AQF6 (12 - 24 month course) | F10: AQF6
A11: Class 1, Year 1 | B11: YE1 | C11: 1147.1 | D11: 1181.5 | E11: 1248.5 | F11: 1232.7 | G11: Level 1 (AQF6) - Year 1
A12: Class 1, Year 2 | B12: YE2 | C12: 1208.8 | D12: 1245.1 | E12: 1315.6972 | F12: 1308.8 | G12: Level 1 (AQF6) - Year 2
A13: Class 1, Year 3 | B13: YE3 | C13: 1235.4 | D13: 1272.5 | E13: 1344.7 | F13: 1308.8 | G13: Level 1 (AQF6) - Year 3
A14: Class 1, Year 4 | B14: YE4 | C14: 1280.1 | D14: 1318.5 | E14: 1483.3 | F14: 1483.3 | G14: Level 1 (AQF6) - Year 4
A15: Class 1, Year 5 | B15: YE5 | E15: 1483.3 | F15: 1483.3 | G15: Level 1 (AQF6) - Year 5
A16: Class 1, Year 6 | B16: YE6 | E16: 1487.5 | F16: 1483.3 | G16: Level 1 (AQF6) - Year 6
A17: Class 1, Year 7 | B17: YE7 | C17: 1443.1 | D17: 1486.4 | E17: 1659.3 | F17: 1659.3 | G17: Level 1 (AQF6) - Year 7
A18: Welfare Workers AQF7 (Degree) | F18: AQF7
A19: Class 1, Year 1 | B19: YE8 | C19: 1147.1 | D19: 1181.5 | E19: 1308.8 | F19: 1308.8 | G19: Level 1 (AQF7) - Year 1
A20: Class 1, Year 2 | B20: YE9 | C20: 1208.8 | D20: 1245.1 | E20: 1409 | F20: 1409 | G20: Level 1 (AQF7) - Year 2
A21: Class 1, Year 3 | B21: YE10 | C21: 1235.4 | D21: 1272.5 | E21: 1409 | F21: 1409 | G21: Level 1 (AQF7) - Year 3
A22: Class 1, Year 4 | B22: YE11 | C22: 1280.1 | D22: 1318.5 | E22: 1565.3 | F22: 1565.3 | G22: Level 1 (AQF7) - Year 4
A23: Class 1, Year 5 | B23: YE12 | E23: 1565.3 | F23: 1565.3 | G23: Level 1 (AQF7) - Year 5
A24: Class 1, Year 6 | B24: YE13 | E24: 1565.3 | F24: 1565.3 | G24: Level 1 (AQF7) - Year 6
A25: Class 1, Year 7 | B25: YE14 | C25: 1443.1 | D25: 1486.4 | E25: 1689.5 | F25: 1689.5 | G25: Level 1 (AQF7) - Year 7
A27: Class 2, Year 1 | B27: YA8 | E27: 1506.9 | F27: 1506.8542 | G27: Level 1 but if supervising/senior clinician/Specialist/Educator then paid at Class III
A28: Class 2, Year 2 | B28: YA9 | E28: 1550.2 | F28: 1550.1789 | G28: Level 1 but if supervising/senior clinician/Specialist/Educator then paid at Class III
A29: Class 2, Year 3 | B29: YA10 | E29: 1609.4 | F29: 1609.3541 | G29: Level 1 but if supervising/senior clinician/Specialist/Educator then paid at Class III
A30: Class 2, Year 4 | B30: YA11 | E30: 1673.3 | F30: 1673.2844 | G30: Level 1 but if supervising/senior clinician/Specialist/Educator then paid at Class III
A31: Class 2, Year 7 (Degree Qualified Only) | B31: YE15 | E31: 1689.5 | F31: 1689.5 | G31: ONLY DEGREE QUALIFIED - Treated as Level 1 but if supervising/senior clinician/Specialist/Educator then paid at Class III
A32: Class 3, Year 1 | B32: YA12 | C32: 1451.1 | D32: 1494.6 | E32: 1945.4 | F32: 1945.4 | G32: Level 2.1 Year 1
A33: Class 3, Year 2 | B33: YA13 | C33: 1499.9 | D33: 1544.9 | E33: 1945.4 | F33: 1945.4 | G33: Level 2.1 Year 2
A34: Class 3, Year 3 | B34: YA14 | C34: 1584.1 | D34: 1631.6 | E34: 1945.4 | F34: 1945.4 | G34: Level 2.1 Year 3
A35: Class 3, Year 4 and 5 | B35: HP71 | E35: 1945.4 | F35: 1945.4 | G35: Level 2.1 Year 4 and 5
A36: Class 3, Year 6 | B36: YE16 | E36: 1983.2 | F36: 1983.2 | G36: Level 2.2
A37: Class 4, Year 1 | B37: YA15 | E37: 1983.2 | F37: 1983.2 | G37: Level 3
A38: Class 4, Year 2 | B38: YA16 | E38: 1983.2 | F38: 1983.2 | G38: Level 3
A39: Class 4, Year 3 | B39: YA17 | E39: 1983.2 | F39: 1983.2 | G39: Level 3
A40: Class 4, Year 4 (Health Professional Level 3, Pay Point 4) | B40: AA32 | E40: 1983.2 | F40: 1983.2 | G40: Level 3
A41: Class 4, Year 5 (Health Professional Level 3, Pay Point 5) | B41: AA33 | E41: 1983.2 | F41: 1983.2 | G41: Level 3
A42: AHP - Youth Workers (<AQF7))*
A43: Class 1, Year 1 | B43: YA18 | C43: 1205.2 | D43: 1241.4 | E43: 1311.8 | F43: 1232.7 | G43: Level 1 (AQF5) - Year 1
A44: Class 1, Year 2 | B44: YA19 | C44: 1270.7 | D44: 1308.8 | E44: 1383 | F44: 1308.8 | G44: Level 1 (AQF5) - Year 2
A45: Class 1, Year 3 | B45: YA20 | C45: 1298.3 | D45: 1337.2 | E45: 1413 | F45: 1308.8 | G45: Level 1 (AQF5) - Year 3
A46: Class 1, Year 4 | B46: YA21 | C46: 1345.7 | D46: 1386.1 | E46: 1464.7 | F46: 1426 | G46: Level 1 (AQF5) - Year 4
A47: Class 1, Year 5 | B47: YA22 | C47: 1382.9 | E47: 1505.2 | F47: 1426 | G47: Level 1 (AQF5) - Year 5
A48: Class 1, Year 6 | B48: YA23 | C48: 1435.6 | E48: 1562.5 | F48: 1426 | G48: Level 1 (AQF5) - Year 6
A49: Class 1, Year 7 | B49: YA24 | C49: 1531.8 | D49: 1577.8 | E49: 1667.3 | F49: 1541.3 | G49: Level 1 (AQF5) - Year 7
A50: *Members may need to review specific roles against Award Definitions
A51: AHP - Community Development Workers (AQF5 and below)
A52: Class 1, Year 1 | B52: YA35 | C52: 1244.7 | D52: 1282 | E52: 1354.7 | F52: 1232.7 | G52: Level 1 (AQF5) - Year 1
A53: Class 1, Year 2 | B53: YA36 | C53: 1294.1 | D53: 1332.9 | E53: 1408.5 | F53: 1308.8 | G53: Level 1 (AQF5) - Year 2
A54: Class 1, Year 3 | B54: YA37 | C54: 1343.5 | D54: 1383.8 | E54: 1462.3 | F54: 1308.8 | G54: Level 1 (AQF5) - Year 3
A55: Class 1, Year 4-6 | B55: YA38 | C55: 1436 | D55: 1479.1 | E55: 1563 | F55: 1426 | G55: Level 1 (AQF5) - Year 4 to 6
A56: Class 1, Year 5 (Health Professional Level 1, Pay Point 5) | B56: NP96 | E56: 0 | F56: 0 | G56: 1426
A57: Class 1, Year 6 (Health Professional Level 1, Pay Point 6) | B57: HP74 | E57: 0 | F57: 0 | G57: 1426
A58: Class 1, Year 7 | B58: YE17 | E58: 1563 | F58: 1541.3 | G58: Level 1 (AQF5) - Year 7
A59: AHP - Community Development Workers (AQ6)
A60: Class 1, Year 1 | B60: YE18 | C60: 1244.7 | D60: 1282 | E60: 1354.7 | F60: 1232.7 | G60: Level 1 (AQF6) - Year 1
A61: Class 1, Year 2 | B61: YE19 | C61: 1294.1 | D61: 1332.9 | E61: 1408.5 | F61: 1308.8 | G61: Level 1 (AQF6) - Year 2
A62: Class 1, Year 3 | B62: YE20 | C62: 1343.5 | D62: 1383.8 | E62: 1462.3 | F62: 1308.8 | G62: Level 1 (AQF6) - Year 3
A63: Class 1, Year 4 - 6 | B63: YE21 | C63: 1436 | D63: 1479.1 | E63: 1563 | F63: 1483.3 | G63: Level 1 (AQF6) - Year 4 to 6
A64: Class 1, Year 7 | B64: YE22 | E64: 1659.3 | F64: 1659.3 | G64: Level 1 (AQF6) - Year 7
A65: AHP - Community Development Workers (AQF7)
A66: Class 1, Year 1 | B66: YE23 | C66: 1244.7 | D66: 1282 | E66: 1354.7 | F66: 1308.8 | G66: Level 1 (AQF7) - Year 1
A67: Class 1, Year 2 | B67: YE24 | C67: 1294.1 | D67: 1332.9 | E67: 1408.5 | F67: 1409 | G67: Level 1 (AQF7) - Year 2
A68: Class 1, Year 3 | B68: YE25 | C68: 1343.5 | D68: 1383.8 | E68: 1462.3 | F68: 1409 | G68: Level 1 (AQF7) - Year 3
A69: Class 1, Year 4 - 6 | B69: YE26 | C69: 1436 | D69: 1479.1 | E69: 1565.3 | F69: 1565.3 | G69: Level 1 (AQF7) - Year 4 to 6
A70: Class 1, Year 7 | B70: YE27 | E70: 1689.5 | F70: 1689.5 | G70: Level 1 (AQF7) - Year 7
A71: Class 2A, Year 1 | B71: YA39 | C71: 1337.8 | D71: 1377.9 | E71: 1456 | F71: 1232.7 | G71: Level 1 but if supervising/senior clinician/Specialist/Educator then paid at Class III
A72: Class 2A, Year 2 | B72: YA40 | C72: 1360.4 | D72: 1401.2 | E72: 1480.6 | F72: 1308.8 | G72: Level 1 but if supervising/senior clinician/Specialist/Educator then paid at Class III
A73: Class 2A, Year 3 | B73: YA41 | C73: 1412.2 | D73: 1454.6 | E73: 1537.1 | F73: 1308.8 | G73: Level 1 but if supervising/senior clinician/Specialist/Educator then paid at Class III
A74: Class 2A, Year 4 | B74: YA42 | C74: 1468.5 | D74: 1512.6 | E74: 1598.4 | F74: 1426 | G74: Level 1 but if supervising/senior clinician/Specialist/Educator then paid at Class III
A75: Class 2A, Year 5 | B75: YA43 | C75: 1497.8 | D75: 1542.7 | E75: 1630.2 | F75: 1426 | G75: Level 1 but if supervising/senior clinician/Specialist/Educator then paid at Class III
A76: Class 2A, Year 6 | B76: YA44 | C76: 1550 | D76: 1596.5 | E76: 1687 | F76: 1426 | G76: Level 1 but if supervising/senior clinician/Specialist/Educator then paid at Class III
A77: Class 2A, Year 7 | B77: YA45 | C77: 1572.4 | D77: 1619.6 | E77: 1711.4 | F77: 1541.3 | G77: Level 1 but if supervising/senior clinician/Specialist/Educator then paid at Class III
A78: Class 2A, Year 8 | B78: YA46 | C78: 1652.6 | D78: 1702.2 | E78: 1798.7 | F78: 1541.3 | G78: Level 1 but if supervising/senior clinician/Specialist/Educator then paid at Class III
A79: Class 2A, Year 9 | B79: YA47 | C79: 1705.1 | D79: 1756.3 | E79: 1855.9 | F79: 1541.3 | G79: Level 1 but if supervising/senior clinician/Specialist/Educator then paid at Class III
A80: Class 2A, Year 10 | B80: YA48 | C80: 1757.2 | D80: 1809.9 | E80: 1912.5 | F80: 1541.3 | G80: Level 1 but if supervising/senior clinician/Specialist/Educator then paid at Class III
A81: Class 2B, Year 1 | B81: YA49 | C81: 1652.6 | D81: 1702.2 | E81: 1798.7 | F81: 1541.3 | G81: Level 1 but if supervising/senior clinician/Specialist/Educator then paid at Class III
A82: Class 2B, Year 2 | B82: YA50 | C82: 1715.4 | D82: 1766.9 | E82: 1867.1 | F82: 1541.3 | G82: Level 1 but if supervising/senior clinician/Specialist/Educator then paid at Class III
... A91: Class 3, Year 4 (Over 5 Years) | B91: YE28 | C91: 1819.1 | D91: 1873.7 | E91: 2170.9 | F91: 1983 | G91: Level 2.2

Sheet Award Table
A1: Support Services Level 1 | B1: 1024.7
A2: Support Services Level 2 | B2: 1065.2
A3: Support Services Level 3 | B3: 1106.2
A4: Support Services Level 4 | B4: 1119.1
A5: Support Services Level 5 | B5: 1157.2
A6: Support Services Level 6 | B6: 1219.5
A7: Support Services Level 7 | B7: 1241.4
A8: Support Services Level 8 PP1 | B8: 1283.5
A9: Support Services Level 8 PP2 | B9: 1317.2
A10: Support Services Level 8 PP3 | B10: 1409.7
A11: Support Services Level 9 PP1 | B11: 1435
A12: Support Services Level 9 PP2 | B12: 1485.9
... A57: Enrolled Nurse - aged care - supervising other Direct Care employees | B57: 1476.6
A59: Registered Nurse - other than aged care - Level 1 - PP1 | B59: 1219.5 | D59: Registered Nurse - aged care - Level 1 - first year of employment at level | E59: 1515.2
A60: Registered Nurse - other than aged care - Level 1 - PP2 | B60: 1244.5 | D60: Registered Nurse - aged care - Level 1 - exceed 1 year and up to 4 years at level | E60: 1592.1
A61: Registered Nurse - other than aged care - Level 1 - PP3 | B61: 1275 | D61: Registered Nurse - aged care - Level 1 - exceed 4 years at level | E61: 1740.3
A62: Registered Nurse - other than aged care - Level 1 - 4 year degree | B62: 1230.4
A63: Registered Nurse - other than aged care - Level 1 - PP4 | B63: 1309
A64: Registered Nurse - other than aged care - Level 1 - Masters degree | B64: 1272.7
A65: Registered Nurse - other than aged care - Level 1 - PP5 | B65: 1349.2
A66: Registered Nurse - other than aged care - Level 1 - PP6 | B66: 1388.1
A67: Registered Nurse - other than aged care - Level 1 - PP7 | B67: 1428.3
A68: Registered Nurse - other than aged care - Level 1 - PP8+ | B68: 1465.5
A70: Registered Nurse - other than aged care - Level 2 - PP1 | B70: 1504.4 | D70: Registered Nurse - aged care - Level 2 - first 3 years at level | E70: 1884.6
A71: Registered Nurse - other than aged care - Level 2 - PP2 | B71: 1528.3 | D71: Registered Nurse - aged care - Level 2 - exceed 3 years at level | E71: 1969.7
A72: Registered Nurse - other than aged care - Level 2 - PP3 | B72: 1554.8
A73: Registered Nurse - other than aged care - Level 2 - PP4+ | B73: 1580.3
A75: Registered Nurse - other than aged care - Level 3 - PP1 | B75: 1631.2 | D75: Registered Nurse - aged care - Level 3 | E75: 2038.4
A76: Registered Nurse - other than aged care - Level 3 - PP2 | B76: 1661.1
A77: Registered Nurse - other than aged care - Level 3 - PP3 | B77: 1689.8
A78: Registered Nurse - other than aged care - Level 3 - PP4+ | B78: 1720.1
A80: Registered Nurse - other than aged care - Level 4 - G1 | B80: 1861.7 | D80: Registered Nurse - aged care - Level 4 | E80: 2356.2
A81: Registered Nurse - other than aged care - Level 4 - G2 | B81: 1995.1
A82: Registered Nurse - other than aged care - Level 4 - G3 | B82: 2111.6
A84: Registered Nurse - other than aged care - Level 5 - G1 | B84: 1878.6 | D84: Registered Nurse - aged care - Level 5 | E84: 2663.2
A85: Registered Nurse - other than aged care - Level 5 - G2 | B85: 1978.4
A86: Registered Nurse - other than aged care - Level 5 - G3 | B86: 2111.6
A87: Registered Nurse - other than aged care - Level 5 - G4 | B87: 2243.1
A88: Registered Nurse - other than aged care - Level 5 - G5 | B88: 2474.1
A89: Registered Nurse - other than aged care - Level 5 - G6 | B89: 2706.9
A91: Nursing Assistant - other than aged care - 1st year | B91: 1050.7
A92: Nursing Assistant - other than aged care - 2nd year | B92: 1067.3
A93: Nursing Assistant - other than aged care - 3rd year + | B93: 1084.4
A94: Nursing Assistant - other than aged care - Experienced (hold relevant Cert III) | B94: 1119.1

Sheet Managers, Support, LLEW
A1: Classification | B1: Paycode | C1: FFPPOA 20 May 2025 | D1: FFPPOA 20 May 2026 | E1: FFPPOA 20 May 2027 | F1: FFPPOA 20 May 2028 | H1: Award Classification | I1: Award Rate - non aged care Employees (1/7/26) | J1: Rate Above Award
A2: Support Services
A3: Cook Employed Alone | B3: GR20 | C3: 1238.8 | D3: 1276 | E3: 1314.2 | F3: 1353.6 | H3: Support Services Level 3 | I3: 1106.2 | J3: =D3-I3 -> 169.8
A4: Diet Cook | B4: GR70 | C4: 1238.8 | D4: 1276 | E4: 1314.2 | F4: 1353.6 | H4: Support Services Level 3 | I4: 1106.2 | J4: =D4-I4 -> 169.8
A5: Dietary Supervisor | B5: GR10 | C5: 1238.8 | D5: 1276 | E5: 1314.2 | F5: 1353.6 | H5: Support Services Level 4 | I5: 1119.1 | J5: =D5-I5 -> 156.9
A6: Food and Domestic Assistant | B6: HA10 | C6: 1059.9 | D6: 1091.7 | E6: 1124.4 | F6: 1158.1 | H6: Support Services Level 2 | I6: 1065.2 | J6: =D6-I6 -> 26.5
A7: Food Monitor | B7: GS60 | C7: 1238.8 | D7: 1276 | E7: 1314.2 | F7: 1353.6 | H7: Support Services Level 5 | I7: 1157.2 | J7: =D7-I7 -> 118.8
A8: Food Services Supervisor | B8: FS10 | C8: 1455.9 | D8: 1499.6 | E8: 1544.6 | F8: 1590.9 | H8: Support Services Level 8 PP1 | I8: 1283.5 | J8: =D8-I8 -> 216.1
A9: Other Cook | B9: GS50 | C9: 1129.1 | D9: 1163 | E9: 1197.9 | F9: 1233.8 | H9: Support Services Level 3 | I9: 1106.2 | J9: =D9-I9 -> 56.8
A10: Gardener (Non-Trade) | B10: JP50 | C10: 1129.1 | D10: 1163 | E10: 1197.9 | F10: 1233.8 | H10: Support Services Level 3 | I10: 1106.2 | J10: =D10-I10 -> 56.8
A11: Gardener Trade | B11: GF60 | C11: 1409.1 | D11: 1451.4 | E11: 1495 | F11: 1539.9 | H11: Support Services Level 6 | I11: 1219.5 | J11: =D11-I11 -> 231.9
A12: General Services Supervisor | B12: GN10 | C12: 1455.9 | D12: 1499.6 | E12: 1544.6 | F12: 1590.9 | H12: Support Services Level 8 PP1 | I12: 1283.5 | J12: =D12-I12 -> 216.1
A13: Handyperson (Unqualified) | B13: KH60 | C13: 1129.1 | D13: 1163 | E13: 1197.9 | F13: 1233.8 | H13: Support Services Level 3 | I13: 1106.2 | J13: =D13-I13 -> 56.8
A14: Handyperson Advanced | B14: GL60 | C14: 1455.9 | D14: 1499.6 | E14: 1544.6 | F14: 1590.9 | H14: Support Services Level 6 | I14: 1219.5 | J14: =D14-I14 -> 280.1
... A24: Allied Health Assistant Grade3 | B24: AJ98 | C24: 1302.4 | D24: 1341.5 | E24: 1381.745 | F24: 1423.2 | H24: Support Services Level 5 | I24: 1157.2 | J24: =D24-I24 -> 184.3
A25: Classification | B25: Paycode | C25: FFPPOA 20 May 2025 | D25: FFPPOA 20 May 2026 | E25: FFPPOA 20 May 2027 | F25: FFPPOA 20 May 2028 | H25: Award Classification | I25: Award Rate - non aged care Employees (1/7/26) | J25: Rate Above Award
A26: Managers and Administrative Workers (other than Royal Children’s Hospital)
A27: *Grade 1A | B27: PW62 | C27: 1119.8 | D27: 1153.4 | E27: 1188 | F27: 1223.64 | H27: Support Services Level 3 | I27: 1106.2 | J27: =D27-I27 -> 47.2
A28: Grade 1 Year 1 | B28: YC88 | C28: 1253.1 | D28: 1290.7 | E28: 1329.4 | F28: 1369.3 | H28: Support Services Level 5 | I28: 1157.2 | J28: =D28-I28 -> 133.5
A29: Grade 1 Year 2 | B29: AK10 | C29: 1304.5 | D29: 1343.6 | E29: 1383.9 | F29: 1425.4 | H29: Support Services Level 5 | I29: 1157.2 | J29: =D29-I29 -> 186.4
A30: Grade 1 Year 3 | B30: AK11 | C30: 1342.3 | D30: 1382.6 | E30: 1424.1 | F30: 1466.8 | H30: Support Services Level 5 | I30: 1157.2 | J30: =D30-I30 -> 225.4
A31: Grade 1 Year 4 | B31: AK12 | C31: 1382.6 | D31: 1424.1 | E31: 1466.8 | F31: 1510.804 | H31: Support Services Level 5 | I31: 1157.2 | J31: =D31-I31 -> 266.9
A32: Grade 1 Year 5 | B32: AK13 | C32: 1437.9 | D32: 1481 | E32: 1525.4 | F32: 1571.2 | H32: Support Services Level 5 | I32: 1157.2 | J32: =D32-I32 -> 323.8
A33: Grade 2 Year 1 | B33: YC89 | C33: 1431.5 | D33: 1474.5 | E33: 1518.7 | F33: 1564.3 | H33: Support Services Level 8 PP1 | I33: 1283.5 | J33: =D33-I33 -> 191
A34: Grade 2 Year 2 | B34: AK14 | C34: 1488.8 | D34: 1533.5 | E34: 1579.5 | F34: 1626.9 | H34: Support Services Level 8 PP1 | I34: 1283.5 | J34: =D34-I34 -> 250
A35: Grade 2 Year 3 | B35: AK15 | C35: 1533.4 | D35: 1579.402 | E35: 1626.8 | F35: 1675.604 | H35: Support Services Level 8 PP1 | I35: 1283.5 | J35: =D35-I35 -> 295.902
A36: Grade 2 Year 4 | B36: AK16 | C36: 1579.4 | D36: 1626.8 | E36: 1675.604 | F36: 1725.9 | H36: Support Services Level 8 PP1 | I36: 1283.5 | J36: =D36-I36 -> 343.3
A37: Grade 2 Year 5 | B37: AK17 | C37: 1601.53 | D37: 1649.6 | E37: 1699.1 | F37: 1750.1 | H37: Support Services Level 8 PP1 | I37: 1283.5 | J37: =D37-I37 -> 366.1
A38: Grade 3 Year 1 | B38: YC90 | C38: 1596.2 | D38: 1644.1 | E38: 1693.4 | F38: 1744.202 | H38: Support Services Level 8 PP2 | I38: 1317.2 | J38: =D38-I38 -> 326.9
... A44: Grade 4 Year 2 | B44: AK22 | C44: 1870.8 | D44: 1926.9 | E44: 1984.7 | F44: 2044.2 | H44: Support Services Level 9 PP3 | I44: 1497.8 | J44: =D44-I44 -> 429.1
A45: Grade 4 Year 3 | B45: AK23 | C45: 1926.9 | D45: 1984.7 | E45: 2044.2 | F45: 2105.5 | H45: 0 | I45: 0 | J45: =D45-I45 -> 1984.7
A46: Grade 4 Year 4 | B46: AK24 | C46: 1984.7 | D46: 2044.2 | E46: 2105.5 | F46: 2168.7 | H46: 0 | I46: 0 | J46: =D46-I46 -> 2044.2
A47: Grade 4 Year 5 | B47: AK25 | C47: 2012.5 | D47: 2072.9 | E47: 2135.1 | F47: 2199.2 | H47: 0 | I47: 0 | J47: =D47-I47 -> 2072.9
A48: Grade 5 Year 1 | B48: YC92 | C48: 1990.9 | D48: 2050.6 | E48: 2112.1 | F48: 2175.5 | H48: Support Services Level 9 PP2 | I48: 1485.9 | J48: =D48-I48 -> 564.7
A49: Grade 5 Year 2 | B49: AK26 | C49: 2040.7 | D49: 2101.9 | E49: 2165 | F49: 2230 | H49: Support Services Level 9 PP3 | I49: 1497.8 | J49: =D49-I49 -> 604.1
A50: Grade 5 Year 3 | B50: AK27 | C50: 2103.9 | D50: 2167 | E50: 2232 | F50: 2299 | H50: 0 | I50: 0 | J50: =D50-I50 -> 2167
A51: Grade 5 Year 4 | B51: AK28 | C51: 2164.9 | D51: 2229.9 | E51: 2296.797 | F51: 2365.7 | H51: 0 | I51: 0 | J51: =D51-I51 -> 2229.9
A52: Grade 5 Year 5 | B52: AK29 | C52: 2195.2 | D52: 2261.1 | E52: 2328.9 | F52: 2398.8 | H52: 0 | I52: 0 | J52: =D52-I52 -> 2261.1
A53: Grade 6 Year 1 | B53: YC93 | C53: 2188.3 | D53: 2254 | E53: 2321.6 | F53: 2391.3
A54: Grade 6 Year 2 | B54: AK30 | C54: 2219 | D54: 2285.6 | E54: 2354.2 | F54: 2424.8
A55: Grade 6 Year 3 | B55: AK31 | C55: 2285.5 | D55: 2354.1 | E55: 2424.7 | F55: 2497.4
A56: Grade 6 Year 4 | B56: AK32 | C56: 2354.1 | D56: 2424.7 | E56: 2497.4 | F56: 2572.3
A57: Grade 6 Year 5 | B57: AK33 | C57: 2387.1 | D57: 2458.7 | E57: 2532.5 | F57: 2608.5
A58: Grade 7 Year 1 | B58: YC94 | C58: 2418.7 | D58: 2491.3 | E58: 2566 | F58: 2643
A59: Grade 7 Year 2 | B59: AK34 | C59: 2479.1 | D59: 2553.5 | E59: 2630.1 | F59: 2709
A60: Grade 7 Year 3 | B60: AK35 | C60: 2553.5 | D60: 2630.1 | E60: 2709.003 | F60: 2790.3
A61: Grade 7 Year 4 | B61: AK36 | C61: 2630.1 | D61: 2709.003 | E61: 2790.3 | F61: 2874
A62: Grade 7 Year 5 | B62: AK37 | C62: 2699.5 | D62: 2780.5 | E62: 2864 | F62: 2949.9
A63: Grade 8 | B63: YC95 | C63: 2706.7 | D63: 2787.901 | E63: 2871.538 | F63: 2957.7
A64: Grade 9 | B64: YC96 | C64: 2941.9 | D64: 3030.2 | E64: 3121.106 | F64: 3214.7
A65: Grade 10 | B65: YC97 | C65: 3193.5 | D65: 3289.3 | E65: 3387.979 | F65: 3489.6
A66: Classification | B66: Paycode | C66: FFPPOA 20 May 2025 | D66: FFPPOA 20 May 2026 | E66: FFPPOA 20 May 2027 | F66: FFPPOA 20 May 2028 | H66: Award Classification | I66: Award Rate - non aged care Employees (1/7/26) | J66: Rate Above Award
A67: Managers and Administrative Workers (Royal Children’s Hospital only)
A68: Grade 1, Level 1 | C68: 1318.2 | D68: 1357.8 | E68: 1398.5 | F68: 1440.5 | H68: Support Services Level 5 | I68: 1157.2 | J68: =D68-I68 -> 200.6
A69: Grade 1, Level 2 | C69: 1372.3 | D69: 1413.5 | E69: 1455.9 | F69: 1499.6 | H69: Support Services Level 5 | I69: 1157.2 | J69: =D69-I69 -> 256.3
A70: Grade 2, Level 1 | C70: 1318.2 | D70: 1357.8 | E70: 1398.5 | F70: 1440.5 | H70: Support Services Level 8 PP1 | I70: 1283.5 | J70: =D70-I70 -> 74.3
A71: Grade 2, Level 2 | C71: 1372.3 | D71: 1413.5 | E71: 1455.9 | F71: 1499.6 | H71: Support Services Level 8 PP1 | I71: 1283.5 | J71: =D71-I71 -> 130
A72: Grade 2, Level 3 | C72: 1412.2 | D72: 1454.6 | E72: 1498.2 | F72: 1543.2 | H72: Support Services Level 8 PP1 | I72: 1283.5 | J72: =D72-I72 -> 171.1
A73: Grade 2, Level 4 | C73: 1454.5 | D73: 1498.1 | E73: 1543 | F73: 1589.3 | H73: Support Services Level 8 PP1 | I73: 1283.5 | J73: =D73-I73 -> 214.6
A74: Grade 2, Level 5 | C74: 1513.1 | D74: 1558.5 | E74: 1605.3 | F74: 1653.5 | H74: Support Services Level 8 PP1 | I74: 1283.5 | J74: =D74-I74 -> 275
A75: Grade 3, Level 1 | C75: 1454.5 | D75: 1498.1 | E75: 1543 | F75: 1589.3 | H75: Support Services Level 9 PP1 | I75: 1435 | J75: =D75-I75 -> 63.1
A76: Grade 3, Level 2 | C76: 1513.1 | D76: 1558.5 | E76: 1605.3 | F76: 1653.5 | H76: Support Services Level 9 PP1 | I76: 1435 | J76: =D76-I76 -> 123.5
A77: Grade 3, Level 3 | C77: 1558.4 | D77: 1605.2 | E77: 1653.4 | F77: 1703.002 | H77: Support Services Level 9 PP1 | I77: 1435 | J77: =D77-I77 -> 170.2
A78: Grade 3, Level 4 | C78: 1605.2 | D78: 1653.4 | E78: 1703.002 | F78: 1754.1 | H78: Support Services Level 9 PP1 | I78: 1435 | J78: =D78-I78 -> 218.4
A79: Grade 3, Level 5 | C79: 1627.7 | D79: 1676.5 | E79: 1726.795 | F79: 1778.5989 | H79: Support Services Level 9 PP1 | I79: 1435 | J79: =D79-I79 -> 241.5
A80: Grade 4, Level 1 | C80: 1605.2 | D80: 1653.4 | E80: 1703.002 | F80: 1754.1 | H80: 0 | I80: 0 | J80: =D80-I80 -> 1653.4
A81: Grade 4, Level 2 | C81: 1627.503 | D81: 1676.3 | E81: 1726.6 | F81: 1778.398 | H81: 0 | I81: 0 | J81: =D81-I81 -> 1676.3
A82: Grade 4, Level 3 | C82: 1676.6 | D82: 1726.898 | E82: 1778.7049 | F82: 1832.1 | H82: 0 | I82: 0 | J82: =D82-I82 -> 1726.898
A83: Grade 4, Level 4 | C83: 1726.898 | D83: 1778.7049 | E83: 1832.1 | F83: 1887.1 | H83: 0 | I83: 0 | J83: =D83-I83 -> 1778.7049
A84: Grade 4, Level 5 | C84: 1803.9 | D84: 1858 | E84: 1913.7 | F84: 1971.1 | H84: 0 | I84: 0 | J84: =D84-I84 -> 1858
A85: Grade 5, Level 1 | C85: 1803.9 | D85: 1858 | E85: 1913.7 | F85: 1971.1 | H85: 0 | I85: 0 | J85: =D85-I85 -> 1858
A86: Grade 5, Level 2 | C86: 1881.1 | D86: 1937.5 | E86: 1995.6 | F86: 2055.5 | H86: 0 | I86: 0 | J86: =D86-I86 -> 1937.5
A87: Grade 5, Level 3 | C87: 1937.5 | D87: 1995.6 | E87: 2055.5 | F87: 2117.2 | H87: 0 | I87: 0 | J87: =D87-I87 -> 1995.6
A88: Grade 5, Level 4 | C88: 1995.7 | D88: 2055.6 | E88: 2117.3 | F88: 2180.8 | H88: 0 | I88: 0 | J88: =D88-I88 -> 2055.6
A89: Grade 5, Level 5 | C89: 2024.2 | D89: 2084.9 | E89: 2147.5 | F89: 2211.9 | H89: 0 | I89: 0 | J89: =D89-I89 -> 2084.9
A90: Grade 6, Level 1 | C90: 2024.2 | D90: 2084.9 | E90: 2147.5 | F90: 2211.9
A91: Grade 6, Level 2 | C91: 2074.2 | D91: 2136.4 | E91: 2200.5 | F91: 2266.5
A92: Grade 6, Level 3 | C92: 2137.7 | D92: 2201.8 | E92: 2267.9 | F92: 2335.9
A93: Grade 6, Level 4 | C93: 2200.595 | D93: 2266.6 | E93: 2334.598 | F93: 2404.6
A94: Grade 6, Level 5 | C94: 2232.1 | D94: 2299.1 | E94: 2368.1 | F94: 2439.1
A95: Grade 7, Level 1 | C95: 2200.595 | D95: 2266.6 | E95: 2334.598 | F95: 2404.6
A96: Grade 7, Level 2 | C96: 2232.1 | D96: 2299.1 | E96: 2368.1 | F96: 2439.1
A97: Grade 7, Level 3 | C97: 2299.1 | D97: 2368.1 | E97: 2439.1 | F97: 2512.3
A98: Grade 7, Level 4 | C98: 2368 | D98: 2439 | E98: 2512.2 | F98: 2587.6
A99: Grade 7, Level 5 | C99: 2402.2 | D99: 2474.3 | E99: 2548.5 | F99: 2625
A100: Grade 8, Year 1 | C100: 2402.2 | D100: 2474.3 | E100: 2548.5 | F100: 2625
A101: Grade 8, Year 2 | C101: 2461.7 | D101: 2535.6 | E101: 2611.7 | F101: 2690.1
... A104: Grade 8, Year 5 | C104: 2651 | D104: 2730.5 | E104: 2812.4 | F104: 2896.8
A105: Classification | B105: Paycode | C105: FFPPOA 20 May 2025 | D105: FFPPOA 20 May 2026 | E105: FFPPOA 20 May 2027 | F105: FFPPOA 20 May 2028 | H105: Award Classification | I105: Award Rate - non aged care Employees (1/7/26) | J105: Rate Above Award
A106: Lived Experience Worker
A107: Level 1 or CADET
A108: 1.1 | B108: AK38 | C108: 1330.76 | D108: 1370.7 | E108: 1411.8 | F108: 1454.2
A109: Level 2
A110: 2.1 | B110: AK39 | C110: 1393.384 | D110: 1435.2 | E110: 1478.3 | F110: 1522.6
A111: 2.2 | B111: AK40 | C111: 1423.872 | D111: 1466.6 | E111: 1510.6 | F111: 1555.9
A112: 2.3 | B112: AK41 | C112: 1447.253 | D112: 1490.7 | E112: 1535.4 | F112: 1581.5
A113: 2.4 | B113: AK42 | C113: 1507.096 | D113: 1552.3 | E113: 1598.9 | F113: 1646.8
A114: Level 3
A115: 3.1 | B115: AK43 | C115: 1552.828 | D115: 1599.4 | E115: 1647.4 | F115: 1696.8
A116: 3.2 | B116: AK44 | C116: 1599.384 | D116: 1647.4 | E116: 1696.8 | F116: 1747.7
...

Sheet Allowances -AHP, Mgrs, Support 
A1: Mental Health - Allied Health Professionals (Excluding Lived and Living Experience Workers)
A3: Qualitication Allowance (Health Professionals Only)
B4: FFPPOA 20 May 2025 | C4: FFPPOA 20 May 2026 | D4: FFPPOA 1 July 2026 | E4: FFPPOA 1 October 2026 - 5.67% | F4: FFPPOA 20 May 2027 - 3% | G4: FFPPOA 1 July 2027 - 53% | H4: FFPPOA 20 May 2028 - 3% | I4: FFPPOA 1 July 2028 - 2.65%
A5: AHP1 Classifications
A6: Post Grad Certificate | B6: 59.5 | C6: 61.3 | E6: 64.8 | F6: 66.7 | G6: 102.1 | H6: 105.2 | I6: 108
A7: Post Grad Diploma | B7: 96.8 | C7: 99.7 | E7: 105.4 | F7: 108.6 | G7: 166.2 | H7: 171.2 | I7: 175.7
A8: Masters | B8: 111.6 | C8: 115 | E8: 121.5 | F8: 125.1 | G8: 191.4 | H8: 197.1 | I8: 202.3
A9: PHd | B9: 148.9 | C9: 153.4 | E9: 162.1 | F9: 167 | G9: 255.5 | H9: 263.2 | I9: 270.2
A11: On Call Allowance
B12: FFPPOA 20 May 2025 | C12: FFPPOA 20 May 2026 | D12: FFPPOA 1 July 2026 | E12: FFPPOA 1 October 2026 - 5.67% | F12: FFPPOA 20 May 2027 - 3% | G12: FFPPOA 1 July 2027 - 3% | H12: FFPPOA 20 May 2028 - 3% | I12: FFPPOA 1 July 2028 - 2.65%
A13: Non CATT
A14: On-call Mon-Friday | B14: 39.2 | C14: 40.4 | E14: 42.7 | F14: 44 | G14: 45.3 | H14: 46.7 | I14: 47.9
A15: Public Holiday Mon-Friday | B15: 68.7 | C15: 70.8 | E15: 74.8 | F15: 77 | G15: 79.3 | H15: 81.7 | I15: 83.9
A16: On-call Allowance - Saturday | B16: 68.7 | C16: 70.8 | E16: 74.8 | F16: 77 | G16: 79.3 | H16: 81.7 | I16: 83.9
A17: On-call Allowance - Sunday | B17: 68.7 | C17: 70.8 | E17: 74.8 | F17: 77 | G17: 79.3 | H17: 81.7 | I17: 83.9
A18: On-call Allowance - Weekend Public Holiday | B18: 103 | C18: 106.1 | E18: 112.1 | F18: 115.5 | G18: 119 | H18: 122.6 | I18: 125.8
A19: CATT
A20: On-call Mon-Friday | B20: 174.3 | C20: 182 | E20: 192.3 | F20: 198.1 | G20: 204 | H20: 210.1 | I20: 215.7
A21: On-call Allowance - Saturday | B21: 214.5 | C21: 223.8 | E21: 236.5 | F21: 243.595 | G21: 250.90285 | H21: 258.4 | I21: 265.2
A22: On-call Allowance - Sunday and Weekday Public Holiday | B22: 234.5 | C22: 244.8 | E22: 258.7 | F22: 266.5 | G22: 274.495 | H22: 282.7 | I22: 290.2
A23: On-call Allowance - Weekend Public Holiday | B23: 304.8 | C23: 317.9 | E23: 335.9 | F23: 346 | G23: 356.4 | H23: 367.1 | I23: 376.8
A25: Sole Allowance
B26: FFPPOA 20 May 2025 | C26: FFPPOA 20 May 2026 | D26: FFPPOA 1 July 2026 | E26: FFPPOA 1 October 2026 - 5.67% | F26: FFPPOA 20 May 2027 - 3% | G26: FFPPOA 1 July 2027 - 3% | H26: FFPPOA 20 May 2028 - 3% | I26: FFPPOA 1 July 2028 - 2.65%
A27: Sole Allowance | B27: 66.6 | C27: 68.6 | E27: 72.5 | F27: 74.7 | G27: 76.9 | H27: 79.2 | I27: 81.2988
A29: Change of Ward Allowance
B30: FFPPOA 20 May 2025 | C30: FFPPOA 20 May 2026 | D30: FFPPOA 1 July 2026 | E30: FFPPOA 1 October 2026 - 5.67% | F30: FFPPOA 20 May 2027 - 3% | G30: FFPPOA 1 July 2027 - 3% | H30: FFPPOA 20 May 2028 - 3% | I30: FFPPOA 1 July 2028 - 2.65%
A31: Change of Ward Allowance | B31: 39.3 | C31: 40.5 | E31: 42.8 | F31: 44.1 | G31: 45.4 | H31: 46.8 | I31: 48
A33: Shift Allowance
B34: FFPPOA 20 May 2025 | C34: FFPPOA 20 May 2026 | D34: FFPPOA 1 July 2026 | E34: FFPPOA 1 October 2026 - 5.67% | F34: FFPPOA 20 May 2027 - 3% | G34: FFPPOA 1 July 2027 - 3% | H34: FFPPOA 20 May 2028 - 3% | I34: FFPPOA 1 July 2028 - 2.65%
A35: AHP1 Classification
A36: Morning Shift | B36: 33.4 | C36: 34.4 | E36: 36.4 | F36: 37.5 | G36: 38.6 | H36: 39.8 | I36: 40.9
A37: Afternoon Shift | B37: 33.4 | C37: 34.4 | E37: 36.4 | F37: 37.5 | G37: 38.6 | H37: 39.8 | I37: 40.9
A38: Temporary Night Shift (Mon-Thur) | B38: 75.9 | C38: 78.2 | D38: 88 | E38: 82.6 | F38: 85.1 | G38: 87.7 | H38: 90.3 | I38: 92.7
A39: Temporary Night Shift (Fri-Sat) | B39: 75.9 | C39: 78.2 | D39: 97.8 | E39: 82.6 | F39: 85.1 | G39: 87.7 | H39: 90.3 | I39: 92.7
A40: Temporary Night Shift (Sun) | B40: 75.9 | C40: 78.2 | D40: 99.3 | E40: 82.6 | F40: 85.1 | G40: 87.7 | H40: 90.3 | I40: 92.7
A41: Permanent Night (Mon-Thur) | B41: 89.8 | C41: 92.5 | D41: 104.1 | E41: 97.7 | F41: 100.6 | G41: 103.6 | H41: 106.7 | I41: 109.5
A42: Permanent Night Shift (Fri-Sat) | B42: 89.8 | C42: 92.5 | D42: 115.6 | E42: 97.7 | F42: 100.6 | G42: 103.6 | H42: 106.7 | I42: 109.5
A43: Permanent Night Shift (Sun) | B43: 89.8 | C43: 92.5 | D43: 117.5 | E43: 97.7 | F43: 100.6 | G43: 103.6 | H43: 106.7 | I43: 109.5
A44: Casual Night Shift | B44: 75.9 | C44: 78.2 | E44: 82.6 | F44: 85.1 | G44: 87.7 | H44: 90.3 | I44: 92.7
A46: Change of Shift Allowance
B47: FFPPOA 20 May 2025 | C47: FFPPOA 20 May 2026 | D47: FFPPOA 1 July 2026 | E47: FFPPOA 1 October 2026 - 5.67% | F47: FFPPOA 20 May 2027 - 3% | G47: FFPPOA 1 July 2027 - 3% | H47: FFPPOA 20 May 2028 - 3% | I47: FFPPOA 1 July 2028 - 2.65%
A48: Change of Shift | B48: 53.3 | C48: 54.9 | E48: 58 | F48: 59.8 | G48: 61.6 | H48: 63.4 | I48: 65.1
A50: Shift Allowance
B51: FFPPOA 20 May 2025 | C51: FFPPOA 20 May 2026 | D51: FFPPOA 1 July 2026 | E51: FFPPOA 20 May 2027 | F51: FFPPOA 1 July 2027 | G51: FFPPOA 20 May 2028
A52: Child Psychotherapists
A53: Morning Shift
A54: Afternoon Shift
A55: Night Shift
A56: Permanent Night
A57: Change of Shift
A59: Uniform Allowance
B60: FFPPOA 20 May 2025 | C60: FFPPOA 20 May 2026 | D60: FFPPOA 1 July 2026 | E60: FFPPOA 1 October 2026 - 5.67% | F60: FFPPOA 20 May 2027 - 3% | G60: FFPPOA 1 July 2027 - 3% | H60: FFPPOA 20 May 2028 - 3% | I60: FFPPOA 1 July 2028 - 2.65%
A61: Per Day | B61: 2.09 | C61: 2.15 | E61: 2.27 | F61: 2.3381 | G61: 2.408243 | H61: 2.4804903 | I61: 2.5462233
A62: Per Week | B62: 10.48 | C62: 10.79 | E62: 11.4 | F62: 11.742 | G62: 12.09426 | H62: 12.457088 | I62: 12.787201
A64: Laundry Allowance
B65: FFPPOA 20 May 2025 | C65: FFPPOA 20 May 2026 | D65: FFPPOA 1 July 2026 | E65: FFPPOA 1 October 2026 - 5.67% | F65: FFPPOA 20 May 2027 - 3% | G65: FFPPOA 1 July 2027 - 3% | H65: FFPPOA 20 May 2028 - 3% | I65: FFPPOA 1 July 2028 - 2.65%
A66: Per Day | B66: 0.5 | C66: 0.52 | E66: 0.55 | F66: 0.5665 | G66: 0.583495 | H66: 0.60099985 | I66: 0.61692635
A67: Per Week | B67: 2.49 | C67: 2.57 | E67: 2.72 | F67: 2.8016 | G67: 2.885648 | H67: 2.9722174 | I67: 3.0509812
A69: Maximum Leave Loading
B70: FFPPOA 20 May 2025 | C70: FFPPOA 20 May 2026 | D70: FFPPOA 1 July 2026 | E70: FFPPOA 1 October 2026 - 5.67% | F70: FFPPOA 20 May 2027 - 3% | G70: FFPPOA 1 July 2027 - 3% | H70: FFPPOA 20 May 2028 - 3% | I70: FFPPOA 1 July 2028 - 2.65%
A71: Weekly Salary Exceeds | B71: 2062.7 | C71: 2124.6 | E71: 2245.06 | F71: 2312.42 | G71: 2381.79 | H71: 2453.24 | I71: 2518.25
A72: Loading Amount (on 5 weeks annual leave) | B72: 1804.8625 | C72: 1859.025 | E72: =(E71*0.175)*5 -> 1964.4275 | F72: =(F71*0.175)*5 -> 2023.3675 | G72: =(G71*0.175)*5 -> 2084.0662 | H72: =(H71*0.175)*5 -> 2146.585 | I72: =(I71*0.175)*5 -> 2203.4688
A74: Meal Allowance
B75: FFPPOA 20 May 2025 | C75: FFPPOA 20 May 2026 | D75: FFPPOA 1 July 2026 | E75: FFPPOA 1 October 2026 - 5.67% | F75: FFPPOA 20 May 2027 - 3% | G75: FFPPOA 1 July 2027 - 3% | H75: FFPPOA 20 May 2028 - 3% | I75: FFPPOA 1 July 2028 - 2.65%
A76: Meal allowance | B76: 17.27 | C76: 17.79 | E76: 18.8 | F76: 19.364 | G76: 19.94492 | H76: 20.543268 | I76: 21.087664
A79: Mental Health - Lived and Living Experience Workers (Excluding Allied Health Professionals)
A81: On Call Allowance
B82: FFPPOA 20 May 2025 | C82: FFPPOA 20 May 2026 | D82: FFPPOA 1 July 2026 | E82: FFPPOA 20 May 2027 | F82: FFPPOA 1 July 2027 | G82: FFPPOA 20 May 2028
A83: Non CATT
A84: On-call Mon-Friday | B84: 39.2 | C84: 40.4 | E84: 41.6 | G84: 42.9
A85: Public Holiday Mon-Friday | B85: 68.7 | C85: 70.8 | E85: 72.9 | G85: 75.1
A86: On-call Allowance - Saturday | B86: 68.7 | C86: 70.8 | E86: 72.9 | G86: 75.1
A87: On-call Allowance - Sunday | B87: 68.7 | C87: 70.8 | E87: 72.9 | G87: 75.1
A88: On-call Allowance - Weekend Public Holiday | B88: 103 | C88: 106.1 | E88: 109.3 | G88: 112.6
A89: CATT
A90: On-call Mon-Friday | B90: 174.3 | C90: 182 | E90: 189.7 | G90: 208
A91: On-call Allowance - Saturday | B91: 214.5 | C91: 223.8 | E91: 233.4 | G91: 255.8
A92: On-call Allowance - Sunday and Weekday Public Holiday | B92: 234.5 | C92: 244.8 | E92: 255.2 | G92: 279.7
A93: On-call Allowance - Weekend Public Holiday | B93: 304.8 | C93: 317.9 | E93: 331.3 | G93: 363.1
A96: Change of Ward Allowance
B97: FFPPOA 20 May 2025 | C97: FFPPOA 20 May 2026 | D97: FFPPOA 1 July 2026 | E97: FFPPOA 20 May 2027 | F97: FFPPOA 1 July 2027 | G97: FFPPOA 20 May 2028
A98: Change of Ward Allowance | B98: 39.3 | C98: 40.5 | E98: 41.7 | G98: 43
A100: Shift Allowance
B101: FFPPOA 20 May 2025 | C101: FFPPOA 20 May 2026 | D101: FFPPOA 1 July 2026 | E101: FFPPOA 20 May 2027 | F101: FFPPOA 1 July 2027 | G101: FFPPOA 20 May 2028
A102: AHP1 Classification
A103: Morning Shift | B103: 33.4 | C103: 34.4 | E103: 35.4 | G103: 36.5
A104: Afternoon Shift | B104: 33.4 | C104: 34.4 | E104: 35.4 | G104: 36.5
A105: Temporary Night Shift (Mon-Thur) | B105: 75.9 | C105: 78.2 | D105: 88 | E105: 90.6 | G105: 93.3
A106: Temporary Night Shift (Fri-Sat) | B106: 75.9 | C106: 78.2 | D106: 97.8 | E106: 100.7 | G106: 103.7
A107: Temporary Night Shift (Sun) | B107: 75.9 | C107: 78.2 | D107: 99.3 | E107: 102.3 | G107: 105.4
A108: Permanent Night (Mon-Thur) | B108: 89.8 | C108: 92.5 | D108: 104.1 | E108: 107.2 | G108: 110.4
A109: Permanent Night Shift (Fri-Sat) | B109: 89.8 | C109: 92.5 | D109: 115.6 | E109: 119.1 | G109: 122.7
A110: Permanent Night Shift (Sun) | B110: 89.8 | C110: 92.5 | D110: 117.5 | E110: 121 | G110: 124.6
A111: Casual Night Shift | B111: 75.9 | C111: 78.2 | E111: 80.5 | G111: 82.9
A113: Change of Shift Allowance
B114: FFPPOA 20 May 2025 | C114: FFPPOA 20 May 2026 | D114: FFPPOA 1 July 2026 | E114: FFPPOA 20 May 2027 | F114: FFPPOA 1 July 2027 | G114: FFPPOA 20 May 2028
A115: Change of Shift | B115: 53.3 | C115: 54.9 | E115: 56.6 | G115: 58.3
A118: Uniform Allowance
B119: FFPPOA 20 May 2025 | C119: FFPPOA 20 May 2026 | D119: FFPPOA 1 July 2026 | E119: FFPPOA 20 May 2027 | F119: FFPPOA 1 July 2027 | G119: FFPPOA 20 May 2028
A120: Per Day | B120: 2.09 | C120: 2.15 | E120: 2.21 | G120: 2.28
...

Sheet Other Payments
A1: Once off Retention Payment (AHP 1 only)
B2: Amount Payable
A3: Once off Retention Payment of $4200 to be paid in two installments
A4: Ist Instalment payable FFPPOA commencement of Agreement | B4: 2100
A5: 2nd Instalment payable the next pay period after the above date | B5: 2100
A7: Pro rata for part time Employees
A8: Casuals will receive a pro rata payment based on average hours worked over the previous 12 months, to be calcuated when the Agreement commences
A12: Lump Sum Payment (MHOs only)
A13: Once off Retention Payment of $5304 to be paid in two installments
A14: Ist Instalment payable FFPPOA commencement of Agreement | B14: 2652
A15: 2nd Instalment payable the next pay period after the above date | B15: 2652
A17: Pro rata for part time Employees
A18: Casuals will receive a pro rata payment based on average hours worked over the previous 12 months, to be calcuated when the Agreement commences
