Workbook
Name OLE_LINK1: 'RPNs, PENs, MHOs'!#REF!
Name OLE_LINK1: 'Wages - Commuted'!#REF!
Name OLE_LINK2: 'RPNs, PENs, MHOs'!#REF!
Name OLE_LINK2: 'Wages - Commuted'!#REF!

Sheet Cover
A7: Number: | C7: 880
A8: Addressee: | C8: Public Sector Members
A9: Date: | C9: 46301
A10: Agreement | C10: Victorian Public Mental Health Services Enterprise Agreement 2024-2028
A12: Sheet 1A | C12: Wages
A14: Sheet 1A | C14: Wages - with Commuted Allowance
A16: Sheet 2 | C16: Allowances
A18: Sheet 3 | C18: Other Payments
A20: Timeline of Events
C21: 2 March 2026 | D21: Operative Date of Agreement
C22: 30 December 2028 | D22: Nominal Expiry Date
A27: This Salary Circular must be read in conjunction with Bulletin 3355

Sheet RPNs, PENs, MHOs
A1: Classification | B1: Paycode | C1: FFPPOA 1 July 2026 (Aged Care Employee only) | D1: FFPPOA 20 May 2025 | E1: FFPPOA 1 July 2025 | F1: FFPPOA 5 January 2026 | G1: FFPPOA 15 June 2026 | H1: FFPPOA 20 May 2026 | I1: FFPPOA 4 January 2027 | J1: FFPPOA 7 June 2027 | K1: FFPPOA 20 May 2027 | L1: FFPPOA 10 January 2028 | M1: FFPPOA 20 May 2028 | N1: Award Classification | O1: Award Rate - non aged care Employees (1/7/26) | P1: Rate Above Award | Q1: % Above Award | R1: Award Classification Aged Care Employee (RPN/PEN only) | S1: Award Rate - aged care employees (RPN/PEN only) (1/7/26) | T1: Rate Above Award | U1: % Above Award
A2: RUSON
A3: RUSON, Year 1 | B3: MP20 | D3: 1281 | F3: 1281 | G3: 1319.5 | I3: 1319.5 | J3: 1359.1 | L3: 1359.1
A4: Indigenous Health Cadet
A5: Nursing Indigenous Health Cadet Year 1 | B5: MP23 | D5: 1053.896 | F5: 1066.5 | G5: 1098.5 | I5: 1110.6 | J5: 1143.9 | L5: 1251.4
A6: Nursing Indigenous Health Cadet Year 2 | B6: MP24 | D6: 1124.7 | F6: 1138.1964 | G6: 1172.3 | I6: 1185.2 | J6: 1220.8 | L6: 1335.6
A7: Nursing Indigenous Health Cadet Year 3 | B7: MP25 | D7: 1193.9 | F7: 1208.2 | G7: 1244.5 | I7: 1258.2 | J7: 1296 | L7: 1417.8
A8: Registered Psychiatric Nurse
A9: RPN Grade 2 Year 1 | B9: NP11 | D9: 1571.8 | F9: 1571.8 | G9: 1619 | I9: 1619 | J9: 1667.6 | L9: 1667.6 | N9: ='Award Table'!A64 -> Registered Nurse - other than aged care - Level 1 - Masters degree | O9: ='Award Table'!B64 -> 1272.7 | P9: =G9-O9 -> 346.3 | Q9: =(G9-O9)/G9 -> 0.21389747 | R9: RN Level 1, First Year of Employment at level | S9: ='Award Table'!E59 -> 1515.2 | T9: =G9-S9 -> 103.8 | U9: =(G9-S9)/G9 -> 0.06411365
A10: RPN Grade 2 Year 1 (4 year degree entry) | B10: NP11 | N10: RN Level 1, Excess 1 year, less than 4 years at level (4 year entry) | O10: ='Award Table'!B62 -> 1230.4 | P10: =D10-O10 -> -1230.4 | Q10: =(#REF!-O10)/#REF! -> #REF! | R10: RN Level 1, Excess 1 year, less than 4 years at level (4 year entry) | S10: ='Award Table'!E60 -> 1592.1 | T10: =G10-S10 -> -1592.1 | U10: =(G10-S10)/G10 -> #DIV/0!
A11: RPN Grade 2 Year 1 (Masters degree entry) | B11: NP11 | N11: RN Level 1, Excess 1 year, less than 4 years at level (Master entry) | O11: ='Award Table'!B64 -> 1272.7 | P11: =D11-O11 -> -1272.7 | Q11: =(#REF!-O11)/#REF! -> #REF! | R11: RN Level 1, Excess 1 year, less than 4 years at level (Master entry) | S11: ='Award Table'!E60 -> 1592.1 | T11: =G11-S11 -> -1592.1 | U11: =(G11-S11)/G11 -> #DIV/0!
A12: RPN Grade 2 Year 2 | B12: NP21 | D12: 1611.6 | F12: 1616.5 | G12: 1665 | I12: 1669.6 | J12: 1719.7 | L12: 1761.4 | N12: ='Award Table'!A65 -> Registered Nurse - other than aged care - Level 1 - PP5 | O12: ='Award Table'!B65 -> 1349.2 | P12: =G12-O12 -> 315.8 | Q12: =(G12-O12)/G12 -> 0.18966967 | R12: RN Level 1, Excess 1 year, less than 4 years at level | S12: ='Award Table'!E60 -> 1592.1 | T12: =G12-S12 -> 72.9 | U12: =(G12-S12)/G12 -> 0.043783784
A13: RPN Grade 2 Year 3 | B13: NP22 | D13: 1657.9 | F13: 1667 | G13: 1717 | I13: 1725.4 | J13: 1777.2 | L13: 1855.3 | N13: ='Award Table'!A66 -> Registered Nurse - other than aged care - Level 1 - PP6 | O13: ='Award Table'!B66 -> 1388.1 | P13: =G13-O13 -> 328.9 | Q13: =(G13-O13)/G13 -> 0.19155504 | R13: RN Level 1, Excess 1 year, less than 4 years at level | S13: ='Award Table'!E60 -> 1592.1 | T13: =G13-S13 -> 124.9 | U13: =(G13-S13)/G13 -> 0.072743157
A14: RPN Grade 2 Year 4 | B14: NP23 | D14: 1708.7 | F14: 1722.2 | G14: 1773.9 | I14: 1786.3 | J14: 1839.9 | L14: 1956 | N14: ='Award Table'!A67 -> Registered Nurse - other than aged care - Level 1 - PP7 | O14: ='Award Table'!B67 -> 1428.3 | P14: =G14-O14 -> 345.6 | Q14: =(G14-O14)/G14 -> 0.19482496 | R14: RN Level 1, Excess 4 years at level | S14: ='Award Table'!E61 -> 1740.3 | T14: =G14-S14 -> 33.6 | U14: =(G14-S14)/G14 -> 0.018941316
A15: RPN Grade 2 Year 5 | B15: NP24 | D15: 1766.2 | F15: 1783.4 | G15: 1836.9 | I15: 1852.9 | J15: 1908.5 | L15: 2056 | N15: ='Award Table'!A68 -> Registered Nurse - other than aged care - Level 1 - PP8+ | O15: ='Award Table'!B68 -> 1465.5 | P15: =G15-O15 -> 371.4 | Q15: =(G15-O15)/G15 -> 0.20218847 | R15: RN Level 1, Excess 4 years at level | S15: ='Award Table'!E61 -> 1740.3 | T15: =G15-S15 -> 96.6 | U15: =(G15-S15)/G15 -> 0.0525886
A16: RPN Grade 2 Year 6 | B16: NP25 | D16: 1824.1 | F16: 1844.9 | G16: 1900 | I16: 1919.1 | J16: 1976.7 | L16: 2153.3 | N16: ='Award Table'!A68 -> Registered Nurse - other than aged care - Level 1 - PP8+ | O16: ='Award Table'!B68 -> 1465.5 | P16: =G16-O16 -> 434.5 | Q16: =(G16-O16)/G16 -> 0.22868421 | R16: RN Level 1, Excess 4 years at level | S16: ='Award Table'!E61 -> 1740.3 | T16: =G16-S16 -> 159.7 | U16: =(G16-S16)/G16 -> 0.084052632
A17: RPN Grade 2 Year 7 | B17: NP26 | D17: 1906.3 | F17: 1929.2 | G17: 1987.1 | I17: 2009 | J17: 2069.3 | L17: 2263.8 | N17: ='Award Table'!A68 -> Registered Nurse - other than aged care - Level 1 - PP8+ | O17: ='Award Table'!B68 -> 1465.5 | P17: =G17-O17 -> 521.6 | Q17: =(G17-O17)/G17 -> 0.26249308 | R17: RN Level 1, Excess 4 years at level | S17: ='Award Table'!E61 -> 1740.3 | T17: =G17-S17 -> 246.8 | U17: =(G17-S17)/G17 -> 0.1242011
A18: RPN Grade 2 Year 8 | B18: NP70 | D18: 1983.7 | F18: 2007.5044 | G18: 2067.7 | I18: 2090.4 | J18: 2153.1 | L18: 2355.5 | N18: ='Award Table'!A68 -> Registered Nurse - other than aged care - Level 1 - PP8+ | O18: ='Award Table'!B68 -> 1465.5 | P18: =G18-O18 -> 602.2 | Q18: =(G18-O18)/G18 -> 0.29124148 | R18: RN Level 1, Excess 4 years at level | S18: ='Award Table'!E61 -> 1740.3 | T18: =G18-S18 -> 327.4 | U18: =(G18-S18)/G18 -> 0.15834018
A19: RPN Grade 2, Advanced | B19: PC11 | D19: 2064.2 | F19: 2089 | G19: 2151.7 | I19: 2175.4 | J19: 2240.7 | L19: 2451.3 | N19: ='Award Table'!A68 -> Registered Nurse - other than aged care - Level 1 - PP8+ | O19: ='Award Table'!B68 -> 1465.5 | P19: =G19-O19 -> 686.2 | Q19: =(G19-O19)/G19 -> 0.31891063 | R19: RN Level 1, Excess 4 years at level | S19: ='Award Table'!E61 -> 1740.3 | T19: =G19-S19 -> 411.4 | U19: =(G19-S19)/G19 -> 0.19119766
A20: RPN Grade 2 Year 1 (3 year degree entry) (Aged Care Employees only) | B20: NP80 | P20: =G20-O20 -> 0 | Q20: =(G20-O20)/G20 -> #DIV/0! | T20: =G20-S20 -> 0 | U20: =(G20-S20)/G20 -> #DIV/0!
A21: RPN Grade 2 Year 1 (4 year degree entry) (Aged Care Employees only) | B21: NP97 | P21: =G21-O21 -> 0 | Q21: =(G21-O21)/G21 -> #DIV/0! | T21: =G21-S21 -> 0 | U21: =(G21-S21)/G21 -> #DIV/0!
A22: RPN Grade 2 Year 1 (Masters degree entry) (Aged Care Employees only) | B22: NP98 | P22: =G22-O22 -> 0 | Q22: =(G22-O22)/G22 -> #DIV/0! | T22: =G22-S22 -> 0 | U22: =(G22-S22)/G22 -> #DIV/0!
A23: RPN Grade 2 Year 2 (Aged Care Employees only) | B23: NP99 | P23: =G23-O23 -> 0 | Q23: =(G23-O23)/G23 -> #DIV/0! | T23: =G23-S23 -> 0 | U23: =(G23-S23)/G23 -> #DIV/0!
A24: RPN Grade 2 Year 4 (Aged Care Employees only) | B24: NP84 | P24: =G24-O24 -> 0 | Q24: =(G24-O24)/G24 -> #DIV/0! | T24: =G24-S24 -> 0 | U24: =(G24-S24)/G24 -> #DIV/0!
A25: Psych Clinical Nurse Specialist | B25: NP29 | D25: 2064.2 | F25: 2089 | G25: 2151.7 | I25: 2175.4 | J25: 2240.7 | L25: 2451.3 | N25: ='Award Table'!A68 -> Registered Nurse - other than aged care - Level 1 - PP8+ | O25: ='Award Table'!B68 -> 1465.5 | P25: =G25-O25 -> 686.2 | Q25: =(G25-O25)/G25 -> 0.31891063 | R25: RN Level 1, Excess 4 years at level | S25: ='Award Table'!E61 -> 1740.3 | T25: =G25-S25 -> 411.4 | U25: =(G25-S25)/G25 -> 0.19119766
A26: RPN Grade 3, Year 1 | B26: NP81 | D26: 2068.2 | F26: 2093 | G26: 2155.8 | I26: 2179.5 | J26: 2244.9 | L26: 2455.9 | N26: ='Award Table'!A70 -> Registered Nurse - other than aged care - Level 2 - PP1 | O26: ='Award Table'!B70 -> 1504.4 | P26: =G26-O26 -> 651.4 | Q26: =(G26-O26)/G26 -> 0.30216161 | R26: RN Level 2, First 3 years of employment at level | S26: ='Award Table'!E70 -> 1884.6 | T26: =G26-S26 -> 271.2 | U26: =(G26-S26)/G26 -> 0.12580017
A27: RPN Grade 3, Year 2 | B27: NP82 | D27: 2127.3 | F27: 2152.8 | G27: 2217.4 | I27: 2241.8 | J27: 2309.1 | L27: 2526.2 | N27: ='Award Table'!A71 -> Registered Nurse - other than aged care - Level 2 - PP2 | O27: ='Award Table'!B71 -> 1528.3 | P27: =G27-O27 -> 689.1 | Q27: =(G27-O27)/G27 -> 0.31076937 | R27: RN Level 2, First 3 years of employment at level | S27: ='Award Table'!E70 -> 1884.6 | T27: =G27-S27 -> 332.8 | U27: =(G27-S27)/G27 -> 0.15008569
A28: RPN Grade 3, Year 3 / ANUM Year 1 | B28: NP83 | D28: 2222 | F28: 2248.7 | G28: 2316.2 | I28: 2341.7 | J28: 2412 | L28: 2638.7 | N28: ='Award Table'!A72 -> Registered Nurse - other than aged care - Level 2 - PP3 | O28: ='Award Table'!B72 -> 1554.8 | P28: =G28-O28 -> 761.4 | Q28: =(G28-O28)/G28 -> 0.32872809 | R28: RN Level 2, First 3 years of employment at level | S28: ='Award Table'!E70 -> 1884.6 | T28: =G28-S28 -> 431.6 | U28: =(G28-S28)/G28 -> 0.18633969
A29: RPN Grade 3, Year 4 / ANUM Year 2 | B29: NP74 | D29: 2296.9 | F29: 2324.5 | G29: 2394.2 | I29: 2420.5 | J29: 2493.1 | L29: 2727.5 | N29: ='Award Table'!A73 -> Registered Nurse - other than aged care - Level 2 - PP4+ | O29: ='Award Table'!B73 -> 1580.3 | P29: =G29-O29 -> 813.9 | Q29: =(G29-O29)/G29 -> 0.33994654 | R29: RN Level 2, Excess 3 years at level | S29: ='Award Table'!E71 -> 1969.7 | T29: =G29-S29 -> 424.5 | U29: =(G29-S29)/G29 -> 0.17730348
A30: RPN Grade 4, Year 1 | B30: NP75 | D30: 2304.5 | F30: 2332.2 | G30: 2402.2 | I30: 2428.6 | J30: 2501.5 | L30: 2736.6 | N30: ='Award Table'!A75 -> Registered Nurse - other than aged care - Level 3 - PP1 | O30: ='Award Table'!B75 -> 1631.2 | P30: =G30-O30 -> 771 | Q30: =(G30-O30)/G30 -> 0.32095579 | R30: ='Award Table'!D75 -> Registered Nurse - aged care - Level 3 | S30: ='Award Table'!E75 -> 2038.4 | T30: =G30-S30 -> 363.8 | U30: =(G30-S30)/G30 -> 0.15144451
A31: RPN Grade 4, Year 2 | B31: NP76 | D31: 2363.6 | F31: 2392 | G31: 2463.8 | I31: 2490.9 | J31: 2565.6 | L31: 2806.8 | N31: ='Award Table'!A76 -> Registered Nurse - other than aged care - Level 3 - PP2 | O31: ='Award Table'!B76 -> 1661.1 | P31: =G31-O31 -> 802.7 | Q31: =(G31-O31)/G31 -> 0.32579755 | R31: ='Award Table'!D75 -> Registered Nurse - aged care - Level 3 | S31: ='Award Table'!E75 -> 2038.4 | T31: =G31-S31 -> 425.4 | U31: =(G31-S31)/G31 -> 0.17266012
A32: RPN Grade 4, Year 3 | B32: NP77 | D32: 2481.8 | F32: 2511.6 | G32: 2587 | I32: 2615.5 | J32: 2694 | L32: 2947.2 | N32: ='Award Table'!A77 -> Registered Nurse - other than aged care - Level 3 - PP3 | O32: ='Award Table'!B77 -> 1689.8 | P32: =G32-O32 -> 897.2 | Q32: =(G32-O32)/G32 -> 0.34681098 | R32: ='Award Table'!D75 -> Registered Nurse - aged care - Level 3 | S32: ='Award Table'!E75 -> 2038.4 | T32: =G32-S32 -> 548.6 | U32: =(G32-S32)/G32 -> 0.2120603
A33: RPN Grade 4, Year 1 (Aged Care Employees only) | B33: NP85 | P33: =G33-O33 -> 0 | Q33: =(G33-O33)/G33 -> #DIV/0! | T33: =G33-S33 -> 0 | U33: =(G33-S33)/G33 -> #DIV/0!
A34: RPN Grade 5, NUM Level 1 | B34: AG10 | D34: 2605.7 | F34: 2637 | G34: 2716.1 | I34: 2746 | J34: 2828.4 | L34: 3094.3 | N34: ='Award Table'!A80 -> Registered Nurse - other than aged care - Level 4 - G1 | O34: ='Award Table'!B80 -> 1861.7 | P34: =G34-O34 -> 854.4 | Q34: =(G34-O34)/G34 -> 0.31456868 | R34: ='Award Table'!D80 -> Registered Nurse - aged care - Level 4 | S34: ='Award Table'!E80 -> 2356.2 | T34: =G34-S34 -> 359.9 | U34: =(G34-S34)/G34 -> 0.13250617
A35: RPN Grade 5, NUM Level 2 | B35: AG11 | D35: 2700.7 | F35: 2733.1 | G35: 2815.1 | I35: 2846.1 | J35: 2931.5 | L35: 3207.1 | N35: ='Award Table'!A81 -> Registered Nurse - other than aged care - Level 4 - G2 | O35: ='Award Table'!B81 -> 1995.1 | P35: =G35-O35 -> 820 | Q35: =(G35-O35)/G35 -> 0.29128628 | R35: ='Award Table'!D80 -> Registered Nurse - aged care - Level 4 | S35: ='Award Table'!E80 -> 2356.2 | T35: =G35-S35 -> 458.9 | U35: =(G35-S35)/G35 -> 0.16301375
A36: RPN Grade 5, NUM Level 3 | B36: AG12 | D36: 2795.8 | F36: 2829.3 | G36: 2914.2 | I36: 2946.3 | J36: 3034.7 | L36: 3320 | N36: ='Award Table'!A82 -> Registered Nurse - other than aged care - Level 4 - G3 | O36: ='Award Table'!B82 -> 2111.6 | P36: =G36-O36 -> 802.6 | Q36: =(G36-O36)/G36 -> 0.27541006 | R36: ='Award Table'!D80 -> Registered Nurse - aged care - Level 4 | S36: ='Award Table'!E80 -> 2356.2 | T36: =G36-S36 -> 558 | U36: =(G36-S36)/G36 -> 0.19147622
A37: RPN Grade 5 | B37: NP51 | D37: 2600 | F37: 2631.2 | G37: 2710.1 | I37: 2739.9 | J37: 2822.1 | L37: 3087.4 | N37: ='Award Table'!A82 -> Registered Nurse - other than aged care - Level 4 - G3 | O37: ='Award Table'!B82 -> 2111.6 | P37: =G37-O37 -> 598.5 | Q37: =(G37-O37)/G37 -> 0.22084056 | R37: ='Award Table'!D84 -> Registered Nurse - aged care - Level 5 | S37: ='Award Table'!E84 -> 2663.2 | T37: =G37-S37 -> 46.9 | U37: =(G37-S37)/G37 -> 0.017305634
A38: RPN Grade 5 (Aged Care Employees only) | B38: NP86 | P38: =G38-O38 -> 0 | Q38: =(G38-O38)/G38 -> #DIV/0! | T38: =G38-S38 -> 0 | U38: =(G38-S38)/G38 -> #DIV/0!
A39: RPN Grade 6 | B39: NP61 | D39: 2954.7 | F39: 2990.2 | G39: 3079.9 | I39: 3113.8 | J39: 3207.2 | L39: 3508.7 | N39: ='Award Table'!A89 -> Registered Nurse - other than aged care - Level 5 - G6 | O39: ='Award Table'!B89 -> 2706.9 | P39: =G39-O39 -> 373 | Q39: =(G39-O39)/G39 -> 0.12110783 | R39: ='Award Table'!D84 -> Registered Nurse - aged care - Level 5 | S39: ='Award Table'!E84 -> 2663.2 | T39: =G39-S39 -> 416.7 | U39: =(G39-S39)/G39 -> 0.1352966
A40: RPN Nurse Practitioner | B40: AG13 | D40: 2954.7 | F40: 2990.2 | G40: 3079.9 | I40: 3113.8 | J40: 3207.2 | L40: 3508.7 | N40: ='Award Table'!A89 -> Registered Nurse - other than aged care - Level 5 - G6 | O40: ='Award Table'!B89 -> 2706.9 | P40: =G40-O40 -> 373 | Q40: =(G40-O40)/G40 -> 0.12110783 | R40: ='Award Table'!D84 -> Registered Nurse - aged care - Level 5 | S40: ='Award Table'!E84 -> 2663.2 | T40: =G40-S40 -> 416.7 | U40: =(G40-S40)/G40 -> 0.1352966
...

Sheet Wages - Commuted
A1: Classification | B1: Paycode | C1: FFPPOA 20 May 2025 | D1: Commuted Allowance | E1: FFPPOA 1 July 2025 | F1: Commuted Allowance | G1: FFPPOA 1 July 2026 | H1: Commuted Allowance | I1: FFPPOA 5 January 2026 | J1: Commuted Allowance | K1: FFPPOA 15 June 2026 | L1: Commuted Allowance | M1: FFPPOA 4 January 2027 | N1: Commuted Allowance | O1: FFPPOA 7 June 2027 | P1: Commuted Allowance | Q1: FFPPOA 1 July 2027 | R1: Commuted Allowance | S1: FFPPOA 10 January 2028 | T1: Commuted Allowance | U1: FFPPOA 1 July 2028 | V1: Commuted Allowance | X1: Award Classification | Y1: Award Rate - non aged care Employees (1/7/26) | Z1: Rate Above Award | AA1: % Above Award
A2: Registered Psychiatric Nurse
A3: RPN Grade 2 Year 8 | B3: RP70 | C3: 1983.7 | D3: 337.119 | I3: 2007.5044 | J3: 361.35079 | K3: 2067.7 | L3: 372.186 | M3: 2090.4 | N3: 376.272 | O3: 2153.1 | P3: 387.558 | S3: 2355.5 | T3: 423.99 | X3: ='RPNs, PENs, MHOs'!N18 -> Registered Nurse - other than aged care - Level 1 - PP8+ | Y3: ='Award Table'!B68 -> 1465.5 | Z3: =I3-Y3 -> 542.0044 | AA3: =(I3-Y3)/I3 -> 0.26998915
A4: RPN Grade 2, Advanced | B4: RP29 | C4: 2064.2 | D4: 359.161 | I4: 2089 | J4: 376.02 | K4: 2151.7 | L4: 387.306 | M4: 2175.4 | N4: 391.572 | O4: 2240.7 | P4: 403.326 | S4: 2451.3 | T4: 441.234 | X4: ='RPNs, PENs, MHOs'!N18 -> Registered Nurse - other than aged care - Level 1 - PP8+ | Y4: ='Award Table'!B68 -> 1465.5 | Z4: =I4-Y4 -> 623.5 | AA4: =(I4-Y4)/I4 -> 0.29846817
A5: Psych Clinical Nurse Specialist | B5: PC12 | C5: 2064.2 | D5: 359.161 | I5: 2089 | J5: 376.02 | K5: 2151.7 | L5: 387.306 | M5: 2175.4 | N5: 391.572 | O5: 2240.7 | P5: 403.326 | S5: 2451.3 | T5: 441.234 | X5: ='RPNs, PENs, MHOs'!N18 -> Registered Nurse - other than aged care - Level 1 - PP8+ | Y5: ='Award Table'!B68 -> 1465.5 | Z5: =I5-Y5 -> 623.5 | AA5: =(I5-Y5)/I5 -> 0.29846817
A6: RPN Grade 3, Year 1 | B6: RP81 | C6: 2068.2 | D6: 344.226 | I6: 2093 | J6: 376.74 | K6: 2155.8 | L6: 388.044 | M6: 2179.5 | N6: 392.31 | O6: 2244.9 | P6: 404.082 | S6: 2455.9 | T6: 442.062 | X6: ='Award Table'!A70 -> Registered Nurse - other than aged care - Level 2 - PP1 | Y6: ='Award Table'!B70 -> 1504.4 | Z6: =I6-Y6 -> 588.6 | AA6: =(I6-Y6)/I6 -> 0.28122312
A7: RPN Grade 3, Year 2 | B7: RP82 | C7: 2127.3 | D7: 353.908 | I7: 2152.8 | J7: 387.504 | K7: 2217.4 | L7: 399.132 | M7: 2241.8 | N7: 403.524 | O7: 2309.1 | P7: 415.638 | S7: 2526.2 | T7: 454.716 | X7: ='Award Table'!A71 -> Registered Nurse - other than aged care - Level 2 - PP2 | Y7: ='Award Table'!B71 -> 1528.3 | Z7: =I7-Y7 -> 624.5 | AA7: =(I7-Y7)/I7 -> 0.29008733
A8: RPN Grade 3, Year 3 / ANUM Year 1 | B8: RP83 | C8: 2222 | D8: 369.461 | I8: 2248.7 | J8: 404.766 | K8: 2316.2 | L8: 416.916 | M8: 2341.7 | N8: 421.506 | O8: 2412 | P8: 434.16 | S8: 2638.7 | T8: 474.966 | X8: ='Award Table'!A72 -> Registered Nurse - other than aged care - Level 2 - PP3 | Y8: ='Award Table'!B72 -> 1554.8 | Z8: =I8-Y8 -> 693.9 | AA8: =(I8-Y8)/I8 -> 0.30857829
A9: RPN Grade 3, Year 4 / ANUM Year 2 | B9: RP74 | C9: 2296.9 | D9: 382.233 | I9: 2324.5 | J9: 418.41 | K9: 2394.2 | L9: 430.956 | M9: 2420.5 | N9: 435.69 | O9: 2493.1 | P9: 448.758 | S9: 2727.5 | T9: 490.95 | X9: ='Award Table'!A73 -> Registered Nurse - other than aged care - Level 2 - PP4+ | Y9: ='Award Table'!B73 -> 1580.3 | Z9: =I9-Y9 -> 744.2 | AA9: =(I9-Y9)/I9 -> 0.32015487
A10: RPN Grade 4, Year 1 | B10: RP75 | C10: 2363.6 | D10: 396.34 | I10: 2392 | J10: 430.56 | K10: 2463.8 | L10: 443.48 | M10: 2490.9 | N10: 448.36 | O10: 2565.6 | P10: 461.81 | S10: 2806.8 | T10: 505.22 | X10: ='RPNs, PENs, MHOs'!$N$30 -> Registered Nurse - other than aged care - Level 3 - PP1 | Y10: ='Award Table'!B75 -> 1631.2 | Z10: =I10-Y10 -> 760.8 | AA10: =(I10-Y10)/I10 -> 0.3180602
A11: RPN Grade 4, Year 2 | B11: RP76 | C11: 2363.6 | D11: 396.344 | I11: 2392 | J11: 430.56 | K11: 2463.8 | L11: 443.484 | M11: 2490.9 | N11: 448.362 | O11: 2565.6 | P11: 461.808 | S11: 2806.8 | T11: 505.224 | X11: ='RPNs, PENs, MHOs'!$N$31 -> Registered Nurse - other than aged care - Level 3 - PP2 | Y11: ='Award Table'!B76 -> 1661.1 | Z11: =I11-Y11 -> 730.9 | AA11: =(I11-Y11)/I11 -> 0.3055602
A12: RPN Grade 4, Year 3 | B12: RP77 | C12: 2481.8 | D12: 427.347 | I12: 2511.6 | J12: 452.088 | K12: 2587 | L12: 465.66 | M12: 2615.5 | N12: 470.79 | O12: 2694 | P12: 484.92 | S12: 2947.2 | T12: 530.496 | X12: ='RPNs, PENs, MHOs'!$N$32 -> Registered Nurse - other than aged care - Level 3 - PP3 | Y12: ='Award Table'!B77 -> 1689.8 | Z12: =I12-Y12 -> 821.8 | AA12: =(I12-Y12)/I12 -> 0.32720178
A13: RPN Grade 5 NUM Level 1 | B13: AG15 | C13: 2605.7 | D13: 440.119 | I13: 2637 | J13: 474.66 | K13: 2716.1 | L13: 488.898 | M13: 2746 | N13: 494.28 | O13: 2828.4 | P13: 509.112 | S13: 3094.3 | T13: 556.974 | X13: ='Award Table'!A80 -> Registered Nurse - other than aged care - Level 4 - G1 | Y13: ='Award Table'!B80 -> 1861.7 | Z13: =I13-Y13 -> 775.3 | AA13: =(I13-Y13)/I13 -> 0.29400834
A14: RPN Grade 5 NUM Level 2 | B14: AG16 | C14: 2700.7 | D14: 440.119 | I14: 2733.1 | J14: 491.958 | K14: 2815.1 | L14: 506.718 | M14: 2846.1 | N14: 512.298 | O14: 2931.5 | P14: 527.67 | S14: 3207.1 | T14: 577.278 | X14: ='RPNs, PENs, MHOs'!$N$35 -> Registered Nurse - other than aged care - Level 4 - G2 | Y14: ='Award Table'!B81 -> 1995.1 | Z14: =I14-Y14 -> 738 | AA14: =(I14-Y14)/I14 -> 0.27002305
A15: RPN Grade 5 NUM Level 3 | B15: AG17 | C15: 2795.8 | D15: 440.119 | I15: 2829.3 | J15: 509.274 | K15: 2914.2 | L15: 524.556 | M15: 2946.3 | N15: 530.334 | O15: 3034.7 | P15: 546.246 | S15: 3320 | T15: 597.6 | X15: ='RPNs, PENs, MHOs'!$N$36 -> Registered Nurse - other than aged care - Level 4 - G3 | Y15: ='Award Table'!B82 -> 2111.6 | Z15: =I15-Y15 -> 717.7 | AA15: =(I15-Y15)/I15 -> 0.25366698
A16: RPN Grade 5 | B16: RP51 | C16: 2600 | D16: 440.634 | I16: 2631.2 | J16: 473.616 | K16: 2710.1 | L16: 487.818 | M16: 2739.9 | N16: 493.182 | O16: 2822.1 | P16: 507.978 | S16: 3087.4 | T16: 555.732 | X16: ='RPNs, PENs, MHOs'!$N$36 -> Registered Nurse - other than aged care - Level 4 - G3 | Y16: ='Award Table'!B82 -> 2111.6 | Z16: =I16-Y16 -> 519.6 | AA16: =(I16-Y16)/I16 -> 0.19747644
A17: RPN Grade 6 | B17: RP61 | C17: 2954.7 | D17: 497.078 | I17: 2990.2 | J17: 538.236 | K17: 3079.9 | L17: 554.382 | M17: 3113.8 | N17: 560.484 | O17: 3207.2 | P17: 577.296 | S17: 3508.7 | T17: 631.566 | X17: ='Award Table'!A89 -> Registered Nurse - other than aged care - Level 5 - G6 | Y17: ='Award Table'!B89 -> 2706.9 | Z17: =I17-Y17 -> 283.3 | AA17: =(I17-Y17)/I17 -> 0.094742827
A18: RPN Nurse Practitioner | B18: AG18 | C18: 2954.7 | D18: 514.09566 | I18: 2990.2 | J18: 538.236 | K18: 3079.9 | L18: 554.382 | M18: 3113.8 | N18: 560.484 | O18: 3207.2 | P18: 577.296 | S18: 3508.7 | T18: 631.566 | X18: ='Award Table'!A89 -> Registered Nurse - other than aged care - Level 5 - G6 | Y18: ='Award Table'!B89 -> 2706.9 | Z18: =I18-Y18 -> 283.3 | AA18: =(I18-Y18)/I18 -> 0.094742827
A19: RPN Nurse Practitioner Year 2 | B19: AG19 | E19: 3010.8 | F19: 541.944 | I19: 3046.9 | J19: 548.442 | K19: 3138.3 | L19: 564.894 | M19: 3172.8 | N19: 571.104 | O19: 3268 | P19: 588.24 | S19: 3575.2 | T19: 643.536 | X19: ='Award Table'!A89 -> Registered Nurse - other than aged care - Level 5 - G6 | Y19: ='Award Table'!B89 -> 2706.9 | Z19: =I19-Y19 -> 340 | AA19: =(I19-Y19)/I19 -> 0.11158883
A20: RPN 7 | B20: AG20 | C20: 3712.2 | D20: 646.04484 | I20: 3756.8 | J20: 676.224 | K20: 3869.5 | L20: 696.51 | M20: 3912.1 | N20: 704.178 | O20: 4029.5 | P20: 725.31 | S20: 4408.3 | T20: 793.494 | X20: ='Award Table'!A89 -> Registered Nurse - other than aged care - Level 5 - G6 | Y20: ='Award Table'!B89 -> 2706.9 | Z20: =I20-Y20 -> 1049.9 | AA20: =(I20-Y20)/I20 -> 0.27946657
A21: Psychiatric Enrolled Nurse
A22: PSEN Level 1, Year 8 | B22: EP18 | C22: 1420.2 | D22: 255.636 | I22: 1437.2 | J22: 258.696 | K22: 1480.3 | L22: 266.454 | M22: 1496.6 | N22: 269.388 | O22: 1541.5 | P22: 277.47 | S22: 1686.401 | T22: 303.55218 | X22: ='Award Table'!A55 -> Enrolled Nurse - other than aged care - PP5 | Y22: ='Award Table'!B55 -> 1199.2 | Z22: =I22-Y22 -> 238 | AA22: =(I22-Y22)/I22 -> 0.16559978
A23: PSEN Level 2, Year 1 | B23: EP21 | C23: 1449.7 | D23: 260.946 | I23: 1467.0964 | J23: 264.07735 | K23: 1511.1 | L23: 271.998 | M23: 1527.7 | N23: 274.986 | O23: 1573.5 | P23: 283.23 | S23: 1721.4 | T23: 309.852 | X23: ='Award Table'!A51 -> Enrolled Nurse - other than aged care - PP1 | Y23: ='Award Table'!B51 -> 1139.9 | Z23: =I23-Y23 -> 327.1964 | AA23: =(I23-Y23)/I23 -> 0.22302311
A24: PSEN Level 2, Year 2 | B24: EP22 | C24: 1464.9 | D24: 263.682 | I24: 1482.5 | J24: 266.85 | K24: 1527 | L24: 274.86 | M24: 1543.8 | N24: 277.884 | O24: 1590.1 | P24: 286.218 | S24: 1739.6 | T24: 313.128 | X24: ='Award Table'!A52 -> Enrolled Nurse - other than aged care - PP2 | Y24: ='Award Table'!B52 -> 1155 | Z24: =I24-Y24 -> 327.5 | AA24: =(I24-Y24)/I24 -> 0.22091062
A25: PSEN Level 2, Year 3 | B25: EP23 | C25: 1479.595 | D25: 266.3271 | I25: 1497.4 | J25: 269.532 | K25: 1542.3 | L25: 277.614 | M25: 1559.3 | N25: 280.674 | O25: 1606.1 | P25: 289.098 | S25: 1757.1 | T25: 316.278 | X25: ='Award Table'!A53 -> Enrolled Nurse - other than aged care - PP3 | Y25: ='Award Table'!B53 -> 1170.4 | Z25: =I25-Y25 -> 327 | AA25: =(I25-Y25)/I25 -> 0.21837852
A26: PSEN Level 2, Year 4 | B26: YD23 | C26: 1514.203 | D26: 272.55654 | I26: 1532.4 | J26: 275.832 | K26: 1578.4 | L26: 284.112 | M26: 1595.8 | N26: 287.244 | O26: 1643.7 | P26: 295.866 | S26: 1798.2 | T26: 323.676 | X26: ='Award Table'!A54 -> Enrolled Nurse - other than aged care - PP4 | Y26: 1144.8 | Z26: =I26-Y26 -> 387.6 | AA26: =(I26-Y26)/I26 -> 0.25293657
A27: PSEN Level 3, Year 1 | B27: PE54 | C27: 1553.8 | D27: 279.684 | I27: 1572.5 | J27: 283.05 | K27: 1619.7 | L27: 291.546 | M27: 1637.5 | N27: 294.75 | O27: 1686.6 | P27: 303.588 | S27: 1845.1 | T27: 332.118 | X27: ='Award Table'!A51 -> Enrolled Nurse - other than aged care - PP1 | Y27: ='Award Table'!B51 -> 1139.9 | Z27: =I27-Y27 -> 432.6 | AA27: =(I27-Y27)/I27 -> 0.27510334
A28: PSEN Level 3, Year 2 | B28: PE55 | C28: 1609.4 | D28: 289.692 | I28: 1628.7 | J28: 293.166 | K28: 1677.6 | L28: 301.968 | M28: 1696.1 | N28: 305.298 | O28: 1747 | P28: 314.46 | S28: 1911.2 | T28: 344.016 | X28: ='Award Table'!A52 -> Enrolled Nurse - other than aged care - PP2 | Y28: ='Award Table'!B52 -> 1155 | Z28: =I28-Y28 -> 473.7 | AA28: =(I28-Y28)/I28 -> 0.29084546
A29: PSEN Level 3, Year 3 | B29: PE56 | C29: 1635.5 | D29: 294.39 | I29: 1655.1 | J29: 297.918 | K29: 1704.8 | L29: 306.864 | M29: 1723.6 | N29: 310.248 | O29: 1775.3 | P29: 319.554 | S29: 1942.2 | T29: 349.596 | X29: ='Award Table'!A53 -> Enrolled Nurse - other than aged care - PP3 | Y29: ='Award Table'!B53 -> 1170.4 | Z29: =I29-Y29 -> 484.7 | AA29: =(I29-Y29)/I29 -> 0.2928524
A30: PSEN Level 3, Year 4 | B30: PE57 | C30: 1657.4 | D30: 298.332 | I30: 1677.3 | J30: 301.914 | K30: 1727.6 | L30: 310.968 | M30: 1746.6 | N30: 314.388 | O30: 1799 | P30: 323.82 | S30: 1968.1 | T30: 354.258 | X30: ='Award Table'!A54 -> Enrolled Nurse - other than aged care - PP4 | Y30: ='Award Table'!B54 -> 1187.2 | Z30: =I30-Y30 -> 490.1 | AA30: =(I30-Y30)/I30 -> 0.29219579
A31: Mental Health Officer
A32: MHO Level 1, Year 1 | B32: SP11 | C32: 1056.8 | D32: =(C32/100)*18 -> 190.224 | G32: 1088.5 | H32: =(G32/100)*18 -> 195.93 | Q32: 1121.2 | R32: =(Q32/100)*18 -> 201.816 | U32: =1154.8 -> 1154.8 | V32: =(U32/100)*18 -> 207.864 | X32: ='Award Table'!A91 -> Nursing Assistant - other than aged care - 1st year | Y32: ='Award Table'!B91 -> 1050.7 | Z32: =(G32+H32)-Y32 -> 233.73 | AA32: =((G32+H32)-Y32)/(G32+H32) -> 0.18197177
A33: MHO Level 1, Year 2 | B33: SP12 | C33: 1085.4 | D33: =(C33/100)*18 -> 195.372 | G33: 1118 | H33: =(G33/100)*18 -> 201.24 | Q33: 1151.5 | R33: =(Q33/100)*18 -> 207.27 | U33: 1186.1 | V33: =(U33/100)*18 -> 213.498 | X33: ='Award Table'!A92 -> Nursing Assistant - other than aged care - 2nd year | Y33: ='Award Table'!B92 -> 1067.3 | Z33: =(G33+H33)-Y33 -> 251.94 | AA33: =((G33+H33)-Y33)/(G33+H33) -> 0.19097359
A34: MHO Level 1, Year 3 | B34: SP13 | C34: 1126.3 | D34: =(C34/100)*18 -> 202.734 | G34: 1160.1 | H34: =(G34/100)*18 -> 208.818 | Q34: 1194.9 | R34: =(Q34/100)*18 -> 215.082 | U34: 1230.8 | V34: =(U34/100)*18 -> 221.544 | X34: ='Award Table'!A93 -> Nursing Assistant - other than aged care - 3rd year + | Y34: ='Award Table'!B93 -> 1084.4 | Z34: =(G34+H34)-Y34 -> 284.518 | AA34: =((G34+H34)-Y34)/(G34+H34) -> 0.20784152
A35: MHO Level 1, Year 4 | B35: SP14 | C35: 1154.6 | D35: =(C35/100)*18 -> 207.828 | G35: 1189.2 | H35: =(G35/100)*18 -> 214.056 | Q35: 1224.9 | R35: =(Q35/100)*18 -> 220.482 | U35: 1261.7 | V35: =(U35/100)*18 -> 227.106 | X35: ='Award Table'!A93 -> Nursing Assistant - other than aged care - 3rd year + | Y35: ='Award Table'!B93 -> 1084.4 | Z35: =(G35+H35)-Y35 -> 318.856 | AA35: =((G35+H35)-Y35)/(G35+H35) -> 0.22722582
A36: MHO Level 1, Year 5 | B36: SP15 | C36: 1183.5 | D36: =(C36/100)*18 -> 213.03 | G36: 1219 | H36: =(G36/100)*18 -> 219.42 | Q36: 1255.6 | R36: =(Q36/100)*18 -> 226.008 | U36: 1293.3 | V36: =(U36/100)*18 -> 232.794 | X36: ='Award Table'!A93 -> Nursing Assistant - other than aged care - 3rd year + | Y36: ='Award Table'!B93 -> 1084.4 | Z36: =(G36+H36)-Y36 -> 354.02 | AA36: =((G36+H36)-Y36)/(G36+H36) -> 0.24611727
A37: MHO Level 1, Year 6 | B37: SP16 | C37: 1212.2 | D37: =(C37/100)*18 -> 218.196 | G37: 1248.6 | H37: =(G37/100)*18 -> 224.748 | Q37: 1286 | R37: =(Q37/100)*18 -> 231.48 | U37: 1324.6 | V37: =(U37/100)*18 -> 238.428 | X37: ='Award Table'!A93 -> Nursing Assistant - other than aged care - 3rd year + | Y37: ='Award Table'!B93 -> 1084.4 | Z37: =(G37+H37)-Y37 -> 388.948 | AA37: =((G37+H37)-Y37)/(G37+H37) -> 0.26398923
A38: MHO Level 1, Year 7 | B38: SP17 | C38: 1235.8 | D38: =(C38/100)*18 -> 222.444 | G38: 1272.9 | H38: =(G38/100)*18 -> 229.122 | Q38: 1311.1 | R38: =(Q38/100)*18 -> 235.998 | U38: 1350.4 | V38: =(U38/100)*18 -> 243.072 | X38: ='Award Table'!A93 -> Nursing Assistant - other than aged care - 3rd year + | Y38: ='Award Table'!B93 -> 1084.4 | Z38: =(G38+H38)-Y38 -> 417.622 | AA38: =((G38+H38)-Y38)/(G38+H38) -> 0.27803987
A39: MHO Level 1, Year 8 | B39: SP18 | C39: 1259.4 | D39: =(C39/100)*18 -> 226.692 | G39: 1297.2 | H39: =(G39/100)*18 -> 233.496 | Q39: 1336.1 | R39: =(Q39/100)*18 -> 240.498 | U39: 1376.2 | V39: =(U39/100)*18 -> 247.716 | X39: ='Award Table'!A93 -> Nursing Assistant - other than aged care - 3rd year + | Y39: ='Award Table'!B93 -> 1084.4 | Z39: =(G39+H39)-Y39 -> 446.296 | AA39: =((G39+H39)-Y39)/(G39+H39) -> 0.2915641
A40: MHO Level 2, Year 1 | B40: SP21 | C40: 1264.5 | D40: =(C40/100)*18 -> 227.61 | G40: 1302.4 | H40: =(G40/100)*18 -> 234.432 | Q40: 1341.5 | R40: =(Q40/100)*18 -> 241.47 | U40: 1381.8 | V40: =(U40/100)*18 -> 248.724 | X40: ='Award Table'!A94 -> Nursing Assistant - other than aged care - Experienced (hold relevant Cert III) | Y40: ='Award Table'!B94 -> 1119.1 | Z40: =(G40+H40)-Y40 -> 417.732 | AA40: =((G40+H40)-Y40)/(G40+H40) -> 0.27181371
...

Sheet Allowances - RPNs, PENs, MHOs
A1: Registered Psychiatric Nurses & Psychiatric Enrolled Nurses
A3: Shift Allowances
B4: FFPPOA 20 May 2025 | C4: FFPPOA 20 May 2025 | D4: FFPPOA 5 Jan 2026 | E4: FFPPOA 15 June 2026 | F4: FFPPOA 1 July 2026 | G4: FFPPOA 4 Jan 2027 | H4: FFPPOA 7 June 2027 | I4: FPPOA 17 April 2028 | J4: FFPPOA 1 May 2028
A5: Morning shift | B5: 38 | C5: 39.1 | D5: 39.6 | E5: 40.8 | G5: 41.3 | H5: 42.5 | I5: 46.5
A6: Afternoon Shift | B6: 38 | C6: 39.1 | D6: 39.6 | E6: 40.8 | G6: 41.3 | H6: 42.5 | I6: 46.5
A7: Night Shift (Non-casual) - Monday - Thursday | B7: 90.7 | C7: 93.4 | D7: 94.5 | E7: 97.3 | F7: 114 | G7: 115.9 | H7: 119.4 | I7: 130.6
A8: Night Shift (Non-casual) - Friday and Saturday | B8: 90.7 | C8: 93.4 | D8: 94.5 | E8: 97.3 | F8: 126.6 | G8: 128 | H8: 131.8 | I8: 144.2
A9: Night Shift (Non-casual) - Sunday | B9: 160 | C9: 164.8 | D9: 166.8 | E9: 171.8 | F9: 196.1 | G9: 198.3 | H9: 204.3 | I9: 223.5
A10: Night Shift Casual | B10: 90.7 | C10: 93.4 | D10: 94.5 | E10: 97.3 | F10: 97.3 | G10: 98.4 | H10: 101.4 | I10: 110.9
A12: Change of Roster
B13: FFPPOA 20 May 2025 | C13: FFPPOA 20 May 2025 | D13: FFPPOA 5 Jan 2026 | E13: FFPPOA 15 June 2026 | F13: FFPPOA 1 July 2026 | G13: FFPPOA 4 Jan 2027 | H13: FFPPOA 7 June 2027 | I13: FPPOA 17 April 2028 | J13: FFPPOA 1 May 2028
A14: Change of roster (8-14 days) | B14: 38 | C14: 39.1 | D14: 39.6 | E14: 40.8 | G14: 41.3 | H14: 42.5 | I14: 46.5
A15: Change of roster (7 days or less) | B15: 75.9 | C15: 78.2 | D15: 79.1 | E15: 81.5 | G15: 82.4 | H15: 84.9 | I15: 92.9
A17: Change of Ward
B18: FFPPOA 20 May 2025 | C18: FFPPOA 20 May 2025 | D18: FFPPOA 5 Jan 2026 | E18: FFPPOA 15 June 2026 | F18: FFPPOA 1 July 2026 | G18: FFPPOA 4 Jan 2027 | H18: FFPPOA 7 June 2027 | I18: FPPOA 17 April 2028 | J18: FFPPOA 1 May 2028
A19: Change of Ward Allowance | B19: 38 | C19: 39.1 | D19: 39.6 | E19: 40.8 | G19: 41.3 | H19: 42.5 | I19: 46.5
A21: On Call
B22: FFPPOA 20 May 2025 | C22: FFPPOA 20 May 2025 | D22: FFPPOA 5 Jan 2026 | E22: FFPPOA 15 June 2026 | F22: FFPPOA 1 July 2026 | G22: FFPPOA 4 Jan 2027 | H22: FFPPOA 7 June 2027 | I22: FPPOA 17 April 2028 | J22: FFPPOA 1 May 2028
A23: Non CATT
A24: On-call Mon-Friday | B24: 77.9 | C24: 80.2 | D24: 81.2 | E24: 83.6 | G24: 84.5 | H24: 87 | I24: 95.2
A25: On-call Allowance - Saturday | B25: 116.9 | C25: 120.4 | D25: 121.8 | E25: 125.5 | G25: 126.9 | H25: 130.7 | I25: 143
A26: On-call Allowance - Sunday and Weekday Public Holiday | B26: 136.4 | C26: 140.5 | D26: 142.2 | E26: 146.5 | G26: 148.1 | H26: 152.5 | I26: 166.8
A27: On-call Allowance - Weekend Public Holiday | B27: 204.6 | C27: 210.7 | D27: 213.2 | E27: 219.6 | G27: 222 | H27: 228.7 | I27: 250.2
A28: CATT
A29: On-call Mon-Friday | B29: 174.4 | C29: 179.6 | D29: 181.8 | E29: 187.3 | G29: 189.3 | H29: 195 | I29: 213.3
A30: On-call Allowance - Saturday | B30: 213.4 | C30: 219.8 | D30: 222.4 | E30: 229.1 | G30: 231.7 | H30: 238.7 | I30: 261.1
A31: On-call Allowance - Sunday and Weekday Public Holiday | B31: 232.9 | C31: 239.8 | D31: 242.8 | E31: 250.1 | G31: 252.9 | H31: 260.5 | I31: 285
A32: On-call Allowance - Weekend Public Holiday | B32: 301.1 | C32: 310.1 | D32: 313.8 | E32: 323.2 | G32: 326.8 | H32: 336.6 | I32: 368.4
A33: To be hidden
A36: Uniform Allowance
B37: FFPPOA 20 May 2025 | C37: FFPPOA 20 May 2025 | D37: FFPPOA 5 Jan 2026 | E37: FFPPOA 15 June 2026 | F37: FFPPOA 1 July 2026 | G37: FFPPOA 4 Jan 2027 | H37: FFPPOA 7 June 2027 | I37: FPPOA 17 April 2028 | J37: FFPPOA 1 May 2028
A38: Daily | B38: 2.02 | C38: 2.08 | D38: 2.1 | E38: 2.16 | G38: 2.18 | H38: 2.25 | I38: 2.46
A39: Weekly | B39: 9.96 | C39: 10.26 | D39: 10.38 | E39: 10.69 | G39: 10.81 | H39: 11.13 | I39: 12.18
A41: Laundry Allowance
B42: FFPPOA 20 May 2025 | C42: FFPPOA 20 May 2025 | D42: FFPPOA 5 Jan 2026 | E42: FFPPOA 15 June 2026 | F42: FFPPOA 1 July 2026 | G42: FFPPOA 4 Jan 2027 | H42: FFPPOA 7 June 2027 | I42: FPPOA 17 April 2028 | J42: FFPPOA 1 May 2028
A43: Daily | B43: 0.53 | C43: 0.55 | D43: 0.56 | E43: 0.58 | G43: 0.59 | H43: 0.61 | I43: 0.67
A44: Weekly | B44: 2.7 | C44: 2.78 | D44: 2.81 | E44: 2.89 | G44: 2.92 | H44: 3.01 | I44: 3.29
A46: Meal Allowance
B47: FFPPOA 20 May 2025 | C47: FFPPOA 20 May 2025 | D47: FFPPOA 5 Jan 2026 | E47: FFPPOA 15 June 2026 | F47: FFPPOA 1 July 2026 | G47: FFPPOA 4 Jan 2027 | H47: FFPPOA 7 June 2027 | I47: FPPOA 17 April 2028 | J47: FFPPOA 1 May 2028
A48: Allowance A | B48: 15 | C48: 15.5 | D48: 15.7 | E48: 16.2 | G48: 16.4 | H48: 16.9 | I48: 18.5
...

Sheet AHP1
A1: Classification | B1: Paycode | C1: FFPPOA 20 May 2025 | D1: FFPPOA 20 May 2026 | E1: FFPPOA 1 October 2026 | F1: FFPPOA 20 May 2027 | G1: FFPPOA 1 July 2027 | H1: FFPPOA 20 May 2028 | I1: FFPPOA 1 July 2028 | K1: Award Classification | L1: Award Rate - non aged care Employees (1/10/26) | M1: Rate Above Award
A2: AHP - Aboriginal Health Worker - Trainee - *These rates apply to specifically funded positions. Employer initiated roles are paid in accordance with AHP Grade 1 structure.
A3: Aboriginal Health Worker Trainee - Year 1 | B3: SP40 | C3: 1290.9 | D3: 1329.6 | E3: N/A | F3: 1329.6 | G3: N/A | H3: 1329.6 | I3: N/A
A4: Aboriginal Health Worker Trainee - Year 2 | B4: SP41 | C4: 1408.4 | D4: 1450.7 | E4: N/A | F4: 1450.7 | G4: N/A | H4: 1450.7 | I4: N/A
A5: Aboriginal Health Worker Trainee - Year 3 | B5: SP42 | C5: 1532.1 | D5: 1578.1 | E5: N/A | F5: 1578.1 | G5: N/A | H5: 1578.1 | I5: N/A
A6: AHP - Aboriginal Mental Health Clinician
A7: Grade 1, Year 1 (HPS Year 1 -3) | B7: AG21 | C7: 1139.6 | D7: 1173.8 | E7: 1240.4 | F7: 1277.6 | G7: 1315.9 | H7: 1355.4 | I7: 1391.3 | K7: ='Award Table'!A2 -> Support Services Level 2 | L7: ='Award Table'!B2 -> 1065.2 | M7: 175.2
A8: Grade 2, Year 1 (Grad Year) | B8: AG28 | C8: 1398.2 | D8: 1440.1 | E8: 1521.8 | F8: 1567.4 | G8: 1614.4 | H8: 1662.9 | I8: 1706.9 | K8: HPSS 1.1 AQF 7 | L8: 1308.9 | M8: 212.9
A9: Grade 2, Year 2 | B9: AG29 | C9: 1469.2 | D9: 1513.3 | E9: 1599.1 | F9: 1647.1 | G9: 1696.5 | H9: 1747.4 | I9: 1793.7 | K9: HPSS 1.2 | L9: 1409 | M9: 190.1
A10: Grade 2, Year 3 | B10: AG30 | C10: 1559.1 | D10: 1605.9 | E10: 1697 | F10: 1747.9 | G10: 1800.3 | H10: 1854.3 | I10: 1903.4 | K10: HPSS 1.2 | L10: 1409 | M10: 288
A11: Grade 2, Year 4 | B11: AG31 | C11: 1627 | D11: 1675.8 | E11: 1770.8 | F11: 1823.9 | G11: 1878.7 | H11: 1935 | I11: 1986.3 | K11: HPSS 1.3 | L11: 1565.3 | M11: 205.5
A12: Grade 2, Year 5 | B12: AG32 | C12: 1700.9 | D12: 1751.9 | E12: 1851.2 | F12: 1906.8 | G12: 1964 | H12: 2022.9 | I12: 2076.5 | K12: HPSS 1.3 | L12: 1565.3 | M12: 285.9
A13: Grade 3, Year 1 | B13: AG33 | C13: 1787.4 | D13: 1841 | E13: 1945.4 | F13: 2003.7 | G13: 2063.9 | H13: 2125.8 | I13: 2182.1 | K13: HPSS 2.1 | L13: 1945.4 | M13: 0
A14: Grade 3, Year 2 | B14: AG34 | C14: 1869.4 | D14: 1925.5 | E14: 2034.7 | F14: 2095.7 | G14: 2158.6 | H14: 2223.3 | I14: 2282.3 | K14: HPSS 2.1 | L14: 1945.4 | M14: 89.3
A15: Grade 3, Year 3 | B15: AG35 | C15: 1984.2 | D15: 2043.7 | E15: 2159.6 | F15: 2224.4 | G15: 2291.1 | H15: 2359.8 | I15: 2422.4 | K15: HPSS 2.1 | L15: 1945.4 | M15: 214.2
A16: Grade 3, Year 4 | B16: AG36 | C16: 2054.5 | D16: 2116.1 | E16: 2236.1 | F16: 2303.2 | G16: 2372.3 | H16: 2443.4 | I16: 2508.2 | K16: HPSS 2.1 | L16: 1945.4 | M16: 290.7
A17: Grade 4, Year 1 | B17: AG37 | C17: 2062.7 | D17: 2124.6 | E17: 2245.1 | F17: 2312.4 | G17: 2381.8 | H17: 2453.2 | I17: 2518.3 | K17: HPSS 3 | L17: 1983.2 | M17: 261.9
A18: Grade 4, Year 2 | B18: AG38 | C18: 2135.2 | D18: 2199.3 | E18: 2324 | F18: 2393.7 | G18: 2465.5 | H18: 2539.5 | I18: 2606.8 | K18: HPSS 3 | L18: 1983.2 | M18: 340.8
A19: Grade 4, Year 3 | B19: AG39 | C19: 2192.3 | D19: 2258.1 | E19: 2386.1 | F19: 2457.7 | G19: 2531.4 | H19: 2607.4 | I19: 2676.5 | K19: HPSS 3 | L19: 1983.2 | M19: 402.9
A20: Grade 4, Year 4 | B20: AG40 | C20: 2356.7 | D20: 2427.401 | E20: 2565 | F20: 2642 | G20: 2721.2 | H20: 2802.9 | I20: 2877.2 | K20: HPSS 3 | L20: ='Award Table'!B38 -> 1983.2 | M20: 581.8
A21: Grade 5 Year 1 | B21: AG49 | C21: 2497.3 | D21: 2572.2 | E21: 2718 | F21: 2799.6 | G21: 2883.6 | H21: 2970.1 | I21: 3048.8 | K21: HPSS 4 | L21: 2499.1 | M21: 218.9
A22: Grade 5 Year 2 | B22: AG50 | C22: 2581.5 | D22: 2658.9 | E22: 2809.7 | F22: 2893.9 | G22: 2980.8 | H22: 3070.2 | I22: 3151.6 | K22: HPSS 4 | L22: 2499.1 | M22: 310.6
A23: Grade 5 Year 3 | B23: AG51 | C23: 2666.4 | D23: 2746.4 | E23: 2902.1 | F23: 2989.2 | G23: 3078.9 | H23: 3171.2 | I23: 3255.3 | K23: HPSS 4 | L23: 2499.1 | M23: 403
A24: Grade 5 Year 4 | B24: AG52 | C24: 2751.9 | D24: 2834.5 | E24: 2995.2 | F24: 3085.1 | G24: 3177.6 | H24: 3273 | I24: 3359.7 | K24: HPSS 4 | L24: 2499.1 | M24: 496.1
A25: Grade 5 Clin Educator | B25: AG53 | C25: 2751.9 | D25: 2834.5 | E25: 2995.2 | F25: 3085.1 | G25: 3177.6 | H25: 3273 | I25: 3359.7 | K25: HPSS 4 | L25: 2499.1 | M25: 496.1
A26: Grade 6 | B26: AG54 | C26: 3104.8 | D26: 3197.9 | E26: 3197.9 | F26: 3293.8 | G26: 3392.7 | H26: 3494.4 | I26: 3587 | K26: HPSS 4 | L26: 2499.1 | M26: 698.8
A27: Grade 7 | B27: AG55 | C27: 3371.5 | D27: 3472.6 | E27: 3472.6 | F27: 3576.8 | G27: 3684.1 | H27: 3794.6 | I27: 3895.2 | K27: HPSS 4 | L27: 2499.1 | M27: 973.5
A28: Grade 8 | B28: AG56 | C28: 3770.1 | D28: 3883.2 | E28: 3883.2 | F28: 3999.7 | G28: 4119.7 | H28: 4243.3 | I28: 4355.7 | K28: HPSS 4 | L28: 2499.1 | M28: 1384.1
A29: Classification | B29: Paycode | C29: FFPPOA 20 May 2025 | D29: FFPPOA 20 May 2026 | E29: FFPPOA 1 October 2026 | F29: FFPPOA 20 May 2027 | G29: FFPPOA 1 July 2027 | H29: FFPPOA 20 May 2028 | I29: FFPPOA 1 July 2028 | K29: Award Classification | L29: Award Rate - non aged care Employees (1/10/26) | M29: Rate Above Award
A30: AHP - Art Therapist
A31: Grade 1, Year 1 (HPS Year 1 -3) | B31: YD50 | C31: 1139.6 | D31: 1173.8 | E31: 1240.4 | F31: 1277.6 | G31: 1315.9 | H31: 1355.4 | I31: 1391.3 | K31: Support Services Level 2 | L31: ='Award Table'!B2 -> 1065.2 | M31: 108.6
A32: Grade 2, Year 1 (Grad Year) | B32: YD57 | C32: 1398.2 | D32: 1440.1 | E32: 1521.8 | F32: 1567.4 | G32: 1614.4 | H32: 1662.9 | I32: 1706.9 | K32: HPSS 1.1 AQF 7 | L32: 1308.9 | M32: 131.2
A33: Grade 2, Year 2 | B33: YD58 | C33: 1469.2 | D33: 1513.3 | E33: 1599.1 | F33: 1647.1 | G33: 1696.5 | H33: 1747.4 | I33: 1793.7 | K33: HPSS 1.2 | L33: 1409 | M33: 104.3
A34: Grade 2, Year 3 | B34: YD59 | C34: 1559.1 | D34: 1605.9 | E34: 1697 | F34: 1747.9 | G34: 1800.3 | H34: 1854.3 | I34: 1903.4 | K34: HPSS 1.2 | L34: 1409 | M34: 196.9
A35: Grade 2, Year 4 | B35: YD60 | C35: 1627 | D35: 1675.8 | E35: 1770.8 | F35: 1823.9 | G35: 1878.7 | H35: 1935 | I35: 1986.3 | K35: HPSS 1.3 | L35: 1565.3 | M35: 110.5
A36: Grade 2, Year 5 | B36: AG57 | C36: 1700.9 | D36: 1751.9 | E36: 1851.2 | F36: 1906.8 | G36: 1964 | H36: 2022.9 | I36: 2076.5 | K36: HPSS 1.3 | L36: 1565.3 | M36: 186.6
A37: Grade 3, Year 1 | B37: YD61 | C37: 1787.4 | D37: 1841 | E37: 1945.4 | F37: 2003.7 | G37: 2063.9 | H37: 2125.8 | I37: 2182.1 | K37: HPSS 2.1 | L37: 1945.4 | M37: 0
A38: Grade 3, Year 2 | B38: YD62 | C38: 1869.4 | D38: 1925.5 | E38: 2034.7 | F38: 2095.7 | G38: 2158.6 | H38: 2223.3 | I38: 2282.3 | K38: HPSS 2.1 | L38: 1945.4 | M38: 89.3
A39: Grade 3, Year 3 | B39: YD63 | C39: 1984.2 | D39: 2043.7 | E39: 2159.6 | F39: 2224.4 | G39: 2291.1 | H39: 2359.8 | I39: 2422.4 | K39: HPSS 2.1 | L39: 1945.4 | M39: 98.3
A40: Grade 3, Year 4 | B40: YD64 | C40: 2054.5 | D40: 2116.1 | E40: 2236.1 | F40: 2303.2 | G40: 2372.3 | H40: 2443.4 | I40: 2508.2 | K40: HPSS 2.1 | L40: 1945.4 | M40: 170.7
...

Sheet AHP2
A1: Classification | B1: Paycode | C1: FFPPOA 20 May 2025 | D1: FFPPOA 20 May 2026 | E1: FFPPOA 1/10/2026 - 5.65% | F1: Minimum Award Rate | G1: Award Classification
A2: Welfare Workers AQF5 or below (6-12 month course) | F2: AQF5
A3: Class 1, Year 1 | B3: YA1 | C3: 1147.1 | D3: 1181.5 | E3: 1248.5 | F3: 1232.7 | G3: Level 1 (AQF5) - Year 1
A4: Class 1, Year 2 | B4: YA2 | C4: 1208.8 | D4: 1245.1 | E4: 1315.6972 | F4: 1308.8 | G4: Level 1 (AQF5) - Year 2
A5: Class 1, Year 3 | B5: YA3 | C5: 1235.4 | D5: 1272.5 | E5: 1344.7 | F5: 1308.8 | G5: Level 1 (AQF5) - Year 3
A6: Class 1, Year 4 | B6: YA4 | C6: 1280.1 | D6: 1318.5 | E6: 1426 | F6: 1426 | G6: Level 1 (AQF5) - Year 4
A7: Class 1, Year 5 | B7: YA5 | E7: 1436.6 | F7: 1426 | G7: Level 1 (AQF5) - Year 5
A8: Class 1, Year 6 | B8: YA6 | E8: 1487.5 | F8: 1426 | G8: Level 1 (AQF5) - Year 6
A9: Class 1, Year 7 | B9: YA7 | C9: 1443.1 | D9: 1486.4 | E9: 1570.7 | F9: 1541.3 | G9: Level 1 (AQF5) - Year 7
A10: Welfare Workers AQF6 (12 - 24 month course) | F10: AQF6
A11: Class 1, Year 1 | B11: YE1 | C11: 1147.1 | D11: 1181.5 | E11: 1248.5 | F11: 1232.7 | G11: Level 1 (AQF6) - Year 1
A12: Class 1, Year 2 | B12: YE2 | C12: 1208.8 | D12: 1245.1 | E12: 1315.6972 | F12: 1308.8 | G12: Level 1 (AQF6) - Year 2
A13: Class 1, Year 3 | B13: YE3 | C13: 1235.4 | D13: 1272.5 | E13: 1344.7 | F13: 1308.8 | G13: Level 1 (AQF6) - Year 3
A14: Class 1, Year 4 | B14: YE4 | C14: 1280.1 | D14: 1318.5 | E14: 1483.3 | F14: 1483.3 | G14: Level 1 (AQF6) - Year 4
A15: Class 1, Year 5 | B15: YE5 | E15: 1483.3 | F15: 1483.3 | G15: Level 1 (AQF6) - Year 5
A16: Class 1, Year 6 | B16: YE6 | E16: 1487.5 | F16: 1483.3 | G16: Level 1 (AQF6) - Year 6
A17: Class 1, Year 7 | B17: YE7 | C17: 1443.1 | D17: 1486.4 | E17: 1659.3 | F17: 1659.3 | G17: Level 1 (AQF6) - Year 7
A18: Welfare Workers AQF7 (Degree) | F18: AQF7
A19: Class 1, Year 1 | B19: YE8 | C19: 1147.1 | D19: 1181.5 | E19: 1308.8 | F19: 1308.8 | G19: Level 1 (AQF7) - Year 1
A20: Class 1, Year 2 | B20: YE9 | C20: 1208.8 | D20: 1245.1 | E20: 1409 | F20: 1409 | G20: Level 1 (AQF7) - Year 2
A21: Class 1, Year 3 | B21: YE10 | C21: 1235.4 | D21: 1272.5 | E21: 1409 | F21: 1409 | G21: Level 1 (AQF7) - Year 3
A22: Class 1, Year 4 | B22: YE11 | C22: 1280.1 | D22: 1318.5 | E22: 1565.3 | F22: 1565.3 | G22: Level 1 (AQF7) - Year 4
A23: Class 1, Year 5 | B23: YE12 | E23: 1565.3 | F23: 1565.3 | G23: Level 1 (AQF7) - Year 5
A24: Class 1, Year 6 | B24: YE13 | E24: 1565.3 | F24: 1565.3 | G24: Level 1 (AQF7) - Year 6
A25: Class 1, Year 7 | B25: YE14 | C25: 1443.1 | D25: 1486.4 | E25: 1689.5 | F25: 1689.5 | G25: Level 1 (AQF7) - Year 7
A27: Class 2, Year 1 | B27: YA8 | E27: 1506.9 | F27: 1506.8542 | G27: Level 1 but if supervising/senior clinician/Specialist/Educator then paid at Class III
A28: Class 2, Year 2 | B28: YA9 | E28: 1550.2 | F28: 1550.1789 | G28: Level 1 but if supervising/senior clinician/Specialist/Educator then paid at Class III
A29: Class 2, Year 3 | B29: YA10 | E29: 1609.4 | F29: 1609.3541 | G29: Level 1 but if supervising/senior clinician/Specialist/Educator then paid at Class III
A30: Class 2, Year 4 | B30: YA11 | E30: 1673.3 | F30: 1673.2844 | G30: Level 1 but if supervising/senior clinician/Specialist/Educator then paid at Class III
A31: Class 2, Year 7 (Degree Qualified Only) | B31: YE15 | E31: 1689.5 | F31: 1689.5 | G31: ONLY DEGREE QUALIFIED - Treated as Level 1 but if supervising/senior clinician/Specialist/Educator then paid at Class III
A32: Class 3, Year 1 | B32: YA12 | C32: 1451.1 | D32: 1494.6 | E32: 1945.4 | F32: 1945.4 | G32: Level 2.1 Year 1
A33: Class 3, Year 2 | B33: YA13 | C33: 1499.9 | D33: 1544.9 | E33: 1945.4 | F33: 1945.4 | G33: Level 2.1 Year 2
A34: Class 3, Year 3 | B34: YA14 | C34: 1584.1 | D34: 1631.6 | E34: 1945.4 | F34: 1945.4 | G34: Level 2.1 Year 3
A35: Class 3, Year 4 and 5 | B35: HP71 | E35: 1945.4 | F35: 1945.4 | G35: Level 2.1 Year 4 and 5
A36: Class 3, Year 6 | B36: YE16 | E36: 1983.2 | F36: 1983.2 | G36: Level 2.2
A37: Class 4, Year 1 | B37: YA15 | E37: 1983.2 | F37: 1983.2 | G37: Level 3
A38: Class 4, Year 2 | B38: YA16 | E38: 1983.2 | F38: 1983.2 | G38: Level 3
A39: Class 4, Year 3 | B39: YA17 | E39: 1983.2 | F39: 1983.2 | G39: Level 3
A40: Class 4, Year 4 (Health Professional Level 3, Pay Point 4) | B40: AA32 | E40: 1983.2 | F40: 1983.2 | G40: Level 3
A41: Class 4, Year 5 (Health Professional Level 3, Pay Point 5) | B41: AA33 | E41: 1983.2 | F41: 1983.2 | G41: Level 3
...

Sheet Award Table
A1: Support Services Level 1 | B1: 1024.7
A2: Support Services Level 2 | B2: 1065.2
A3: Support Services Level 3 | B3: 1106.2
A4: Support Services Level 4 | B4: 1119.1
A5: Support Services Level 5 | B5: 1157.2
A6: Support Services Level 6 | B6: 1219.5
A7: Support Services Level 7 | B7: 1241.4
A8: Support Services Level 8 PP1 | B8: 1283.5
A9: Support Services Level 8 PP2 | B9: 1317.2
A10: Support Services Level 8 PP3 | B10: 1409.7
A11: Support Services Level 9 PP1 | B11: 1435
A12: Support Services Level 9 PP2 | B12: 1485.9
... A57: Enrolled Nurse - aged care - supervising other Direct Care employees | B57: 1476.6
A59: Registered Nurse - other than aged care - Level 1 - PP1 | B59: 1219.5 | D59: Registered Nurse - aged care - Level 1 - first year of employment at level | E59: 1515.2
A60: Registered Nurse - other than aged care - Level 1 - PP2 | B60: 1244.5 | D60: Registered Nurse - aged care - Level 1 - exceed 1 year and up to 4 years at level | E60: 1592.1
A61: Registered Nurse - other than aged care - Level 1 - PP3 | B61: 1275 | D61: Registered Nurse - aged care - Level 1 - exceed 4 years at level | E61: 1740.3
A62: Registered Nurse - other than aged care - Level 1 - 4 year degree | B62: 1230.4
A63: Registered Nurse - other than aged care - Level 1 - PP4 | B63: 1309
A64: Registered Nurse - other than aged care - Level 1 - Masters degree | B64: 1272.7
A65: Registered Nurse - other than aged care - Level 1 - PP5 | B65: 1349.2
A66: Registered Nurse - other than aged care - Level 1 - PP6 | B66: 1388.1
A67: Registered Nurse - other than aged care - Level 1 - PP7 | B67: 1428.3
A68: Registered Nurse - other than aged care - Level 1 - PP8+ | B68: 1465.5
A70: Registered Nurse - other than aged care - Level 2 - PP1 | B70: 1504.4 | D70: Registered Nurse - aged care - Level 2 - first 3 years at level | E70: 1884.6
A71: Registered Nurse - other than aged care - Level 2 - PP2 | B71: 1528.3 | D71: Registered Nurse - aged care - Level 2 - exceed 3 years at level | E71: 1969.7
A72: Registered Nurse - other than aged care - Level 2 - PP3 | B72: 1554.8
A73: Registered Nurse - other than aged care - Level 2 - PP4+ | B73: 1580.3
A75: Registered Nurse - other than aged care - Level 3 - PP1 | B75: 1631.2 | D75: Registered Nurse - aged care - Level 3 | E75: 2038.4
A76: Registered Nurse - other than aged care - Level 3 - PP2 | B76: 1661.1
A77: Registered Nurse - other than aged care - Level 3 - PP3 | B77: 1689.8
A78: Registered Nurse - other than aged care - Level 3 - PP4+ | B78: 1720.1
A80: Registered Nurse - other than aged care - Level 4 - G1 | B80: 1861.7 | D80: Registered Nurse - aged care - Level 4 | E80: 2356.2
A81: Registered Nurse - other than aged care - Level 4 - G2 | B81: 1995.1
A82: Registered Nurse - other than aged care - Level 4 - G3 | B82: 2111.6
A84: Registered Nurse - other than aged care - Level 5 - G1 | B84: 1878.6 | D84: Registered Nurse - aged care - Level 5 | E84: 2663.2
A85: Registered Nurse - other than aged care - Level 5 - G2 | B85: 1978.4
A86: Registered Nurse - other than aged care - Level 5 - G3 | B86: 2111.6
A87: Registered Nurse - other than aged care - Level 5 - G4 | B87: 2243.1
A88: Registered Nurse - other than aged care - Level 5 - G5 | B88: 2474.1
A89: Registered Nurse - other than aged care - Level 5 - G6 | B89: 2706.9
...

Sheet Managers, Support, LLEW
A1: Classification | B1: Paycode | C1: FFPPOA 20 May 2025 | D1: FFPPOA 20 May 2026 | E1: FFPPOA 20 May 2027 | F1: FFPPOA 20 May 2028 | H1: Award Classification | I1: Award Rate - non aged care Employees (1/7/26) | J1: Rate Above Award
A2: Support Services
A3: Cook Employed Alone | B3: GR20 | C3: 1238.8 | D3: 1276 | E3: 1314.2 | F3: 1353.6 | H3: Support Services Level 3 | I3: 1106.2 | J3: =D3-I3 -> 169.8
A4: Diet Cook | B4: GR70 | C4: 1238.8 | D4: 1276 | E4: 1314.2 | F4: 1353.6 | H4: Support Services Level 3 | I4: 1106.2 | J4: =D4-I4 -> 169.8
A5: Dietary Supervisor | B5: GR10 | C5: 1238.8 | D5: 1276 | E5: 1314.2 | F5: 1353.6 | H5: Support Services Level 4 | I5: 1119.1 | J5: =D5-I5 -> 156.9
A6: Food and Domestic Assistant | B6: HA10 | C6: 1059.9 | D6: 1091.7 | E6: 1124.4 | F6: 1158.1 | H6: Support Services Level 2 | I6: 1065.2 | J6: =D6-I6 -> 26.5
A7: Food Monitor | B7: GS60 | C7: 1238.8 | D7: 1276 | E7: 1314.2 | F7: 1353.6 | H7: Support Services Level 5 | I7: 1157.2 | J7: =D7-I7 -> 118.8
A8: Food Services Supervisor | B8: FS10 | C8: 1455.9 | D8: 1499.6 | E8: 1544.6 | F8: 1590.9 | H8: Support Services Level 8 PP1 | I8: 1283.5 | J8: =D8-I8 -> 216.1
A9: Other Cook | B9: GS50 | C9: 1129.1 | D9: 1163 | E9: 1197.9 | F9: 1233.8 | H9: Support Services Level 3 | I9: 1106.2 | J9: =D9-I9 -> 56.8
A10: Gardener (Non-Trade) | B10: JP50 | C10: 1129.1 | D10: 1163 | E10: 1197.9 | F10: 1233.8 | H10: Support Services Level 3 | I10: 1106.2 | J10: =D10-I10 -> 56.8
A11: Gardener Trade | B11: GF60 | C11: 1409.1 | D11: 1451.4 | E11: 1495 | F11: 1539.9 | H11: Support Services Level 6 | I11: 1219.5 | J11: =D11-I11 -> 231.9
A12: General Services Supervisor | B12: GN10 | C12: 1455.9 | D12: 1499.6 | E12: 1544.6 | F12: 1590.9 | H12: Support Services Level 8 PP1 | I12: 1283.5 | J12: =D12-I12 -> 216.1
A13: Handyperson (Unqualified) | B13: KH60 | C13: 1129.1 | D13: 1163 | E13: 1197.9 | F13: 1233.8 | H13: Support Services Level 3 | I13: 1106.2 | J13: =D13-I13 -> 56.8
A14: Handyperson Advanced | B14: GL60 | C14: 1455.9 | D14: 1499.6 | E14: 1544.6 | F14: 1590.9 | H14: Support Services Level 6 | I14: 1219.5 | J14: =D14-I14 -> 280.1
... A24: Allied Health Assistant Grade3 | B24: AJ98 | C24: 1302.4 | D24: 1341.5 | E24: 1381.745 | F24: 1423.2 | H24: Support Services Level 5 | I24: 1157.2 | J24: =D24-I24 -> 184.3
A25: Classification | B25: Paycode | C25: FFPPOA 20 May 2025 | D25: FFPPOA 20 May 2026 | E25: FFPPOA 20 May 2027 | F25: FFPPOA 20 May 2028 | H25: Award Classification | I25: Award Rate - non aged care Employees (1/7/26) | J25: Rate Above Award
A26: Managers and Administrative Workers (other than Royal Children’s Hospital)
A27: *Grade 1A | B27: PW62 | C27: 1119.8 | D27: 1153.4 | E27: 1188 | F27: 1223.64 | H27: Support Services Level 3 | I27: 1106.2 | J27: =D27-I27 -> 47.2
A28: Grade 1 Year 1 | B28: YC88 | C28: 1253.1 | D28: 1290.7 | E28: 1329.4 | F28: 1369.3 | H28: Support Services Level 5 | I28: 1157.2 | J28: =D28-I28 -> 133.5
A29: Grade 1 Year 2 | B29: AK10 | C29: 1304.5 | D29: 1343.6 | E29: 1383.9 | F29: 1425.4 | H29: Support Services Level 5 | I29: 1157.2 | J29: =D29-I29 -> 186.4
A30: Grade 1 Year 3 | B30: AK11 | C30: 1342.3 | D30: 1382.6 | E30: 1424.1 | F30: 1466.8 | H30: Support Services Level 5 | I30: 1157.2 | J30: =D30-I30 -> 225.4
A31: Grade 1 Year 4 | B31: AK12 | C31: 1382.6 | D31: 1424.1 | E31: 1466.8 | F31: 1510.804 | H31: Support Services Level 5 | I31: 1157.2 | J31: =D31-I31 -> 266.9
A32: Grade 1 Year 5 | B32: AK13 | C32: 1437.9 | D32: 1481 | E32: 1525.4 | F32: 1571.2 | H32: Support Services Level 5 | I32: 1157.2 | J32: =D32-I32 -> 323.8
A33: Grade 2 Year 1 | B33: YC89 | C33: 1431.5 | D33: 1474.5 | E33: 1518.7 | F33: 1564.3 | H33: Support Services Level 8 PP1 | I33: 1283.5 | J33: =D33-I33 -> 191
A34: Grade 2 Year 2 | B34: AK14 | C34: 1488.8 | D34: 1533.5 | E34: 1579.5 | F34: 1626.9 | H34: Support Services Level 8 PP1 | I34: 1283.5 | J34: =D34-I34 -> 250
A35: Grade 2 Year 3 | B35: AK15 | C35: 1533.4 | D35: 1579.402 | E35: 1626.8 | F35: 1675.604 | H35: Support Services Level 8 PP1 | I35: 1283.5 | J35: =D35-I35 -> 295.902
A36: Grade 2 Year 4 | B36: AK16 | C36: 1579.4 | D36: 1626.8 | E36: 1675.604 | F36: 1725.9 | H36: Support Services Level 8 PP1 | I36: 1283.5 | J36: =D36-I36 -> 343.3
A37: Grade 2 Year 5 | B37: AK17 | C37: 1601.53 | D37: 1649.6 | E37: 1699.1 | F37: 1750.1 | H37: Support Services Level 8 PP1 | I37: 1283.5 | J37: =D37-I37 -> 366.1
A38: Grade 3 Year 1 | B38: YC90 | C38: 1596.2 | D38: 1644.1 | E38: 1693.4 | F38: 1744.202 | H38: Support Services Level 8 PP2 | I38: 1317.2 | J38: =D38-I38 -> 326.9
... A44: Grade 4 Year 2 | B44: AK22 | C44: 1870.8 | D44: 1926.9 | E44: 1984.7 | F44: 2044.2 | H44: Support Services Level 9 PP3 | I44: 1497.8 | J44: =D44-I44 -> 429.1
A45: Grade 4 Year 3 | B45: AK23 | C45: 1926.9 | D45: 1984.7 | E45: 2044.2 | F45: 2105.5 | H45: 0 | I45: 0 | J45: =D45-I45 -> 1984.7
A46: Grade 4 Year 4 | B46: AK24 | C46: 1984.7 | D46: 2044.2 | E46: 2105.5 | F46: 2168.7 | H46: 0 | I46: 0 | J46: =D46-I46 -> 2044.2
A47: Grade 4 Year 5 | B47: AK25 | C47: 2012.5 | D47: 2072.9 | E47: 2135.1 | F47: 2199.2 | H47: 0 | I47: 0 | J47: =D47-I47 -> 2072.9
A48: Grade 5 Year 1 | B48: YC92 | C48: 1990.9 | D48: 2050.6 | E48: 2112.1 | F48: 2175.5 | H48: Support Services Level 9 PP2 | I48: 1485.9 | J48: =D48-I48 -> 564.7
A49: Grade 5 Year 2 | B49: AK26 | C49: 2040.7 | D49: 2101.9 | E49: 2165 | F49: 2230 | H49: Support Services Level 9 PP3 | I49: 1497.8 | J49: =D49-I49 -> 604.1
A50: Grade 5 Year 3 | B50: AK27 | C50: 2103.9 | D50: 2167 | E50: 2232 | F50: 2299 | H50: 0 | I50: 0 | J50: =D50-I50 -> 2167
A51: Grade 5 Year 4 | B51: AK28 | C51: 2164.9 | D51: 2229.9 | E51: 2296.797 | F51: 2365.7 | H51: 0 | I51: 0 | J51: =D51-I51 -> 2229.9
A52: Grade 5 Year 5 | B52: AK29 | C52: 2195.2 | D52: 2261.1 | E52: 2328.9 | F52: 2398.8 | H52: 0 | I52: 0 | J52: =D52-I52 -> 2261.1
A53: Grade 6 Year 1 | B53: YC93 | C53: 2188.3 | D53: 2254 | E53: 2321.6 | F53: 2391.3
A54: Grade 6 Year 2 | B54: AK30 | C54: 2219 | D54: 2285.6 | E54: 2354.2 | F54: 2424.8
...

Sheet Allowances -AHP, Mgrs, Support 
A1: Mental Health - Allied Health Professionals (Excluding Lived and Living Experience Workers)
A3: Qualitication Allowance (Health Professionals Only)
B4: FFPPOA 20 May 2025 | C4: FFPPOA 20 May 2026 | D4: FFPPOA 1 July 2026 | E4: FFPPOA 1 October 2026 - 5.67% | F4: FFPPOA 20 May 2027 - 3% | G4: FFPPOA 1 July 2027 - 53% | H4: FFPPOA 20 May 2028 - 3% | I4: FFPPOA 1 July 2028 - 2.65%
A5: AHP1 Classifications
A6: Post Grad Certificate | B6: 59.5 | C6: 61.3 | E6: 64.8 | F6: 66.7 | G6: 102.1 | H6: 105.2 | I6: 108
A7: Post Grad Diploma | B7: 96.8 | C7: 99.7 | E7: 105.4 | F7: 108.6 | G7: 166.2 | H7: 171.2 | I7: 175.7
A8: Masters | B8: 111.6 | C8: 115 | E8: 121.5 | F8: 125.1 | G8: 191.4 | H8: 197.1 | I8: 202.3
A9: PHd | B9: 148.9 | C9: 153.4 | E9: 162.1 | F9: 167 | G9: 255.5 | H9: 263.2 | I9: 270.2
A11: On Call Allowance
B12: FFPPOA 20 May 2025 | C12: FFPPOA 20 May 2026 | D12: FFPPOA 1 July 2026 | E12: FFPPOA 1 October 2026 - 5.67% | F12: FFPPOA 20 May 2027 - 3% | G12: FFPPOA 1 July 2027 - 3% | H12: FFPPOA 20 May 2028 - 3% | I12: FFPPOA 1 July 2028 - 2.65%
A13: Non CATT
A14: On-call Mon-Friday | B14: 39.2 | C14: 40.4 | E14: 42.7 | F14: 44 | G14: 45.3 | H14: 46.7 | I14: 47.9
A15: Public Holiday Mon-Friday | B15: 68.7 | C15: 70.8 | E15: 74.8 | F15: 77 | G15: 79.3 | H15: 81.7 | I15: 83.9
A16: On-call Allowance - Saturday | B16: 68.7 | C16: 70.8 | E16: 74.8 | F16: 77 | G16: 79.3 | H16: 81.7 | I16: 83.9
A17: On-call Allowance - Sunday | B17: 68.7 | C17: 70.8 | E17: 74.8 | F17: 77 | G17: 79.3 | H17: 81.7 | I17: 83.9
A18: On-call Allowance - Weekend Public Holiday | B18: 103 | C18: 106.1 | E18: 112.1 | F18: 115.5 | G18: 119 | H18: 122.6 | I18: 125.8
A19: CATT
A20: On-call Mon-Friday | B20: 174.3 | C20: 182 | E20: 192.3 | F20: 198.1 | G20: 204 | H20: 210.1 | I20: 215.7
A21: On-call Allowance - Saturday | B21: 214.5 | C21: 223.8 | E21: 236.5 | F21: 243.595 | G21: 250.90285 | H21: 258.4 | I21: 265.2
A22: On-call Allowance - Sunday and Weekday Public Holiday | B22: 234.5 | C22: 244.8 | E22: 258.7 | F22: 266.5 | G22: 274.495 | H22: 282.7 | I22: 290.2
A23: On-call Allowance - Weekend Public Holiday | B23: 304.8 | C23: 317.9 | E23: 335.9 | F23: 346 | G23: 356.4 | H23: 367.1 | I23: 376.8
A25: Sole Allowance
B26: FFPPOA 20 May 2025 | C26: FFPPOA 20 May 2026 | D26: FFPPOA 1 July 2026 | E26: FFPPOA 1 October 2026 - 5.67% | F26: FFPPOA 20 May 2027 - 3% | G26: FFPPOA 1 July 2027 - 3% | H26: FFPPOA 20 May 2028 - 3% | I26: FFPPOA 1 July 2028 - 2.65%
A27: Sole Allowance | B27: 66.6 | C27: 68.6 | E27: 72.5 | F27: 74.7 | G27: 76.9 | H27: 79.2 | I27: 81.2988
A29: Change of Ward Allowance
B30: FFPPOA 20 May 2025 | C30: FFPPOA 20 May 2026 | D30: FFPPOA 1 July 2026 | E30: FFPPOA 1 October 2026 - 5.67% | F30: FFPPOA 20 May 2027 - 3% | G30: FFPPOA 1 July 2027 - 3% | H30: FFPPOA 20 May 2028 - 3% | I30: FFPPOA 1 July 2028 - 2.65%
A31: Change of Ward Allowance | B31: 39.3 | C31: 40.5 | E31: 42.8 | F31: 44.1 | G31: 45.4 | H31: 46.8 | I31: 48
A33: Shift Allowance
B34: FFPPOA 20 May 2025 | C34: FFPPOA 20 May 2026 | D34: FFPPOA 1 July 2026 | E34: FFPPOA 1 October 2026 - 5.67% | F34: FFPPOA 20 May 2027 - 3% | G34: FFPPOA 1 July 2027 - 3% | H34: FFPPOA 20 May 2028 - 3% | I34: FFPPOA 1 July 2028 - 2.65%
A35: AHP1 Classification
A36: Morning Shift | B36: 33.4 | C36: 34.4 | E36: 36.4 | F36: 37.5 | G36: 38.6 | H36: 39.8 | I36: 40.9
A37: Afternoon Shift | B37: 33.4 | C37: 34.4 | E37: 36.4 | F37: 37.5 | G37: 38.6 | H37: 39.8 | I37: 40.9
A38: Temporary Night Shift (Mon-Thur) | B38: 75.9 | C38: 78.2 | D38: 88 | E38: 82.6 | F38: 85.1 | G38: 87.7 | H38: 90.3 | I38: 92.7
A39: Temporary Night Shift (Fri-Sat) | B39: 75.9 | C39: 78.2 | D39: 97.8 | E39: 82.6 | F39: 85.1 | G39: 87.7 | H39: 90.3 | I39: 92.7
A40: Temporary Night Shift (Sun) | B40: 75.9 | C40: 78.2 | D40: 99.3 | E40: 82.6 | F40: 85.1 | G40: 87.7 | H40: 90.3 | I40: 92.7
A41: Permanent Night (Mon-Thur) | B41: 89.8 | C41: 92.5 | D41: 104.1 | E41: 97.7 | F41: 100.6 | G41: 103.6 | H41: 106.7 | I41: 109.5
A42: Permanent Night Shift (Fri-Sat) | B42: 89.8 | C42: 92.5 | D42: 115.6 | E42: 97.7 | F42: 100.6 | G42: 103.6 | H42: 106.7 | I42: 109.5
A43: Permanent Night Shift (Sun) | B43: 89.8 | C43: 92.5 | D43: 117.5 | E43: 97.7 | F43: 100.6 | G43: 103.6 | H43: 106.7 | I43: 109.5
A44: Casual Night Shift | B44: 75.9 | C44: 78.2 | E44: 82.6 | F44: 85.1 | G44: 87.7 | H44: 90.3 | I44: 92.7
A46: Change of Shift Allowance
...

Sheet Other Payments
A1: Once off Retention Payment (AHP 1 only)
B2: Amount Payable
A3: Once off Retention Payment of $4200 to be paid in two installments
A4: Ist Instalment payable FFPPOA commencement of Agreement | B4: 2100
A5: 2nd Instalment payable the next pay period after the above date | B5: 2100
A7: Pro rata for part time Employees
A8: Casuals will receive a pro rata payment based on average hours worked over the previous 12 months, to be calcuated when the Agreement commences
A12: Lump Sum Payment (MHOs only)
A13: Once off Retention Payment of $5304 to be paid in two installments
A14: Ist Instalment payable FFPPOA commencement of Agreement | B14: 2652
A15: 2nd Instalment payable the next pay period after the above date | B15: 2652
A17: Pro rata for part time Employees
